{"text_format":"1","workbook":"xlsx","n_sheets":6,"sheets":["Список команд","Квалификация","квалификация (итоги)","Финал","Финал (итоги)","Спонсоры"],"not_rendered":{"charts":0,"images":1,"macros":1,"external_links":0,"defined_names":2,"comments":0,"pivot_tables":0},"unopened":[],"bounds":{"document_bytes":16777216,"sheet_cells":100000,"rows_first":2000,"rows_last":500,"rows_between":2000,"halvings":0,"cell_chars":16384,"cell_head_chars":4096},"cells_cut":0,"cells_raw":0,"read":"whole","date_system":"1900"}

{"sheet":"Список команд","index":0,"n_rows":399,"n_cols":4,"rows_kept":399,"cut":false,"hidden":false,"merged":[[230,0,231,1],[230,2,230,6],[231,2,231,6],[233,3,233,6],[234,0,235,1],[234,2,234,6],[235,2,235,6],[237,3,237,6],[238,0,239,1],[238,2,238,6],[239,2,239,6],[221,3,221,6],[222,0,223,1],[222,2,222,6],[223,2,223,6],[225,3,225,6],[226,0,227,1],[226,2,226,6],[227,2,227,6],[229,3,229,6],[210,0,211,1],[210,2,210,6],[211,2,211,6],[213,3,213,6],[214,0,215,1],[214,2,214,6],[215,2,215,6],[217,3,217,6],[218,0,219,1],[218,2,218,6],[219,2,219,6],[201,3,201,6],[202,0,203,1],[202,2,202,6],[203,2,203,6],[205,3,205,6],[206,0,207,1],[206,2,206,6],[207,2,207,6],[209,3,209,6],[197,3,197,6],[198,0,199,1],[198,2,198,6],[199,2,199,6],[186,0,187,1],[186,2,186,6],[187,2,187,6],[189,3,189,6],[190,0,191,1],[190,2,190,6],[191,2,191,6],[193,3,193,6],[194,0,195,1],[194,2,194,6],[195,2,195,6],[177,3,177,6],[178,0,179,1],[178,2,178,6],[179,2,179,6],[181,3,181,6],[182,0,183,1],[182,2,182,6],[183,2,183,6],[185,3,185,6],[50,0,51,1],[50,2,50,6],[51,2,51,6],[45,3,45,6],[46,0,47,1],[46,2,46,6],[47,2,47,6],[49,3,49,6],[57,3,57,6],[53,3,53,6],[54,0,55,1],[54,2,54,6],[55,2,55,6],[114,2,114,6],[115,2,115,6],[73,3,73,6],[74,0,75,1],[74,2,74,6],[75,2,75,6],[77,3,77,6],[78,0,79,1],[78,2,78,6],[79,2,79,6],[81,3,81,6],[98,0,99,1],[98,2,98,6],[99,2,99,6],[101,3,101,6],[102,0,103,1],[102,2,102,6],[103,2,103,6],[105,3,105,6],[106,0,107,1],[106,2,106,6],[107,2,107,6],[113,3,113,6],[118,0,119,1],[118,2,118,6],[119,2,119,6],[82,0,83,1],[82,2,82,6],[83,2,83,6],[85,3,85,6],[86,0,87,1],[86,2,86,6],[87,2,87,6],[93,3,93,6],[94,0,95,1],[94,2,94,6],[95,2,95,6],[89,3,89,6],[90,0,91,1],[90,2,90,6],[91,2,91,6],[109,3,109,6],[110,0,111,1],[110,2,110,6],[111,2,111,6],[97,3,97,6],[114,0,115,1],[6,0,7,1],[6,2,6,6],[7,2,7,6],[1,3,1,6],[2,2,2,6],[3,2,3,6],[2,0,3,1],[5,3,5,6],[9,3,9,6],[10,0,11,1],[10,2,10,6],[11,2,11,6],[13,3,13,6],[14,0,15,1],[14,2,14,6],[15,2,15,6],[17,3,17,6],[18,0,19,1],[18,2,18,6],[19,2,19,6],[21,3,21,6],[22,0,23,1],[33,3,33,6],[34,0,35,1],[34,2,34,6],[35,2,35,6],[37,3,37,6],[41,3,41,6],[42,0,43,1],[42,2,42,6],[43,2,43,6],[38,0,39,1],[38,2,38,6],[39,2,39,6],[22,2,22,6],[23,2,23,6],[29,3,29,6],[30,0,31,1],[30,2,30,6],[31,2,31,6],[25,3,25,6],[26,0,27,1],[26,2,26,6],[27,2,27,6],[58,0,59,1],[58,2,58,6],[59,2,59,6],[121,3,121,6],[122,0,123,1],[122,2,122,6],[123,2,123,6],[125,3,125,6],[126,0,127,1],[126,2,126,6],[127,2,127,6],[69,3,69,6],[70,0,71,1],[70,2,70,6],[71,2,71,6],[61,3,61,6],[62,0,63,1],[62,2,62,6],[63,2,63,6],[65,3,65,6],[66,0,67,1],[66,2,66,6],[67,2,67,6],[117,3,117,6],[129,3,129,6],[130,0,131,1],[130,2,130,6],[131,2,131,6],[133,3,133,6],[134,0,135,1],[134,2,134,6],[135,2,135,6],[137,3,137,6],[138,0,139,1],[138,2,138,6],[139,2,139,6],[141,3,141,6],[142,0,143,1],[142,2,142,6],[143,2,143,6],[145,3,145,6],[146,0,147,1],[146,2,146,6],[147,2,147,6],[149,3,149,6],[150,0,151,1],[150,2,150,6],[151,2,151,6],[153,3,153,6],[154,0,155,1],[154,2,154,6],[155,2,155,6],[157,3,157,6],[158,0,159,1],[158,2,158,6],[159,2,159,6],[170,0,171,1],[170,2,170,6],[171,2,171,6],[173,3,173,6],[174,0,175,1],[174,2,174,6],[175,2,175,6],[161,3,161,6],[162,0,163,1],[162,2,162,6],[163,2,163,6],[165,3,165,6],[166,0,167,1],[166,2,166,6],[167,2,167,6],[169,3,169,6],[241,3,241,6],[242,0,243,1],[242,2,242,6],[243,2,243,6],[245,3,245,6],[246,0,247,1],[246,2,246,6],[247,2,247,6],[249,3,249,6],[250,0,251,1],[250,2,250,6],[251,2,251,6],[253,3,253,6],[254,0,255,1],[254,2,254,6],[255,2,255,6],[257,3,257,6],[258,0,259,1],[258,2,258,6],[259,2,259,6],[261,3,261,6],[262,0,263,1],[262,2,262,6],[263,2,263,6],[265,3,265,6],[266,0,267,1],[266,2,266,6],[267,2,267,6],[269,3,269,6],[270,0,271,1],[270,2,270,6],[271,2,271,6],[273,3,273,6],[274,0,275,1],[274,2,274,6],[275,2,275,6],[277,3,277,6],[278,0,279,1],[278,2,278,6],[279,2,279,6],[281,3,281,6],[282,0,283,1],[282,2,282,6],[283,2,283,6],[285,3,285,6],[286,0,287,1],[286,2,286,6],[287,2,287,6],[289,3,289,6],[290,0,291,1],[290,2,290,6],[291,2,291,6],[293,3,293,6],[294,0,295,1],[294,2,294,6],[295,2,295,6],[297,3,297,6],[298,0,299,1],[298,2,298,6],[299,2,299,6],[301,3,301,6],[302,0,303,1],[302,2,302,6],[303,2,303,6],[305,3,305,6],[306,0,307,1],[306,2,306,6],[307,2,307,6],[309,3,309,6],[310,0,311,1],[310,2,310,6],[311,2,311,6],[313,3,313,6],[314,0,315,1],[314,2,314,6],[315,2,315,6],[317,3,317,6],[318,0,319,1],[318,2,318,6],[319,2,319,6],[321,3,321,6],[322,0,323,1],[322,2,322,6],[323,2,323,6],[325,3,325,6],[326,0,327,1],[326,2,326,6],[327,2,327,6],[329,3,329,6],[330,0,331,1],[330,2,330,6],[331,2,331,6],[333,3,333,6],[334,0,335,1],[334,2,334,6],[335,2,335,6],[337,3,337,6],[338,0,339,1],[338,2,338,6],[339,2,339,6],[341,3,341,6],[342,0,343,1],[342,2,342,6],[343,2,343,6],[345,3,345,6],[346,0,347,1],[346,2,346,6],[347,2,347,6],[349,3,349,6],[350,0,351,1],[350,2,350,6],[351,2,351,6],[353,3,353,6],[354,0,355,1],[354,2,354,6],[355,2,355,6],[357,3,357,6],[358,0,359,1],[358,2,358,6],[359,2,359,6],[361,3,361,6],[362,0,363,1],[362,2,362,6],[363,2,363,6],[365,3,365,6],[366,0,367,1],[366,2,366,6],[367,2,367,6],[369,3,369,6],[370,0,371,1],[370,2,370,6],[371,2,371,6],[373,3,373,6],[374,0,375,1],[374,2,374,6],[375,2,375,6],[377,3,377,6],[378,0,379,1],[378,2,378,6],[379,2,379,6],[381,3,381,6],[382,0,383,1],[382,2,382,6],[383,2,383,6],[385,3,385,6],[386,0,387,1],[386,2,386,6],[387,2,387,6],[389,3,389,6],[390,0,391,1],[390,2,390,6],[391,2,391,6],[393,3,393,6],[394,0,395,1],[394,2,394,6],[395,2,395,6],[397,3,397,6],[398,0,399,1],[398,2,398,6],[399,2,399,6]]}
[]
["№",1,"команда","Ураганы"]
["состав",null,"Мурин Е. Г. ; 10/5/1983; а-кмс/c-бр; ЛЭТИ; Спб"]
[null,null,"Венидиктов Д.В. ; 7/4/1989; а-1/c-бр; Питер; Спб"]
[]
["№",2,"команда","Энергия"]
["состав",null,"Гладков Алексей Павлович; 8/20/1988; а-3/с-бр; СКА Зеленоград; Мытищи"]
[null,null,"Храмцова Мария Сергеевна; 6/11/1987; а-3/с-1; СКА Зеленоград; Екатеринбург"]
[]
["№",3,"команда","цр псо"]
["состав",null,"Аксенов Адрей Валерьевич; 9/15/1988; а-2/с-бр; ; Москва"]
[null,null,"Кокинов Вадим Петрович; 8/10/1984; а-3/с-бр; ; Москва"]
[]
["№",4,"команда","Сибирский юмор"]
["состав",null,"Борисихин Алексей; 3/30/1986; а-2/с-бр; АК МАИ; Москва"]
[null,null,"Марковских Павел; 4/14/1985; а-3/с-бр; АК МАИ; Москва"]
[]
["№",5,"команда","Korolev Climbing School"]
["состав",null,"Осокин Сергей; 2/9/1987; а-1/с-бр; Korolev Climbing School; Королёв"]
[null,null,"Жучихин Алексей; 2/23/1989; а-бр/с-1; Korolev Climbing School; Королёв"]
[]
["№",6,"команда","JustForFun"]
["состав",null,"Скороходов Никита Сергеевич; 10/1/1985; а-1/с-бр; ; Липецк"]
[null,null,"Гладышев Антон Александрович; 10/28/1985; а-2/с-1; ; Липецк"]
[]
["№",7,"команда","ГК МГСУ"]
["состав",null,"Жердев Кирилл Валерьевич; 7/7/1993; а-3/c-бр; МГСУ; Оренбург"]
[null,null,"Егоров Евгений Ростиславович; 1/14/1993; а-бр/с-бр; МГСУ; Зеленодольск"]
[]
["№",8,"команда","M&M's"]
["состав",null,"Глотов Антон Николаевич; 6/3/1990; а-3/с-бр; Ирбис; Липецк"]
[null,null,"Кирьянов Алексей Юрьевич; 3/3/1995; а-3/с-бр; Ирбис; Липецк"]
[]
["№",9,"команда","Экс-МГСУ"]
["состав",null,"Тимохов Павел Геннадьевич; 8/4/1986; а-2/с-бр; ; Москва"]
[null,null,"Лаптев Дмитрий Павлович; 8/2/1987; а-3/с-бр; ; Москва"]
[]
["№",10,"команда","ГК МГСУ"]
["состав",null,"Лаптев Дмитрий Павлович; 8/2/1986; а-2/с-бр; МГСУ; Москва"]
[null,null,"Тимохов Павел Геннадиевич; 8/4/1986; а-2/с-бр; МГСУ; Москва"]
[]
["№",11,"команда","Королев"]
["состав",null,"Волков Петр Александрович; 7/10/1987; а-бр/с-1; Korolev Climbing Team; "]
[null,null,"Волков Павел Александрович; 7/10/1987; а-бр/с-2; Korolev Climbing Team; "]
[]
["№",12,"команда","Хухтилампи"]
["состав",null,"Воликов Александр Борисович; 2/19/1989; а-2/с-бр; АК МГУ; Подольск"]
[null,null,"Архиповский Илья Алексеевич; 3/4/1990; а-2/с-бр; АК МГУ; Москва"]
[]
["№",13,"команда","Странник"]
["состав",null,"Пудовкин Алексей Вячеславович; 7/24/1985; а-3/с-бр; ;  "]
[null,null,"Ястребов Денис Сергеевич; 1/28/1983; а-3/с-бр; ;  "]
[]
["№",14,"команда","АК МАИ"]
["состав",null,"Горбунов Андрей Иванович; 8/17/1983; а-1/с-бр; АК МАИ; Москва"]
[null,null,"Кравец; 11/4/1986; а-1/с-бр; АК МАИ; Москва"]
[]
["№",15,"команда","вега"]
["состав",null,"Борисенко Евгений Викторович; 9/24/1980; а-3/с-бр; ВФА; Воронеж"]
[null,null,"Арнаутов Даниил; 3/26/1989; а-3/с-бр; ВФА; Воронеж"]
[]
["№",16,"команда","МЭИ"]
["состав",null,"Жарков А.А.; 10/22/1981; а-1/с-бр; МЭИ; Москва"]
[null,null,"Жаркова В.В.; 9/6/1982; а-1/с-бр; МЭИ; Бутово"]
[]
["№",17,"команда","ЙЫЛДЫЗ"]
["состав",null,"Шепелев Дмитрий Алексеевич; 5/31/2018; а-3/с-бр; МАИ; Москва"]
[null,null,"Синегуб Ольга Игоревна; 3/10/1989; а-2/с-2; МАИ; Москва"]
[]
["№",18,"команда","Питер1"]
["состав",null,"Зыбалов Антон Сергеевич; 5/8/1988; а-кмс/с-2; Горняк; Санкт-Петербург"]
[null,null,"Пеняев Илья Николаевич; 6/17/1990; а-2/с-бр; Горняк; Санкт-Петербург"]
[]
["№",19,"команда","Позитрон/АК МАИ"]
["состав",null,"Орлов В.С.; 7/5/1981; а-3/с-бр; АК МАИ; Дедовск"]
[null,null,"Снинцкий Б.; 2/21/1987; а-2/с-бр; АК МАИ; Москва"]
[]
["№",20,"команда","Стасон и я"]
["состав",null,"Поплавский Станислав; 4/4/1982; а-бр/с-мс;  ;Москва"]
[null,null,"Дульнев Егор; 7/15/1972; а-бр/с-бр;  ;Москва"]
[]
["№",21,"команда","Shlang-Team-1"]
["состав",null,"Задворный Андрей Владимирович; 12/19/1983; а-2/с-бр; КАиС МЭИ; Реутов"]
[null,null,"Орликов Матвей Александрович; 2/22/1988; а-2/с-бр; КАиС МЭИ; Москва"]
[]
["№",22,"команда","Штурм"]
["состав",null,"Якупова Талия Ильдароовна; 6/1/1991; а-бр/с-2; ;  "]
[null,null,"Идрисова Динара Султанбейговна; 12/26/1988; а-бр/с-бр; ;  "]
[]
["№",23,"команда","Воронеж"]
["состав",null,"Рогатнев Дмитрий Сергеевич; 3/27/1985; а-2/с-2; ВРОО \"СФА\" ; Воронеж"]
[null,null,"Курачёва Екатерина Сергеевна; 10/24/1983; а-2/с-2; ВРОО \"СФА\"; Воронеж"]
[]
["№",24,"команда","Мэи"]
["состав",null,"Дорфман Роман; 1/1/2012; а-2/с-бр; Мэи; Москва"]
[null,null,"Романов Алексей; 1/1/1910; а-1/с-бр; Мэи; Москва"]
[]
["№",25,"команда"," МЭИ-1"]
["состав",null,"Леонкин  Сергей Сергеевич; 10/26/1985; а-1/с-бр; КАиС МЭИ; Москва"]
[null,null,"Якобчук Денис Леонидович; 10/10/2013; а-1/с-бр; КАиС МЭИ; Москва"]
[]
["№",26,"команда","а/к МГУ"]
["состав",null,"Иванов Александр Сергеевич; 11/9/1972; а-мс/с-бр; а/к МГУ; Москва"]
[null,null,"Люлюкин Иван Сергеевич; 12/2/1983; а-кмс/с-бр; а/к МГУ; Москва"]
[]
["№",27,"команда","МГУ-СПЕЛЕО"]
["состав",null,"Сизикова; 3/18/1981; а-3/с-3; МГУ-спелео; Москва"]
[null,null,"Севастьянов; 8/17/1988; а-3/с-3; МГУ-спелео; Москва"]
[]
["№",28,"команда","Воронеж-6"]
["состав",null,"Хондо Светлана Анатольевна; 10/6/1979; а-2/с-3;  ;Воронеж"]
[null,null,"Ревякина Инна Юрьевна; 9/18/1984; а-2/с-2;  ;Воронеж"]
[]
["№",29,"команда","КАиС МЭИ"]
["состав",null,"Игумнов Александр; 5/25/1984; а-1/с-бр; КАиС МЭИ; Москва"]
[null,null,"Александров Илья; 3/10/1963; а-2/с-бр; КАиС МЭИ; Москва"]
[]
["№",30,"команда","Академия Приключений"]
["состав",null,"Тищенко Владимир; 3/7/1980; а-3/с-бр; МЭИ; Москва"]
[null,null,"Жерноклеев Андрей"]
[]
["№",31,"команда","МакГУ"]
["состав",null,"Мулюкин павел Александрович; 7/23/1983; а-2/с-бр; ак МГУ; Москва"]
[null,null,"Жегусов Ярослав Олегович; 3/25/1986; а-2/с-бр; ак МГУ; Москва"]
[]
["№",32,"команда","Black Ice"]
["состав",null,"Микулин Артём"]
[null,null,"Калинин Артем; 11/11/1997; а-бр/с-бр; Black Ice; Москва"]
[]
["№",33,"команда","Енотовидные коты"]
["состав",null,"Зуев Антон Анатольевич; 6/16/1986; а-1/с-бр;  ;Воронеж"]
[null,null,"Сурженко Олеся Вячеславовна; 2/26/1985; а-2/с-бр; МАИ; Мытищи"]
[]
["№",34,"команда","verticalwork"]
["состав",null,"Егоров Борис Олегович; 2/9/1989; а-бр/с-кмс; вертикаль; москва"]
[null,null,"Мурзаев Владимир Александрович;  1/10/1987; а-бр/с-бр;  ;москва"]
[]
["№",35,"команда","Демо ошибка"]
["состав",null,"Корнилов А.М.; 1/21/1985; а-1/с-бр; Демченко; Москва"]
[null,null,"Дунина Н.Л.; 2/22/1986; а-бр/с-бр; МГУ; Москва"]
[]
["№",36,"команда","КАиС МЭИ"]
["состав",null,"Мельников И. А.; 4/23/1989; а-2/с-бр; КАиС МЭИ; Москва"]
[null,null,"Яроцкая Н. Б.; 8/9/1980; а-2/с-бр; КАиС МЭИ; Москва"]
[]
["№",37,"команда","БаранМартын"]
["состав",null,"Овечкин Тарас Викторович; 1/14/1984; а-2/с-бр; Демченко; Москва"]
[null,null,"Мартынова Полина Леонидовна; 1/4/1988; а-3/с-бр; Демченко; Москва"]
[]
["№",38,"команда","МГУ-спелео"]
["состав",null,"Севастьянов Алексей; 8/16/1988; а-бр/с-бр; ;  "]
[null,null,"Панасенко Наталья; 3/18/1981; а-бр/с-бр; ;   "]
[]
["№",39,"команда","Patagonia"]
["состав",null,"Рубцова Евгения Вадимовна; 5/7/1985; а-бр/с-бр; Зеленоградский альпклуб; Москва"]
[null,null,"Штельмаченко Владимир Генадьевич; 12/7/1968; а-бр/с-бр; Зеленоградский альпклуб; Москва"]
[]
["№",40,"команда","МГСУ-3"]
["состав",null,"Простакишин Дмитрий Александрович; 8/9/1993; а-бр/с-бр; МГСУ; Москва"]
[null,null,"Мясоедов Игорь Алексеевич; 6/7/1994; а-бр/с-бр; МГСУ; Москва"]
[]
["№",41,"команда","промальпсоюз"]
["состав",null,"ан константин радиевич; 12/29/2013; а-кмс/с-1;  ;воронеж"]
[null,null,"максин александр александрович; 9/15/1987; а-кмс/с-2;  ;воронеж"]
[]
["№",42,"команда","БЕДА"]
["состав",null,"Куликова Ольга Яковлевна; 10/9/1987; а-2/с-бр; МГУ; Москва"]
[null,null,"Дудкина Алёна Владимировна; 7/5/1993; а-3/с-бр; МАИ; Москва"]
[]
["№",43,"команда","Руки-Крюки"]
["состав",null,"Торшин Михаил Викторович; 1/20/1987; а-2/c-1; ВРОО СФА; Воронеж"]
[null,null,"Барабанов Тимур Михайлович; 3/10/1986; а-кмс/с-1; ВРОО СФА; Воронеж"]
[]
["№",44,"команда","ЗМЭИ"]
["состав",null,"Каячев А.И.; 1/29/1955; а-1/с-2; Альпклуб МЭИ; Москва"]
[null,null,"Пронин С.А.; 12/8/1982; а-3/с-2; Альпклуб МЭИ; Москва"]
[]
["№",45,"команда","а/к МГТУ"]
["состав",null,"Лавров Александр Геннадьевич; 9/22/1987; а-2/с-бр; а/к МГТУ; Москва"]
[null,null,"Щетинкина Светлана Сергеевна; 10/23/1989; а-2/с-бр; а/к МГТУ; Москва"]
[]
["№",46,"команда","Абрис"]
["состав",null,"Фёдоров Владислав Владимирович; 12/25/1977; а-кмс/с-1; Абрис; Иваново"]
[null,null,"Гуржов Сергей Викторович; 7/22/1971; а-кмс/с-бр; Абрис; Ковров"]
[]
["№",47,"команда","Безпятиполпятого"]
["состав",null,"Замараев Дмитрий; 5/11/1988; а-бр/с-бр;  ;Москва"]
[null,null,"Маслов Владимир; 11/18/1985; а-бр/с-бр;  ;Москва"]
[]
["№",48,"команда","Юрцы"]
["состав",null,"Бояров Юрий; 12/19/1978; а-бр/с-кмс; КС ДДС; Москва"]
[null,null,"Яковлев Юрий; 10/8/1986; а-бр/с-бр;  ;Москва"]
[]
["№",49,"команда","only armor steel :)"]
["состав",null,"Кочетков Андрей; 9/5/1985; а-бр/с-бр;  ;Москва"]
[null,null,"Шарифуллин Руслан; 12/8/1979; а-1/с-бр;  Зеленоградский альпклуб; Зеленоград"]
[]
["№",50,"команда","Титановый Штырь"]
["состав",null,"Ташоян Арсений; 9/9/1980; а-2/с-бр; ЦСКА им.Демченко; Москва"]
[null,null,"Ившин Алексей; 1/31/1977; а-2/с-1; ЦСКА им.Демченко; Королев"]
[]
["№",51,"команда","Base&Climb"]
["состав",null,"Лебедев Андрей; 1/1/2001; а-бр/с-бр; АдреналинБейс; Москва"]
[null,null,"Яна Ковалева; 12/3/2001; а-бр/с-кмс; ClimbClub; Краснодар"]
[]
["№",52,"команда","Вася&Co"]
["состав",null,"Павлов Вася; 6/5/1989; а-2/с-2; МГТУ Баумана; Москва"]
[null,null,"Рудкевич; 11/1/1978; а-1/с-2; МГТУ Баумана; Москва"]
[]
["№",53,"команда","МОЛЬ"]
["состав",null,"Воропаева Ольга Васильевна; 5/9/1981; а-1/с-1; ВРОО\"СФА\"; Воронеж"]
[null,null,"Завалишин Максим Алексеевич; 1/3/1983; а-1/с-3; ВРОО\"СФА\"; Воронеж"]
[]
["№",54,"команда","Босоногие"]
["состав",null,"Ермолаева Елена Ивановна; 6/19/1964; а-2/с-кмс; АК МГУ; Москва"]
[null,null,"Поляков Илья Андреевич; 6/30/1984; а-3/с-бр; АК МГУ; Москва"]
[]
["№",55,"команда","Без обид ;-)"]
["состав",null,"Хорощенко Игорь Андреевич; 5/21/1979; а-2/с-кмс; ВРОО ФСА; Воронеж"]
[null,null,"Торшин Александр Викторович; 1/8/1989; а-бр/с-бр; ВРОО ФСА; Воронеж"]
[]
["№",56,"команда","Неловкое движение"]
["состав",null,"Труханов Павел; 4/15/1992; а-2/с-бр; ;"]
[null,null,"Корочков Алексей"]
[]
["№",57,"команда","По пути"]
["состав",null,"Лапотников Виталий Михайлович; 12/6/1981; а-бр/с-бр; ТК Вестра; Москва"]
[null,null,"Вернер Владимир Андреевич; 3/7/1991; а-бр/с-бр; ТК Вестра; Москва"]
[]
["№",58,"команда","Гахария - сонная тетеря"]
["состав",null,"Гахария Анна"]
[null,null,"Вовк Сергей"]
[]
["№",59,"команда",24]
["состав"]
[]
[]
["№",60,"команда",25]
["состав"]
[]
[]
["№",61,"команда",26]
["состав"]
[]
[]
["№",62,"команда",27]
["состав"]
[]
[]
["№",63,"команда",28]
["состав"]
[]
[]
["№",64,"команда",29]
["состав"]
[]
[]
["№",65,"команда",30]
["состав"]
[]
[]
["№",66,"команда",31]
["состав"]
[]
[]
["№",67,"команда",32]
["состав"]
[]
[]
["№",68,"команда",33]
["состав"]
[]
[]
["№",69,"команда",34]
["состав"]
[]
[]
["№",70,"команда",35]
["состав"]
[]
[]
["№",71,"команда",36]
["состав"]
[]
[]
["№",72,"команда",37]
["состав"]
[]
[]
["№",73,"команда",38]
["состав"]
[]
[]
["№",74,"команда",39]
["состав"]
[]
[]
["№",75,"команда",40]
["состав"]
[]
[]
["№",76,"команда",41]
["состав"]
[]
[]
["№",77,"команда",42]
["состав"]
[]
[]
["№",78,"команда",43]
["состав"]
[]
[]
["№",79,"команда",44]
["состав"]
[]
[]
["№",80,"команда",45]
["состав"]
[]
[]
["№",81,"команда",46]
["состав"]
[]
[]
["№",82,"команда",47]
["состав"]
[]
[]
["№",83,"команда",48]
["состав"]
[]
[]
["№",84,"команда",49]
["состав"]
[]
[]
["№",85,"команда",50]
["состав"]
[]
[]
["№",86,"команда",51]
["состав"]
[]
[]
["№",87,"команда",52]
["состав"]
[]
[]
["№",88,"команда",53]
["состав"]
[]
[]
["№",89,"команда",54]
["состав"]
[]
[]
["№",90,"команда",55]
["состав"]
[]
[]
["№",91,"команда",56]
["состав"]
[]
[]
["№",92,"команда",57]
["состав"]
[]
[]
["№",93,"команда",58]
["состав"]
[]
[]
["№",94,"команда",59]
["состав"]
[]
[]
["№",95,"команда",60]
["состав"]
[]
[]
["№",96,"команда",61]
["состав"]
[]
[]
["№",97,"команда",62]
["состав"]
[]
[]
["№",98,"команда",63]
["состав"]
[]
[]
["№",99,"команда",64]
["состав"]
[]
[]
["№",100,"команда",65]
["состав"]

{"sheet":"Квалификация","index":1,"n_rows":700,"n_cols":26,"rows_kept":700,"cut":false,"hidden":false,"merged":[[405,1,405,7],[405,8,405,9],[405,10,405,20],[407,3,407,20],[412,1,412,7],[412,8,412,9],[412,10,412,20],[414,3,414,20],[419,1,419,7],[419,8,419,9],[419,10,419,20],[386,3,386,20],[391,1,391,7],[391,8,391,9],[391,10,391,20],[393,3,393,20],[398,1,398,7],[398,8,398,9],[398,10,398,20],[400,3,400,20],[370,1,370,7],[370,8,370,9],[370,10,370,20],[372,3,372,20],[377,1,377,7],[377,8,377,9],[377,10,377,20],[379,3,379,20],[384,1,384,7],[384,8,384,9],[384,10,384,20],[351,3,351,20],[356,1,356,7],[356,8,356,9],[356,10,356,20],[358,3,358,20],[363,1,363,7],[363,8,363,9],[363,10,363,20],[365,3,365,20],[337,3,337,20],[342,1,342,7],[342,8,342,9],[342,10,342,20],[344,3,344,20],[349,1,349,7],[349,8,349,9],[349,10,349,20],[321,1,321,7],[321,8,321,9],[321,10,321,20],[323,3,323,20],[328,1,328,7],[328,8,328,9],[328,10,328,20],[330,3,330,20],[335,1,335,7],[335,8,335,9],[335,10,335,20],[302,3,302,20],[307,1,307,7],[307,8,307,9],[307,10,307,20],[309,3,309,20],[314,1,314,7],[314,8,314,9],[314,10,314,20],[316,3,316,20],[286,1,286,7],[286,8,286,9],[286,10,286,20],[288,3,288,20],[293,1,293,7],[293,8,293,9],[293,10,293,20],[295,3,295,20],[300,1,300,7],[300,8,300,9],[300,10,300,20],[267,3,267,20],[272,1,272,7],[272,8,272,9],[272,10,272,20],[274,3,274,20],[279,1,279,7],[279,8,279,9],[279,10,279,20],[281,3,281,20],[251,1,251,7],[251,8,251,9],[251,10,251,20],[253,3,253,20],[258,1,258,7],[258,8,258,9],[258,10,258,20],[260,3,260,20],[265,1,265,7],[265,8,265,9],[265,10,265,20],[232,3,232,20],[237,1,237,7],[237,8,237,9],[237,10,237,20],[239,3,239,20],[244,1,244,7],[244,8,244,9],[244,10,244,20],[246,3,246,20],[160,1,160,7],[160,8,160,9],[160,10,160,20],[162,3,162,20],[167,1,167,7],[167,8,167,9],[167,10,167,20],[169,3,169,20],[174,1,174,7],[174,8,174,9],[174,10,174,20],[141,3,141,20],[146,1,146,7],[146,8,146,9],[146,10,146,20],[148,3,148,20],[153,1,153,7],[153,8,153,9],[153,10,153,20],[155,3,155,20],[125,1,125,7],[125,8,125,9],[125,10,125,20],[127,3,127,20],[132,1,132,7],[132,8,132,9],[132,10,132,20],[134,3,134,20],[139,1,139,7],[139,8,139,9],[139,10,139,20],[106,3,106,20],[111,1,111,7],[111,8,111,9],[111,10,111,20],[113,3,113,20],[118,1,118,7],[118,8,118,9],[118,10,118,20],[120,3,120,20],[90,1,90,7],[90,8,90,9],[90,10,90,20],[92,3,92,20],[97,1,97,7],[97,8,97,9],[97,10,97,20],[99,3,99,20],[104,1,104,7],[104,8,104,9],[104,10,104,20],[71,3,71,20],[76,1,76,7],[76,8,76,9],[76,10,76,20],[78,3,78,20],[83,1,83,7],[83,8,83,9],[83,10,83,20],[85,3,85,20],[36,3,36,20],[20,10,20,20],[27,1,27,7],[27,8,27,9],[20,1,20,7],[69,10,69,20],[41,10,41,20],[43,3,43,20],[48,10,48,20],[50,3,50,20],[55,10,55,20],[48,1,48,7],[48,8,48,9],[55,1,55,7],[55,8,55,9],[69,1,69,7],[69,8,69,9],[62,1,62,7],[57,3,57,20],[62,10,62,20],[64,3,64,20],[176,3,176,20],[181,1,181,7],[181,8,181,9],[181,10,181,20],[183,3,183,20],[1,3,1,20],[6,10,6,20],[8,3,8,20],[13,10,13,20],[15,3,15,20],[6,1,6,7],[6,8,6,9],[13,1,13,7],[13,8,13,9],[62,8,62,9],[41,1,41,7],[41,8,41,9],[20,8,20,9],[22,3,22,20],[27,10,27,20],[34,1,34,7],[34,8,34,9],[29,3,29,20],[34,10,34,20],[197,3,197,20],[202,1,202,7],[202,8,202,9],[202,10,202,20],[204,3,204,20],[188,1,188,7],[188,8,188,9],[188,10,188,20],[190,3,190,20],[195,1,195,7],[195,8,195,9],[195,10,195,20],[230,1,230,7],[230,8,230,9],[230,10,230,20],[218,3,218,20],[223,1,223,7],[223,8,223,9],[223,10,223,20],[225,3,225,20],[209,1,209,7],[209,8,209,9],[209,10,209,20],[211,3,211,20],[216,1,216,7],[216,8,216,9],[216,10,216,20],[421,3,421,20],[426,1,426,7],[426,8,426,9],[426,10,426,20],[428,3,428,20],[433,1,433,7],[433,8,433,9],[433,10,433,20],[435,3,435,20],[440,1,440,7],[440,8,440,9],[440,10,440,20],[442,3,442,20],[447,1,447,7],[447,8,447,9],[447,10,447,20],[449,3,449,20],[454,1,454,7],[454,8,454,9],[454,10,454,20],[456,3,456,20],[461,1,461,7],[461,8,461,9],[461,10,461,20],[463,3,463,20],[468,1,468,7],[468,8,468,9],[468,10,468,20],[470,3,470,20],[475,1,475,7],[475,8,475,9],[475,10,475,20],[477,3,477,20],[482,1,482,7],[482,8,482,9],[482,10,482,20],[484,3,484,20],[489,1,489,7],[489,8,489,9],[489,10,489,20],[491,3,491,20],[496,1,496,7],[496,8,496,9],[496,10,496,20],[498,3,498,20],[503,1,503,7],[503,8,503,9],[503,10,503,20],[505,3,505,20],[510,1,510,7],[510,8,510,9],[510,10,510,20],[512,3,512,20],[517,1,517,7],[517,8,517,9],[517,10,517,20],[519,3,519,20],[524,1,524,7],[524,8,524,9],[524,10,524,20],[526,3,526,20],[531,1,531,7],[531,8,531,9],[531,10,531,20],[533,3,533,20],[538,1,538,7],[538,8,538,9],[538,10,538,20],[540,3,540,20],[545,1,545,7],[545,8,545,9],[545,10,545,20],[547,3,547,20],[552,1,552,7],[552,8,552,9],[552,10,552,20],[554,3,554,20],[559,1,559,7],[559,8,559,9],[559,10,559,20],[561,3,561,20],[566,1,566,7],[566,8,566,9],[566,10,566,20],[568,3,568,20],[573,1,573,7],[573,8,573,9],[573,10,573,20],[575,3,575,20],[580,1,580,7],[580,8,580,9],[580,10,580,20],[582,3,582,20],[587,1,587,7],[587,8,587,9],[587,10,587,20],[589,3,589,20],[594,1,594,7],[594,8,594,9],[594,10,594,20],[596,3,596,20],[601,1,601,7],[601,8,601,9],[601,10,601,20],[603,3,603,20],[608,1,608,7],[608,8,608,9],[608,10,608,20],[610,3,610,20],[615,1,615,7],[615,8,615,9],[615,10,615,20],[617,3,617,20],[622,1,622,7],[622,8,622,9],[622,10,622,20],[624,3,624,20],[629,1,629,7],[629,8,629,9],[629,10,629,20],[631,3,631,20],[636,1,636,7],[636,8,636,9],[636,10,636,20],[638,3,638,20],[643,1,643,7],[643,8,643,9],[643,10,643,20],[645,3,645,20],[650,1,650,7],[650,8,650,9],[650,10,650,20],[652,3,652,20],[657,1,657,7],[657,8,657,9],[657,10,657,20],[659,3,659,20],[664,1,664,7],[664,8,664,9],[664,10,664,20],[666,3,666,20],[671,1,671,7],[671,8,671,9],[671,10,671,20],[673,3,673,20],[678,1,678,7],[678,8,678,9],[678,10,678,20],[680,3,680,20],[685,1,685,7],[685,8,685,9],[685,10,685,20],[687,3,687,20],[692,1,692,7],[692,8,692,9],[692,10,692,20],[694,3,694,20],[699,1,699,7],[699,8,699,9],[699,10,699,20]]}
[null,null,null,null,null,null,null,null,null,null,null,null,null,null,null,null,null,null,null,null,null,null,"трасса","первичная стоимость","кол-во прохождений","итоговая стоимость"]
["№",{"$f":"'Список команд'!B2","v":1},"команда",{"$f":"'Список команд'!D2:G2","v":"Ураганы"},null,null,null,null,null,null,null,null,null,null,null,null,null,null,null,null,null,null,1,30,{"$f":"IF(B4=0,0,1)+IF(B11=0,0,1)+IF(B18=0,0,1)+IF(B25=0,0,1)+IF(B32=0,0,1)+IF(B39=0,0,1)+IF(B46=0,0,1)+IF(B53=0,0,1)+IF(B60=0,0,1)+IF(B67=0,0,1)+IF(B74=0,0,1)+IF(B81=0,0,1)+IF(B88=0,0,1)+IF(B95=0,0,1)+IF(B102=0,0,1)+IF(B109=0,0,1)+IF(B116=0,0,1)+IF(B123=0,0,1)+IF(B130=0,0,1)+IF(B137=0,0,1)+IF(B144=0,0,1)+IF(B151=0,0,1)+IF(B158=0,0,1)+IF(B165=0,0,1)+IF(B172=0,0,1)+IF(B179=0,0,1)+IF(B186=0,0,1)+IF(B193=0,0,1)+IF(B200=0,0,1)+IF(B207=0,0,1)+IF(B214=0,0,1)+IF(B221=0,0,1)+IF(B228=0,0,1)+IF(B235=0,0,1)+IF(B242=0,0,1)+IF(B249=0,0,1)+IF(B256=0,0,1)+IF(B263=0,0,1)+IF(B270=0,0,1)+IF(B277=0,0,1)+IF(B284=0,0,1)+IF(B291=0,0,1)+IF(B298=0,0,1)+IF(B305=0,0,1)+IF(B312=0,0,1)+IF(B319=0,0,1)+IF(B326=0,0,1)+IF(B333=0,0,1)+IF(B340=0,0,1)+IF(B347=0,0,1)+IF(B354=0,0,1)+IF(B361=0,0,1)+IF(B368=0,0,1)+IF(B375=0,0,1)+IF(B382=0,0,1)+IF(B389=0,0,1)+IF(B396=0,0,1)+IF(B403=0,0,1)+IF(B410=0,0,1)+IF(B417=0,0,1)+IF(B424=0,0,1)+IF(B431=0,0,1)+IF(B438=0,0,1)+IF(B445=0,0,1)+IF(B452=0,0,1)+IF(B459=0,0,1)+IF(B466=0,0,1)+IF(B473=0,0,1)+IF(B480=0,0,1)+IF(B487=0,0,1)+IF(B494=0,0,1)+IF(B501=0,0,1)+IF(B508=0,0,1)+IF(B515=0,0,1)+IF(B522=0,0,1)+IF(B529=0,0,1)+IF(B536=0,0,1)+IF(B543=0,0,1)+IF(B550=0,0,1)+IF(B557=0,0,1)+IF(B564=0,0,1)+IF(B571=0,0,1)+IF(B578=0,0,1)+IF(B585=0,0,1)+IF(B592=0,0,1)+IF(B599=0,0,1)+IF(B606=0,0,1)+IF(B613=0,0,1)+IF(B620=0,0,1)+IF(B627=0,0,1)+IF(B634=0,0,1)+IF(B641=0,0,1)+IF(B648=0,0,1)+IF(B655=0,0,1)+IF(B662=0,0,1)+IF(B669=0,0,1)+IF(B676=0,0,1)+IF(B683=0,0,1)+IF(B690=0,0,1)+IF(B697=0,0,1)","v":43},{"$f":"IF(Y2=0,0,X2/Y2)","v":0.69767441860465118}]
["трасса",1,2,3,4,5,6,7,8,9,10,11,12,13,14,15,16,17,18,19,20,null,2,30,{"$f":"IF(C4=0,0,1)+IF(C11=0,0,1)+IF(C18=0,0,1)+IF(C25=0,0,1)+IF(C32=0,0,1)+IF(C39=0,0,1)+IF(C46=0,0,1)+IF(C53=0,0,1)+IF(C60=0,0,1)+IF(C67=0,0,1)+IF(C74=0,0,1)+IF(C81=0,0,1)+IF(C88=0,0,1)+IF(C95=0,0,1)+IF(C102=0,0,1)+IF(C109=0,0,1)+IF(C116=0,0,1)+IF(C123=0,0,1)+IF(C130=0,0,1)+IF(C137=0,0,1)+IF(C144=0,0,1)+IF(C151=0,0,1)+IF(C158=0,0,1)+IF(C165=0,0,1)+IF(C172=0,0,1)+IF(C179=0,0,1)+IF(C186=0,0,1)+IF(C193=0,0,1)+IF(C200=0,0,1)+IF(C207=0,0,1)+IF(C214=0,0,1)+IF(C221=0,0,1)+IF(C228=0,0,1)+IF(C235=0,0,1)+IF(C242=0,0,1)+IF(C249=0,0,1)+IF(C256=0,0,1)+IF(C263=0,0,1)+IF(C270=0,0,1)+IF(C277=0,0,1)+IF(C284=0,0,1)+IF(C291=0,0,1)+IF(C298=0,0,1)+IF(C305=0,0,1)+IF(C312=0,0,1)+IF(C319=0,0,1)+IF(C326=0,0,1)+IF(C333=0,0,1)+IF(C340=0,0,1)+IF(C347=0,0,1)+IF(C354=0,0,1)+IF(C361=0,0,1)+IF(C368=0,0,1)+IF(C375=0,0,1)+IF(C382=0,0,1)+IF(C389=0,0,1)+IF(C396=0,0,1)+IF(C403=0,0,1)+IF(C410=0,0,1)+IF(C417=0,0,1)+IF(C424=0,0,1)+IF(C431=0,0,1)+IF(C438=0,0,1)+IF(C445=0,0,1)+IF(C452=0,0,1)+IF(C459=0,0,1)+IF(C466=0,0,1)+IF(C473=0,0,1)+IF(C480=0,0,1)+IF(C487=0,0,1)+IF(C494=0,0,1)+IF(C501=0,0,1)+IF(C508=0,0,1)+IF(C515=0,0,1)+IF(C522=0,0,1)+IF(C529=0,0,1)+IF(C536=0,0,1)+IF(C543=0,0,1)+IF(C550=0,0,1)+IF(C557=0,0,1)+IF(C564=0,0,1)+IF(C571=0,0,1)+IF(C578=0,0,1)+IF(C585=0,0,1)+IF(C592=0,0,1)+IF(C599=0,0,1)+IF(C606=0,0,1)+IF(C613=0,0,1)+IF(C620=0,0,1)+IF(C627=0,0,1)+IF(C634=0,0,1)+IF(C641=0,0,1)+IF(C648=0,0,1)+IF(C655=0,0,1)+IF(C662=0,0,1)+IF(C669=0,0,1)+IF(C676=0,0,1)+IF(C683=0,0,1)+IF(C690=0,0,1)+IF(C697=0,0,1)","v":29},{"$f":"IF(Y3=0,0,X3/Y3)","v":1.0344827586206897}]
["время","00:01:44","00:01:55","00:02:31","00:01:15",null,"00:04:32","00:11:26","00:03:00",null,"00:01:49",null,"00:11:53","00:02:46",null,"00:03:20",null,null,null,null,null,null,3,30,{"$f":"IF(D4=0,0,1)+IF(D11=0,0,1)+IF(D18=0,0,1)+IF(D25=0,0,1)+IF(D32=0,0,1)+IF(D39=0,0,1)+IF(D46=0,0,1)+IF(D53=0,0,1)+IF(D60=0,0,1)+IF(D67=0,0,1)+IF(D74=0,0,1)+IF(D81=0,0,1)+IF(D88=0,0,1)+IF(D95=0,0,1)+IF(D102=0,0,1)+IF(D109=0,0,1)+IF(D116=0,0,1)+IF(D123=0,0,1)+IF(D130=0,0,1)+IF(D137=0,0,1)+IF(D144=0,0,1)+IF(D151=0,0,1)+IF(D158=0,0,1)+IF(D165=0,0,1)+IF(D172=0,0,1)+IF(D179=0,0,1)+IF(D186=0,0,1)+IF(D193=0,0,1)+IF(D200=0,0,1)+IF(D207=0,0,1)+IF(D214=0,0,1)+IF(D221=0,0,1)+IF(D228=0,0,1)+IF(D235=0,0,1)+IF(D242=0,0,1)+IF(D249=0,0,1)+IF(D256=0,0,1)+IF(D263=0,0,1)+IF(D270=0,0,1)+IF(D277=0,0,1)+IF(D284=0,0,1)+IF(D291=0,0,1)+IF(D298=0,0,1)+IF(D305=0,0,1)+IF(D312=0,0,1)+IF(D319=0,0,1)+IF(D326=0,0,1)+IF(D333=0,0,1)+IF(D340=0,0,1)+IF(D347=0,0,1)+IF(D354=0,0,1)+IF(D361=0,0,1)+IF(D368=0,0,1)+IF(D375=0,0,1)+IF(D382=0,0,1)+IF(D389=0,0,1)+IF(D396=0,0,1)+IF(D403=0,0,1)+IF(D410=0,0,1)+IF(D417=0,0,1)+IF(D424=0,0,1)+IF(D431=0,0,1)+IF(D438=0,0,1)+IF(D445=0,0,1)+IF(D452=0,0,1)+IF(D459=0,0,1)+IF(D466=0,0,1)+IF(D473=0,0,1)+IF(D480=0,0,1)+IF(D487=0,0,1)+IF(D494=0,0,1)+IF(D501=0,0,1)+IF(D508=0,0,1)+IF(D515=0,0,1)+IF(D522=0,0,1)+IF(D529=0,0,1)+IF(D536=0,0,1)+IF(D543=0,0,1)+IF(D550=0,0,1)+IF(D557=0,0,1)+IF(D564=0,0,1)+IF(D571=0,0,1)+IF(D578=0,0,1)+IF(D585=0,0,1)+IF(D592=0,0,1)+IF(D599=0,0,1)+IF(D606=0,0,1)+IF(D613=0,0,1)+IF(D620=0,0,1)+IF(D627=0,0,1)+IF(D634=0,0,1)+IF(D641=0,0,1)+IF(D648=0,0,1)+IF(D655=0,0,1)+IF(D662=0,0,1)+IF(D669=0,0,1)+IF(D676=0,0,1)+IF(D683=0,0,1)+IF(D690=0,0,1)+IF(D697=0,0,1)","v":39},0.76923076923076927]
["штраф",null,null,null,null,null,null,null,null,null,null,null,null,null,null,null,null,null,null,null,null,null,4,30,{"$f":"IF(E4=0,0,1)+IF(E11=0,0,1)+IF(E18=0,0,1)+IF(E25=0,0,1)+IF(E32=0,0,1)+IF(E39=0,0,1)+IF(E46=0,0,1)+IF(E53=0,0,1)+IF(E60=0,0,1)+IF(E67=0,0,1)+IF(E74=0,0,1)+IF(E81=0,0,1)+IF(E88=0,0,1)+IF(E95=0,0,1)+IF(E102=0,0,1)+IF(E109=0,0,1)+IF(E116=0,0,1)+IF(E123=0,0,1)+IF(E130=0,0,1)+IF(E137=0,0,1)+IF(E144=0,0,1)+IF(E151=0,0,1)+IF(E158=0,0,1)+IF(E165=0,0,1)+IF(E172=0,0,1)+IF(E179=0,0,1)+IF(E186=0,0,1)+IF(E193=0,0,1)+IF(E200=0,0,1)+IF(E207=0,0,1)+IF(E214=0,0,1)+IF(E221=0,0,1)+IF(E228=0,0,1)+IF(E235=0,0,1)+IF(E242=0,0,1)+IF(E249=0,0,1)+IF(E256=0,0,1)+IF(E263=0,0,1)+IF(E270=0,0,1)+IF(E277=0,0,1)+IF(E284=0,0,1)+IF(E291=0,0,1)+IF(E298=0,0,1)+IF(E305=0,0,1)+IF(E312=0,0,1)+IF(E319=0,0,1)+IF(E326=0,0,1)+IF(E333=0,0,1)+IF(E340=0,0,1)+IF(E347=0,0,1)+IF(E354=0,0,1)+IF(E361=0,0,1)+IF(E368=0,0,1)+IF(E375=0,0,1)+IF(E382=0,0,1)+IF(E389=0,0,1)+IF(E396=0,0,1)+IF(E403=0,0,1)+IF(E410=0,0,1)+IF(E417=0,0,1)+IF(E424=0,0,1)+IF(E431=0,0,1)+IF(E438=0,0,1)+IF(E445=0,0,1)+IF(E452=0,0,1)+IF(E459=0,0,1)+IF(E466=0,0,1)+IF(E473=0,0,1)+IF(E480=0,0,1)+IF(E487=0,0,1)+IF(E494=0,0,1)+IF(E501=0,0,1)+IF(E508=0,0,1)+IF(E515=0,0,1)+IF(E522=0,0,1)+IF(E529=0,0,1)+IF(E536=0,0,1)+IF(E543=0,0,1)+IF(E550=0,0,1)+IF(E557=0,0,1)+IF(E564=0,0,1)+IF(E571=0,0,1)+IF(E578=0,0,1)+IF(E585=0,0,1)+IF(E592=0,0,1)+IF(E599=0,0,1)+IF(E606=0,0,1)+IF(E613=0,0,1)+IF(E620=0,0,1)+IF(E627=0,0,1)+IF(E634=0,0,1)+IF(E641=0,0,1)+IF(E648=0,0,1)+IF(E655=0,0,1)+IF(E662=0,0,1)+IF(E669=0,0,1)+IF(E676=0,0,1)+IF(E683=0,0,1)+IF(E690=0,0,1)+IF(E697=0,0,1)","v":39},0.76923076923076927]
["баллы",{"$f":"IF(B4=0,0,Z2)","v":0.69767441860465118},{"$f":"IF(C4=0,0,Z3)","v":1.0344827586206897},{"$f":"IF(D4=0,0,Z4)","v":0.76923076923076927},{"$f":"IF(E4=0,0,Z5)","v":0.76923076923076927},{"$f":"IF(F4=0,0,Z6)","v":0},{"$f":"IF(G4=0,0,Z7)","v":1.3636363636363635},{"$f":"IF(H4=0,0,Z8)","v":8.3333333333333339},{"$f":"IF(I4=0,0,Z9)","v":3.3333333333333335},{"$f":"IF(J4=0,0,Z10)","v":0},{"$f":"IF(K4=0,0,Z11)","v":4.3478260869565215},{"$f":"IF(L4=0,0,Z12)","v":0},{"$f":"IF(M4=0,0,Z13)","v":5.4545454545454541},{"$f":"IF(N4=0,0,Z14)","v":2.7272727272727271},{"$f":"IF(O4=0,0,Z15)","v":0},{"$f":"IF(P4=0,0,Z16)","v":1.7647058823529411},{"$f":"IF(Q4=0,0,Z17)","v":0},{"$f":"IF(R4=0,0,Z18)","v":0},{"$f":"IF(S4=0,0,Z19)","v":0},{"$f":"IF(T4=0,0,Z20)","v":0},{"$f":"IF(U4=0,0,Z21)","v":0},null,5,30,{"$f":"IF(F4=0,0,1)+IF(F11=0,0,1)+IF(F18=0,0,1)+IF(F25=0,0,1)+IF(F32=0,0,1)+IF(F39=0,0,1)+IF(F46=0,0,1)+IF(F53=0,0,1)+IF(F60=0,0,1)+IF(F67=0,0,1)+IF(F74=0,0,1)+IF(F81=0,0,1)+IF(F88=0,0,1)+IF(F95=0,0,1)+IF(F102=0,0,1)+IF(F109=0,0,1)+IF(F116=0,0,1)+IF(F123=0,0,1)+IF(F130=0,0,1)+IF(F137=0,0,1)+IF(F144=0,0,1)+IF(F151=0,0,1)+IF(F158=0,0,1)+IF(F165=0,0,1)+IF(F172=0,0,1)+IF(F179=0,0,1)+IF(F186=0,0,1)+IF(F193=0,0,1)+IF(F200=0,0,1)+IF(F207=0,0,1)+IF(F214=0,0,1)+IF(F221=0,0,1)+IF(F228=0,0,1)+IF(F235=0,0,1)+IF(F242=0,0,1)+IF(F249=0,0,1)+IF(F256=0,0,1)+IF(F263=0,0,1)+IF(F270=0,0,1)+IF(F277=0,0,1)+IF(F284=0,0,1)+IF(F291=0,0,1)+IF(F298=0,0,1)+IF(F305=0,0,1)+IF(F312=0,0,1)+IF(F319=0,0,1)+IF(F326=0,0,1)+IF(F333=0,0,1)+IF(F340=0,0,1)+IF(F347=0,0,1)+IF(F354=0,0,1)+IF(F361=0,0,1)+IF(F368=0,0,1)+IF(F375=0,0,1)+IF(F382=0,0,1)+IF(F389=0,0,1)+IF(F396=0,0,1)+IF(F403=0,0,1)+IF(F410=0,0,1)+IF(F417=0,0,1)+IF(F424=0,0,1)+IF(F431=0,0,1)+IF(F438=0,0,1)+IF(F445=0,0,1)+IF(F452=0,0,1)+IF(F459=0,0,1)+IF(F466=0,0,1)+IF(F473=0,0,1)+IF(F480=0,0,1)+IF(F487=0,0,1)+IF(F494=0,0,1)+IF(F501=0,0,1)+IF(F508=0,0,1)+IF(F515=0,0,1)+IF(F522=0,0,1)+IF(F529=0,0,1)+IF(F536=0,0,1)+IF(F543=0,0,1)+IF(F550=0,0,1)+IF(F557=0,0,1)+IF(F564=0,0,1)+IF(F571=0,0,1)+IF(F578=0,0,1)+IF(F585=0,0,1)+IF(F592=0,0,1)+IF(F599=0,0,1)+IF(F606=0,0,1)+IF(F613=0,0,1)+IF(F620=0,0,1)+IF(F627=0,0,1)+IF(F634=0,0,1)+IF(F641=0,0,1)+IF(F648=0,0,1)+IF(F655=0,0,1)+IF(F662=0,0,1)+IF(F669=0,0,1)+IF(F676=0,0,1)+IF(F683=0,0,1)+IF(F690=0,0,1)+IF(F697=0,0,1)","v":18},1.6666666666666667]
["итог время",{"$f":"SUM(B4:U5)","v":"00:46:11"},null,null,null,null,null,null,"итог баллы",null,{"$f":"SUM(B6:U6)","v":30.595271897117556},null,null,null,null,null,null,null,null,null,null,null,6,30,{"$f":"IF(G4=0,0,1)+IF(G11=0,0,1)+IF(G18=0,0,1)+IF(G25=0,0,1)+IF(G32=0,0,1)+IF(G39=0,0,1)+IF(G46=0,0,1)+IF(G53=0,0,1)+IF(G60=0,0,1)+IF(G67=0,0,1)+IF(G74=0,0,1)+IF(G81=0,0,1)+IF(G88=0,0,1)+IF(G95=0,0,1)+IF(G102=0,0,1)+IF(G109=0,0,1)+IF(G116=0,0,1)+IF(G123=0,0,1)+IF(G130=0,0,1)+IF(G137=0,0,1)+IF(G144=0,0,1)+IF(G151=0,0,1)+IF(G158=0,0,1)+IF(G165=0,0,1)+IF(G172=0,0,1)+IF(G179=0,0,1)+IF(G186=0,0,1)+IF(G193=0,0,1)+IF(G200=0,0,1)+IF(G207=0,0,1)+IF(G214=0,0,1)+IF(G221=0,0,1)+IF(G228=0,0,1)+IF(G235=0,0,1)+IF(G242=0,0,1)+IF(G249=0,0,1)+IF(G256=0,0,1)+IF(G263=0,0,1)+IF(G270=0,0,1)+IF(G277=0,0,1)+IF(G284=0,0,1)+IF(G291=0,0,1)+IF(G298=0,0,1)+IF(G305=0,0,1)+IF(G312=0,0,1)+IF(G319=0,0,1)+IF(G326=0,0,1)+IF(G333=0,0,1)+IF(G340=0,0,1)+IF(G347=0,0,1)+IF(G354=0,0,1)+IF(G361=0,0,1)+IF(G368=0,0,1)+IF(G375=0,0,1)+IF(G382=0,0,1)+IF(G389=0,0,1)+IF(G396=0,0,1)+IF(G403=0,0,1)+IF(G410=0,0,1)+IF(G417=0,0,1)+IF(G424=0,0,1)+IF(G431=0,0,1)+IF(G438=0,0,1)+IF(G445=0,0,1)+IF(G452=0,0,1)+IF(G459=0,0,1)+IF(G466=0,0,1)+IF(G473=0,0,1)+IF(G480=0,0,1)+IF(G487=0,0,1)+IF(G494=0,0,1)+IF(G501=0,0,1)+IF(G508=0,0,1)+IF(G515=0,0,1)+IF(G522=0,0,1)+IF(G529=0,0,1)+IF(G536=0,0,1)+IF(G543=0,0,1)+IF(G550=0,0,1)+IF(G557=0,0,1)+IF(G564=0,0,1)+IF(G571=0,0,1)+IF(G578=0,0,1)+IF(G585=0,0,1)+IF(G592=0,0,1)+IF(G599=0,0,1)+IF(G606=0,0,1)+IF(G613=0,0,1)+IF(G620=0,0,1)+IF(G627=0,0,1)+IF(G634=0,0,1)+IF(G641=0,0,1)+IF(G648=0,0,1)+IF(G655=0,0,1)+IF(G662=0,0,1)+IF(G669=0,0,1)+IF(G676=0,0,1)+IF(G683=0,0,1)+IF(G690=0,0,1)+IF(G697=0,0,1)","v":22},1.3636363636363635]
[null,null,null,null,null,null,null,null,null,null,null,null,null,null,null,null,null,null,null,null,null,null,7,100,{"$f":"IF(H4=0,0,1)+IF(H11=0,0,1)+IF(H18=0,0,1)+IF(H25=0,0,1)+IF(H32=0,0,1)+IF(H39=0,0,1)+IF(H46=0,0,1)+IF(H53=0,0,1)+IF(H60=0,0,1)+IF(H67=0,0,1)+IF(H74=0,0,1)+IF(H81=0,0,1)+IF(H88=0,0,1)+IF(H95=0,0,1)+IF(H102=0,0,1)+IF(H109=0,0,1)+IF(H116=0,0,1)+IF(H123=0,0,1)+IF(H130=0,0,1)+IF(H137=0,0,1)+IF(H144=0,0,1)+IF(H151=0,0,1)+IF(H158=0,0,1)+IF(H165=0,0,1)+IF(H172=0,0,1)+IF(H179=0,0,1)+IF(H186=0,0,1)+IF(H193=0,0,1)+IF(H200=0,0,1)+IF(H207=0,0,1)+IF(H214=0,0,1)+IF(H221=0,0,1)+IF(H228=0,0,1)+IF(H235=0,0,1)+IF(H242=0,0,1)+IF(H249=0,0,1)+IF(H256=0,0,1)+IF(H263=0,0,1)+IF(H270=0,0,1)+IF(H277=0,0,1)+IF(H284=0,0,1)+IF(H291=0,0,1)+IF(H298=0,0,1)+IF(H305=0,0,1)+IF(H312=0,0,1)+IF(H319=0,0,1)+IF(H326=0,0,1)+IF(H333=0,0,1)+IF(H340=0,0,1)+IF(H347=0,0,1)+IF(H354=0,0,1)+IF(H361=0,0,1)+IF(H368=0,0,1)+IF(H375=0,0,1)+IF(H382=0,0,1)+IF(H389=0,0,1)+IF(H396=0,0,1)+IF(H403=0,0,1)+IF(H410=0,0,1)+IF(H417=0,0,1)+IF(H424=0,0,1)+IF(H431=0,0,1)+IF(H438=0,0,1)+IF(H445=0,0,1)+IF(H452=0,0,1)+IF(H459=0,0,1)+IF(H466=0,0,1)+IF(H473=0,0,1)+IF(H480=0,0,1)+IF(H487=0,0,1)+IF(H494=0,0,1)+IF(H501=0,0,1)+IF(H508=0,0,1)+IF(H515=0,0,1)+IF(H522=0,0,1)+IF(H529=0,0,1)+IF(H536=0,0,1)+IF(H543=0,0,1)+IF(H550=0,0,1)+IF(H557=0,0,1)+IF(H564=0,0,1)+IF(H571=0,0,1)+IF(H578=0,0,1)+IF(H585=0,0,1)+IF(H592=0,0,1)+IF(H599=0,0,1)+IF(H606=0,0,1)+IF(H613=0,0,1)+IF(H620=0,0,1)+IF(H627=0,0,1)+IF(H634=0,0,1)+IF(H641=0,0,1)+IF(H648=0,0,1)+IF(H655=0,0,1)+IF(H662=0,0,1)+IF(H669=0,0,1)+IF(H676=0,0,1)+IF(H683=0,0,1)+IF(H690=0,0,1)+IF(H697=0,0,1)","v":12},8.3333333333333339]
["№",{"$f":"'Список команд'!B6","v":2},"команда",{"$f":"'Список команд'!D6:G6","v":"Энергия"},null,null,null,null,null,null,null,null,null,null,null,null,null,null,null,null,null,null,8,100,{"$f":"IF(I4=0,0,1)+IF(I11=0,0,1)+IF(I18=0,0,1)+IF(I25=0,0,1)+IF(I32=0,0,1)+IF(I39=0,0,1)+IF(I46=0,0,1)+IF(I53=0,0,1)+IF(I60=0,0,1)+IF(I67=0,0,1)+IF(I74=0,0,1)+IF(I81=0,0,1)+IF(I88=0,0,1)+IF(I95=0,0,1)+IF(I102=0,0,1)+IF(I109=0,0,1)+IF(I116=0,0,1)+IF(I123=0,0,1)+IF(I130=0,0,1)+IF(I137=0,0,1)+IF(I144=0,0,1)+IF(I151=0,0,1)+IF(I158=0,0,1)+IF(I165=0,0,1)+IF(I172=0,0,1)+IF(I179=0,0,1)+IF(I186=0,0,1)+IF(I193=0,0,1)+IF(I200=0,0,1)+IF(I207=0,0,1)+IF(I214=0,0,1)+IF(I221=0,0,1)+IF(I228=0,0,1)+IF(I235=0,0,1)+IF(I242=0,0,1)+IF(I249=0,0,1)+IF(I256=0,0,1)+IF(I263=0,0,1)+IF(I270=0,0,1)+IF(I277=0,0,1)+IF(I284=0,0,1)+IF(I291=0,0,1)+IF(I298=0,0,1)+IF(I305=0,0,1)+IF(I312=0,0,1)+IF(I319=0,0,1)+IF(I326=0,0,1)+IF(I333=0,0,1)+IF(I340=0,0,1)+IF(I347=0,0,1)+IF(I354=0,0,1)+IF(I361=0,0,1)+IF(I368=0,0,1)+IF(I375=0,0,1)+IF(I382=0,0,1)+IF(I389=0,0,1)+IF(I396=0,0,1)+IF(I403=0,0,1)+IF(I410=0,0,1)+IF(I417=0,0,1)+IF(I424=0,0,1)+IF(I431=0,0,1)+IF(I438=0,0,1)+IF(I445=0,0,1)+IF(I452=0,0,1)+IF(I459=0,0,1)+IF(I466=0,0,1)+IF(I473=0,0,1)+IF(I480=0,0,1)+IF(I487=0,0,1)+IF(I494=0,0,1)+IF(I501=0,0,1)+IF(I508=0,0,1)+IF(I515=0,0,1)+IF(I522=0,0,1)+IF(I529=0,0,1)+IF(I536=0,0,1)+IF(I543=0,0,1)+IF(I550=0,0,1)+IF(I557=0,0,1)+IF(I564=0,0,1)+IF(I571=0,0,1)+IF(I578=0,0,1)+IF(I585=0,0,1)+IF(I592=0,0,1)+IF(I599=0,0,1)+IF(I606=0,0,1)+IF(I613=0,0,1)+IF(I620=0,0,1)+IF(I627=0,0,1)+IF(I634=0,0,1)+IF(I641=0,0,1)+IF(I648=0,0,1)+IF(I655=0,0,1)+IF(I662=0,0,1)+IF(I669=0,0,1)+IF(I676=0,0,1)+IF(I683=0,0,1)+IF(I690=0,0,1)+IF(I697=0,0,1)","v":30},3.3333333333333335]
["трасса",1,2,3,4,5,6,7,8,9,10,11,12,13,14,15,16,17,18,19,20,null,9,100,{"$f":"IF(J4=0,0,1)+IF(J11=0,0,1)+IF(J18=0,0,1)+IF(J25=0,0,1)+IF(J32=0,0,1)+IF(J39=0,0,1)+IF(J46=0,0,1)+IF(J53=0,0,1)+IF(J60=0,0,1)+IF(J67=0,0,1)+IF(J74=0,0,1)+IF(J81=0,0,1)+IF(J88=0,0,1)+IF(J95=0,0,1)+IF(J102=0,0,1)+IF(J109=0,0,1)+IF(J116=0,0,1)+IF(J123=0,0,1)+IF(J130=0,0,1)+IF(J137=0,0,1)+IF(J144=0,0,1)+IF(J151=0,0,1)+IF(J158=0,0,1)+IF(J165=0,0,1)+IF(J172=0,0,1)+IF(J179=0,0,1)+IF(J186=0,0,1)+IF(J193=0,0,1)+IF(J200=0,0,1)+IF(J207=0,0,1)+IF(J214=0,0,1)+IF(J221=0,0,1)+IF(J228=0,0,1)+IF(J235=0,0,1)+IF(J242=0,0,1)+IF(J249=0,0,1)+IF(J256=0,0,1)+IF(J263=0,0,1)+IF(J270=0,0,1)+IF(J277=0,0,1)+IF(J284=0,0,1)+IF(J291=0,0,1)+IF(J298=0,0,1)+IF(J305=0,0,1)+IF(J312=0,0,1)+IF(J319=0,0,1)+IF(J326=0,0,1)+IF(J333=0,0,1)+IF(J340=0,0,1)+IF(J347=0,0,1)+IF(J354=0,0,1)+IF(J361=0,0,1)+IF(J368=0,0,1)+IF(J375=0,0,1)+IF(J382=0,0,1)+IF(J389=0,0,1)+IF(J396=0,0,1)+IF(J403=0,0,1)+IF(J410=0,0,1)+IF(J417=0,0,1)+IF(J424=0,0,1)+IF(J431=0,0,1)+IF(J438=0,0,1)+IF(J445=0,0,1)+IF(J452=0,0,1)+IF(J459=0,0,1)+IF(J466=0,0,1)+IF(J473=0,0,1)+IF(J480=0,0,1)+IF(J487=0,0,1)+IF(J494=0,0,1)+IF(J501=0,0,1)+IF(J508=0,0,1)+IF(J515=0,0,1)+IF(J522=0,0,1)+IF(J529=0,0,1)+IF(J536=0,0,1)+IF(J543=0,0,1)+IF(J550=0,0,1)+IF(J557=0,0,1)+IF(J564=0,0,1)+IF(J571=0,0,1)+IF(J578=0,0,1)+IF(J585=0,0,1)+IF(J592=0,0,1)+IF(J599=0,0,1)+IF(J606=0,0,1)+IF(J613=0,0,1)+IF(J620=0,0,1)+IF(J627=0,0,1)+IF(J634=0,0,1)+IF(J641=0,0,1)+IF(J648=0,0,1)+IF(J655=0,0,1)+IF(J662=0,0,1)+IF(J669=0,0,1)+IF(J676=0,0,1)+IF(J683=0,0,1)+IF(J690=0,0,1)+IF(J697=0,0,1)","v":5},20]
["время","00:02:40",null,"00:04:57","00:02:56","00:08:00","00:04:19",null,null,null,null,null,"00:15:45",null,null,"00:04:03",null,null,null,null,null,null,10,100,{"$f":"IF(K4=0,0,1)+IF(K11=0,0,1)+IF(K18=0,0,1)+IF(K25=0,0,1)+IF(K32=0,0,1)+IF(K39=0,0,1)+IF(K46=0,0,1)+IF(K53=0,0,1)+IF(K60=0,0,1)+IF(K67=0,0,1)+IF(K74=0,0,1)+IF(K81=0,0,1)+IF(K88=0,0,1)+IF(K95=0,0,1)+IF(K102=0,0,1)+IF(K109=0,0,1)+IF(K116=0,0,1)+IF(K123=0,0,1)+IF(K130=0,0,1)+IF(K137=0,0,1)+IF(K144=0,0,1)+IF(K151=0,0,1)+IF(K158=0,0,1)+IF(K165=0,0,1)+IF(K172=0,0,1)+IF(K179=0,0,1)+IF(K186=0,0,1)+IF(K193=0,0,1)+IF(K200=0,0,1)+IF(K207=0,0,1)+IF(K214=0,0,1)+IF(K221=0,0,1)+IF(K228=0,0,1)+IF(K235=0,0,1)+IF(K242=0,0,1)+IF(K249=0,0,1)+IF(K256=0,0,1)+IF(K263=0,0,1)+IF(K270=0,0,1)+IF(K277=0,0,1)+IF(K284=0,0,1)+IF(K291=0,0,1)+IF(K298=0,0,1)+IF(K305=0,0,1)+IF(K312=0,0,1)+IF(K319=0,0,1)+IF(K326=0,0,1)+IF(K333=0,0,1)+IF(K340=0,0,1)+IF(K347=0,0,1)+IF(K354=0,0,1)+IF(K361=0,0,1)+IF(K368=0,0,1)+IF(K375=0,0,1)+IF(K382=0,0,1)+IF(K389=0,0,1)+IF(K396=0,0,1)+IF(K403=0,0,1)+IF(K410=0,0,1)+IF(K417=0,0,1)+IF(K424=0,0,1)+IF(K431=0,0,1)+IF(K438=0,0,1)+IF(K445=0,0,1)+IF(K452=0,0,1)+IF(K459=0,0,1)+IF(K466=0,0,1)+IF(K473=0,0,1)+IF(K480=0,0,1)+IF(K487=0,0,1)+IF(K494=0,0,1)+IF(K501=0,0,1)+IF(K508=0,0,1)+IF(K515=0,0,1)+IF(K522=0,0,1)+IF(K529=0,0,1)+IF(K536=0,0,1)+IF(K543=0,0,1)+IF(K550=0,0,1)+IF(K557=0,0,1)+IF(K564=0,0,1)+IF(K571=0,0,1)+IF(K578=0,0,1)+IF(K585=0,0,1)+IF(K592=0,0,1)+IF(K599=0,0,1)+IF(K606=0,0,1)+IF(K613=0,0,1)+IF(K620=0,0,1)+IF(K627=0,0,1)+IF(K634=0,0,1)+IF(K641=0,0,1)+IF(K648=0,0,1)+IF(K655=0,0,1)+IF(K662=0,0,1)+IF(K669=0,0,1)+IF(K676=0,0,1)+IF(K683=0,0,1)+IF(K690=0,0,1)+IF(K697=0,0,1)","v":23},4.3478260869565215]
["штраф",null,null,null,null,null,null,null,null,null,null,null,null,null,null,null,null,null,null,null,null,null,11,100,{"$f":"IF(L4=0,0,1)+IF(L11=0,0,1)+IF(L18=0,0,1)+IF(L25=0,0,1)+IF(L32=0,0,1)+IF(L39=0,0,1)+IF(L46=0,0,1)+IF(L53=0,0,1)+IF(L60=0,0,1)+IF(L67=0,0,1)+IF(L74=0,0,1)+IF(L81=0,0,1)+IF(L88=0,0,1)+IF(L95=0,0,1)+IF(L102=0,0,1)+IF(L109=0,0,1)+IF(L116=0,0,1)+IF(L123=0,0,1)+IF(L130=0,0,1)+IF(L137=0,0,1)+IF(L144=0,0,1)+IF(L151=0,0,1)+IF(L158=0,0,1)+IF(L165=0,0,1)+IF(L172=0,0,1)+IF(L179=0,0,1)+IF(L186=0,0,1)+IF(L193=0,0,1)+IF(L200=0,0,1)+IF(L207=0,0,1)+IF(L214=0,0,1)+IF(L221=0,0,1)+IF(L228=0,0,1)+IF(L235=0,0,1)+IF(L242=0,0,1)+IF(L249=0,0,1)+IF(L256=0,0,1)+IF(L263=0,0,1)+IF(L270=0,0,1)+IF(L277=0,0,1)+IF(L284=0,0,1)+IF(L291=0,0,1)+IF(L298=0,0,1)+IF(L305=0,0,1)+IF(L312=0,0,1)+IF(L319=0,0,1)+IF(L326=0,0,1)+IF(L333=0,0,1)+IF(L340=0,0,1)+IF(L347=0,0,1)+IF(L354=0,0,1)+IF(L361=0,0,1)+IF(L368=0,0,1)+IF(L375=0,0,1)+IF(L382=0,0,1)+IF(L389=0,0,1)+IF(L396=0,0,1)+IF(L403=0,0,1)+IF(L410=0,0,1)+IF(L417=0,0,1)+IF(L424=0,0,1)+IF(L431=0,0,1)+IF(L438=0,0,1)+IF(L445=0,0,1)+IF(L452=0,0,1)+IF(L459=0,0,1)+IF(L466=0,0,1)+IF(L473=0,0,1)+IF(L480=0,0,1)+IF(L487=0,0,1)+IF(L494=0,0,1)+IF(L501=0,0,1)+IF(L508=0,0,1)+IF(L515=0,0,1)+IF(L522=0,0,1)+IF(L529=0,0,1)+IF(L536=0,0,1)+IF(L543=0,0,1)+IF(L550=0,0,1)+IF(L557=0,0,1)+IF(L564=0,0,1)+IF(L571=0,0,1)+IF(L578=0,0,1)+IF(L585=0,0,1)+IF(L592=0,0,1)+IF(L599=0,0,1)+IF(L606=0,0,1)+IF(L613=0,0,1)+IF(L620=0,0,1)+IF(L627=0,0,1)+IF(L634=0,0,1)+IF(L641=0,0,1)+IF(L648=0,0,1)+IF(L655=0,0,1)+IF(L662=0,0,1)+IF(L669=0,0,1)+IF(L676=0,0,1)+IF(L683=0,0,1)+IF(L690=0,0,1)+IF(L697=0,0,1)","v":7},14.285714285714286]
["баллы",{"$f":"IF(B11=0,0,Z2)","v":0.69767441860465118},{"$f":"IF(C11=0,0,Z3)","v":0},{"$f":"IF(D11=0,0,Z4)","v":0.76923076923076927},{"$f":"IF(E11=0,0,Z5)","v":0.76923076923076927},{"$f":"IF(F11=0,0,Z6)","v":1.6666666666666667},{"$f":"IF(G11=0,0,Z7)","v":1.3636363636363635},{"$f":"IF(H11=0,0,Z8)","v":0},{"$f":"IF(I11=0,0,Z9)","v":0},{"$f":"IF(J11=0,0,Z10)","v":0},{"$f":"IF(K11=0,0,Z11)","v":0},{"$f":"IF(L11=0,0,Z12)","v":0},{"$f":"IF(M11=0,0,Z13)","v":5.4545454545454541},{"$f":"IF(N11=0,0,Z14)","v":0},{"$f":"IF(O11=0,0,Z15)","v":0},{"$f":"IF(P11=0,0,Z16)","v":1.7647058823529411},{"$f":"IF(Q11=0,0,Z17)","v":0},{"$f":"IF(R11=0,0,Z18)","v":0},{"$f":"IF(S11=0,0,Z19)","v":0},{"$f":"IF(T11=0,0,Z20)","v":0},{"$f":"IF(U11=0,0,Z21)","v":0},null,12,60,{"$f":"IF(M4=0,0,1)+IF(M11=0,0,1)+IF(M18=0,0,1)+IF(M25=0,0,1)+IF(M32=0,0,1)+IF(M39=0,0,1)+IF(M46=0,0,1)+IF(M53=0,0,1)+IF(M60=0,0,1)+IF(M67=0,0,1)+IF(M74=0,0,1)+IF(M81=0,0,1)+IF(M88=0,0,1)+IF(M95=0,0,1)+IF(M102=0,0,1)+IF(M109=0,0,1)+IF(M116=0,0,1)+IF(M123=0,0,1)+IF(M130=0,0,1)+IF(M137=0,0,1)+IF(M144=0,0,1)+IF(M151=0,0,1)+IF(M158=0,0,1)+IF(M165=0,0,1)+IF(M172=0,0,1)+IF(M179=0,0,1)+IF(M186=0,0,1)+IF(M193=0,0,1)+IF(M200=0,0,1)+IF(M207=0,0,1)+IF(M214=0,0,1)+IF(M221=0,0,1)+IF(M228=0,0,1)+IF(M235=0,0,1)+IF(M242=0,0,1)+IF(M249=0,0,1)+IF(M256=0,0,1)+IF(M263=0,0,1)+IF(M270=0,0,1)+IF(M277=0,0,1)+IF(M284=0,0,1)+IF(M291=0,0,1)+IF(M298=0,0,1)+IF(M305=0,0,1)+IF(M312=0,0,1)+IF(M319=0,0,1)+IF(M326=0,0,1)+IF(M333=0,0,1)+IF(M340=0,0,1)+IF(M347=0,0,1)+IF(M354=0,0,1)+IF(M361=0,0,1)+IF(M368=0,0,1)+IF(M375=0,0,1)+IF(M382=0,0,1)+IF(M389=0,0,1)+IF(M396=0,0,1)+IF(M403=0,0,1)+IF(M410=0,0,1)+IF(M417=0,0,1)+IF(M424=0,0,1)+IF(M431=0,0,1)+IF(M438=0,0,1)+IF(M445=0,0,1)+IF(M452=0,0,1)+IF(M459=0,0,1)+IF(M466=0,0,1)+IF(M473=0,0,1)+IF(M480=0,0,1)+IF(M487=0,0,1)+IF(M494=0,0,1)+IF(M501=0,0,1)+IF(M508=0,0,1)+IF(M515=0,0,1)+IF(M522=0,0,1)+IF(M529=0,0,1)+IF(M536=0,0,1)+IF(M543=0,0,1)+IF(M550=0,0,1)+IF(M557=0,0,1)+IF(M564=0,0,1)+IF(M571=0,0,1)+IF(M578=0,0,1)+IF(M585=0,0,1)+IF(M592=0,0,1)+IF(M599=0,0,1)+IF(M606=0,0,1)+IF(M613=0,0,1)+IF(M620=0,0,1)+IF(M627=0,0,1)+IF(M634=0,0,1)+IF(M641=0,0,1)+IF(M648=0,0,1)+IF(M655=0,0,1)+IF(M662=0,0,1)+IF(M669=0,0,1)+IF(M676=0,0,1)+IF(M683=0,0,1)+IF(M690=0,0,1)+IF(M697=0,0,1)","v":11},5.4545454545454541]
["итог время",{"$f":"SUM(B11:U12)","v":"00:42:40"},null,null,null,null,null,null,"итог баллы",null,{"$f":"SUM(B13:U13)","v":12.485690324267615},null,null,null,null,null,null,null,null,null,null,null,13,60,{"$f":"IF(N4=0,0,1)+IF(N11=0,0,1)+IF(N18=0,0,1)+IF(N25=0,0,1)+IF(N32=0,0,1)+IF(N39=0,0,1)+IF(N46=0,0,1)+IF(N53=0,0,1)+IF(N60=0,0,1)+IF(N67=0,0,1)+IF(N74=0,0,1)+IF(N81=0,0,1)+IF(N88=0,0,1)+IF(N95=0,0,1)+IF(N102=0,0,1)+IF(N109=0,0,1)+IF(N116=0,0,1)+IF(N123=0,0,1)+IF(N130=0,0,1)+IF(N137=0,0,1)+IF(N144=0,0,1)+IF(N151=0,0,1)+IF(N158=0,0,1)+IF(N165=0,0,1)+IF(N172=0,0,1)+IF(N179=0,0,1)+IF(N186=0,0,1)+IF(N193=0,0,1)+IF(N200=0,0,1)+IF(N207=0,0,1)+IF(N214=0,0,1)+IF(N221=0,0,1)+IF(N228=0,0,1)+IF(N235=0,0,1)+IF(N242=0,0,1)+IF(N249=0,0,1)+IF(N256=0,0,1)+IF(N263=0,0,1)+IF(N270=0,0,1)+IF(N277=0,0,1)+IF(N284=0,0,1)+IF(N291=0,0,1)+IF(N298=0,0,1)+IF(N305=0,0,1)+IF(N312=0,0,1)+IF(N319=0,0,1)+IF(N326=0,0,1)+IF(N333=0,0,1)+IF(N340=0,0,1)+IF(N347=0,0,1)+IF(N354=0,0,1)+IF(N361=0,0,1)+IF(N368=0,0,1)+IF(N375=0,0,1)+IF(N382=0,0,1)+IF(N389=0,0,1)+IF(N396=0,0,1)+IF(N403=0,0,1)+IF(N410=0,0,1)+IF(N417=0,0,1)+IF(N424=0,0,1)+IF(N431=0,0,1)+IF(N438=0,0,1)+IF(N445=0,0,1)+IF(N452=0,0,1)+IF(N459=0,0,1)+IF(N466=0,0,1)+IF(N473=0,0,1)+IF(N480=0,0,1)+IF(N487=0,0,1)+IF(N494=0,0,1)+IF(N501=0,0,1)+IF(N508=0,0,1)+IF(N515=0,0,1)+IF(N522=0,0,1)+IF(N529=0,0,1)+IF(N536=0,0,1)+IF(N543=0,0,1)+IF(N550=0,0,1)+IF(N557=0,0,1)+IF(N564=0,0,1)+IF(N571=0,0,1)+IF(N578=0,0,1)+IF(N585=0,0,1)+IF(N592=0,0,1)+IF(N599=0,0,1)+IF(N606=0,0,1)+IF(N613=0,0,1)+IF(N620=0,0,1)+IF(N627=0,0,1)+IF(N634=0,0,1)+IF(N641=0,0,1)+IF(N648=0,0,1)+IF(N655=0,0,1)+IF(N662=0,0,1)+IF(N669=0,0,1)+IF(N676=0,0,1)+IF(N683=0,0,1)+IF(N690=0,0,1)+IF(N697=0,0,1)","v":22},2.7272727272727271]
[null,null,null,null,null,null,null,null,null,null,null,null,null,null,null,null,null,null,null,null,null,null,14,60,{"$f":"IF(O4=0,0,1)+IF(O11=0,0,1)+IF(O18=0,0,1)+IF(O25=0,0,1)+IF(O32=0,0,1)+IF(O39=0,0,1)+IF(O46=0,0,1)+IF(O53=0,0,1)+IF(O60=0,0,1)+IF(O67=0,0,1)+IF(O74=0,0,1)+IF(O81=0,0,1)+IF(O88=0,0,1)+IF(O95=0,0,1)+IF(O102=0,0,1)+IF(O109=0,0,1)+IF(O116=0,0,1)+IF(O123=0,0,1)+IF(O130=0,0,1)+IF(O137=0,0,1)+IF(O144=0,0,1)+IF(O151=0,0,1)+IF(O158=0,0,1)+IF(O165=0,0,1)+IF(O172=0,0,1)+IF(O179=0,0,1)+IF(O186=0,0,1)+IF(O193=0,0,1)+IF(O200=0,0,1)+IF(O207=0,0,1)+IF(O214=0,0,1)+IF(O221=0,0,1)+IF(O228=0,0,1)+IF(O235=0,0,1)+IF(O242=0,0,1)+IF(O249=0,0,1)+IF(O256=0,0,1)+IF(O263=0,0,1)+IF(O270=0,0,1)+IF(O277=0,0,1)+IF(O284=0,0,1)+IF(O291=0,0,1)+IF(O298=0,0,1)+IF(O305=0,0,1)+IF(O312=0,0,1)+IF(O319=0,0,1)+IF(O326=0,0,1)+IF(O333=0,0,1)+IF(O340=0,0,1)+IF(O347=0,0,1)+IF(O354=0,0,1)+IF(O361=0,0,1)+IF(O368=0,0,1)+IF(O375=0,0,1)+IF(O382=0,0,1)+IF(O389=0,0,1)+IF(O396=0,0,1)+IF(O403=0,0,1)+IF(O410=0,0,1)+IF(O417=0,0,1)+IF(O424=0,0,1)+IF(O431=0,0,1)+IF(O438=0,0,1)+IF(O445=0,0,1)+IF(O452=0,0,1)+IF(O459=0,0,1)+IF(O466=0,0,1)+IF(O473=0,0,1)+IF(O480=0,0,1)+IF(O487=0,0,1)+IF(O494=0,0,1)+IF(O501=0,0,1)+IF(O508=0,0,1)+IF(O515=0,0,1)+IF(O522=0,0,1)+IF(O529=0,0,1)+IF(O536=0,0,1)+IF(O543=0,0,1)+IF(O550=0,0,1)+IF(O557=0,0,1)+IF(O564=0,0,1)+IF(O571=0,0,1)+IF(O578=0,0,1)+IF(O585=0,0,1)+IF(O592=0,0,1)+IF(O599=0,0,1)+IF(O606=0,0,1)+IF(O613=0,0,1)+IF(O620=0,0,1)+IF(O627=0,0,1)+IF(O634=0,0,1)+IF(O641=0,0,1)+IF(O648=0,0,1)+IF(O655=0,0,1)+IF(O662=0,0,1)+IF(O669=0,0,1)+IF(O676=0,0,1)+IF(O683=0,0,1)+IF(O690=0,0,1)+IF(O697=0,0,1)","v":5},12]
["№",{"$f":"'Список команд'!B10","v":3},"команда",{"$f":"'Список команд'!D10:G10","v":"цр псо"},null,null,null,null,null,null,null,null,null,null,null,null,null,null,null,null,null,null,15,60,{"$f":"IF(P4=0,0,1)+IF(P11=0,0,1)+IF(P18=0,0,1)+IF(P25=0,0,1)+IF(P32=0,0,1)+IF(P39=0,0,1)+IF(P46=0,0,1)+IF(P53=0,0,1)+IF(P60=0,0,1)+IF(P67=0,0,1)+IF(P74=0,0,1)+IF(P81=0,0,1)+IF(P88=0,0,1)+IF(P95=0,0,1)+IF(P102=0,0,1)+IF(P109=0,0,1)+IF(P116=0,0,1)+IF(P123=0,0,1)+IF(P130=0,0,1)+IF(P137=0,0,1)+IF(P144=0,0,1)+IF(P151=0,0,1)+IF(P158=0,0,1)+IF(P165=0,0,1)+IF(P172=0,0,1)+IF(P179=0,0,1)+IF(P186=0,0,1)+IF(P193=0,0,1)+IF(P200=0,0,1)+IF(P207=0,0,1)+IF(P214=0,0,1)+IF(P221=0,0,1)+IF(P228=0,0,1)+IF(P235=0,0,1)+IF(P242=0,0,1)+IF(P249=0,0,1)+IF(P256=0,0,1)+IF(P263=0,0,1)+IF(P270=0,0,1)+IF(P277=0,0,1)+IF(P284=0,0,1)+IF(P291=0,0,1)+IF(P298=0,0,1)+IF(P305=0,0,1)+IF(P312=0,0,1)+IF(P319=0,0,1)+IF(P326=0,0,1)+IF(P333=0,0,1)+IF(P340=0,0,1)+IF(P347=0,0,1)+IF(P354=0,0,1)+IF(P361=0,0,1)+IF(P368=0,0,1)+IF(P375=0,0,1)+IF(P382=0,0,1)+IF(P389=0,0,1)+IF(P396=0,0,1)+IF(P403=0,0,1)+IF(P410=0,0,1)+IF(P417=0,0,1)+IF(P424=0,0,1)+IF(P431=0,0,1)+IF(P438=0,0,1)+IF(P445=0,0,1)+IF(P452=0,0,1)+IF(P459=0,0,1)+IF(P466=0,0,1)+IF(P473=0,0,1)+IF(P480=0,0,1)+IF(P487=0,0,1)+IF(P494=0,0,1)+IF(P501=0,0,1)+IF(P508=0,0,1)+IF(P515=0,0,1)+IF(P522=0,0,1)+IF(P529=0,0,1)+IF(P536=0,0,1)+IF(P543=0,0,1)+IF(P550=0,0,1)+IF(P557=0,0,1)+IF(P564=0,0,1)+IF(P571=0,0,1)+IF(P578=0,0,1)+IF(P585=0,0,1)+IF(P592=0,0,1)+IF(P599=0,0,1)+IF(P606=0,0,1)+IF(P613=0,0,1)+IF(P620=0,0,1)+IF(P627=0,0,1)+IF(P634=0,0,1)+IF(P641=0,0,1)+IF(P648=0,0,1)+IF(P655=0,0,1)+IF(P662=0,0,1)+IF(P669=0,0,1)+IF(P676=0,0,1)+IF(P683=0,0,1)+IF(P690=0,0,1)+IF(P697=0,0,1)","v":34},1.7647058823529411]
["трасса",1,2,3,4,5,6,7,8,9,10,11,12,13,14,15,16,17,18,19,20,null,16,100,{"$f":"IF(Q4=0,0,1)+IF(Q11=0,0,1)+IF(Q18=0,0,1)+IF(Q25=0,0,1)+IF(Q32=0,0,1)+IF(Q39=0,0,1)+IF(Q46=0,0,1)+IF(Q53=0,0,1)+IF(Q60=0,0,1)+IF(Q67=0,0,1)+IF(Q74=0,0,1)+IF(Q81=0,0,1)+IF(Q88=0,0,1)+IF(Q95=0,0,1)+IF(Q102=0,0,1)+IF(Q109=0,0,1)+IF(Q116=0,0,1)+IF(Q123=0,0,1)+IF(Q130=0,0,1)+IF(Q137=0,0,1)+IF(Q144=0,0,1)+IF(Q151=0,0,1)+IF(Q158=0,0,1)+IF(Q165=0,0,1)+IF(Q172=0,0,1)+IF(Q179=0,0,1)+IF(Q186=0,0,1)+IF(Q193=0,0,1)+IF(Q200=0,0,1)+IF(Q207=0,0,1)+IF(Q214=0,0,1)+IF(Q221=0,0,1)+IF(Q228=0,0,1)+IF(Q235=0,0,1)+IF(Q242=0,0,1)+IF(Q249=0,0,1)+IF(Q256=0,0,1)+IF(Q263=0,0,1)+IF(Q270=0,0,1)+IF(Q277=0,0,1)+IF(Q284=0,0,1)+IF(Q291=0,0,1)+IF(Q298=0,0,1)+IF(Q305=0,0,1)+IF(Q312=0,0,1)+IF(Q319=0,0,1)+IF(Q326=0,0,1)+IF(Q333=0,0,1)+IF(Q340=0,0,1)+IF(Q347=0,0,1)+IF(Q354=0,0,1)+IF(Q361=0,0,1)+IF(Q368=0,0,1)+IF(Q375=0,0,1)+IF(Q382=0,0,1)+IF(Q389=0,0,1)+IF(Q396=0,0,1)+IF(Q403=0,0,1)+IF(Q410=0,0,1)+IF(Q417=0,0,1)+IF(Q424=0,0,1)+IF(Q431=0,0,1)+IF(Q438=0,0,1)+IF(Q445=0,0,1)+IF(Q452=0,0,1)+IF(Q459=0,0,1)+IF(Q466=0,0,1)+IF(Q473=0,0,1)+IF(Q480=0,0,1)+IF(Q487=0,0,1)+IF(Q494=0,0,1)+IF(Q501=0,0,1)+IF(Q508=0,0,1)+IF(Q515=0,0,1)+IF(Q522=0,0,1)+IF(Q529=0,0,1)+IF(Q536=0,0,1)+IF(Q543=0,0,1)+IF(Q550=0,0,1)+IF(Q557=0,0,1)+IF(Q564=0,0,1)+IF(Q571=0,0,1)+IF(Q578=0,0,1)+IF(Q585=0,0,1)+IF(Q592=0,0,1)+IF(Q599=0,0,1)+IF(Q606=0,0,1)+IF(Q613=0,0,1)+IF(Q620=0,0,1)+IF(Q627=0,0,1)+IF(Q634=0,0,1)+IF(Q641=0,0,1)+IF(Q648=0,0,1)+IF(Q655=0,0,1)+IF(Q662=0,0,1)+IF(Q669=0,0,1)+IF(Q676=0,0,1)+IF(Q683=0,0,1)+IF(Q690=0,0,1)+IF(Q697=0,0,1)","v":0},0]
["время",null,null,null,null,null,null,null,null,null,null,null,null,null,null,null,null,null,null,null,null,null,17,100,{"$f":"IF(R4=0,0,1)+IF(R11=0,0,1)+IF(R18=0,0,1)+IF(R25=0,0,1)+IF(R32=0,0,1)+IF(R39=0,0,1)+IF(R46=0,0,1)+IF(R53=0,0,1)+IF(R60=0,0,1)+IF(R67=0,0,1)+IF(R74=0,0,1)+IF(R81=0,0,1)+IF(R88=0,0,1)+IF(R95=0,0,1)+IF(R102=0,0,1)+IF(R109=0,0,1)+IF(R116=0,0,1)+IF(R123=0,0,1)+IF(R130=0,0,1)+IF(R137=0,0,1)+IF(R144=0,0,1)+IF(R151=0,0,1)+IF(R158=0,0,1)+IF(R165=0,0,1)+IF(R172=0,0,1)+IF(R179=0,0,1)+IF(R186=0,0,1)+IF(R193=0,0,1)+IF(R200=0,0,1)+IF(R207=0,0,1)+IF(R214=0,0,1)+IF(R221=0,0,1)+IF(R228=0,0,1)+IF(R235=0,0,1)+IF(R242=0,0,1)+IF(R249=0,0,1)+IF(R256=0,0,1)+IF(R263=0,0,1)+IF(R270=0,0,1)+IF(R277=0,0,1)+IF(R284=0,0,1)+IF(R291=0,0,1)+IF(R298=0,0,1)+IF(R305=0,0,1)+IF(R312=0,0,1)+IF(R319=0,0,1)+IF(R326=0,0,1)+IF(R333=0,0,1)+IF(R340=0,0,1)+IF(R347=0,0,1)+IF(R354=0,0,1)+IF(R361=0,0,1)+IF(R368=0,0,1)+IF(R375=0,0,1)+IF(R382=0,0,1)+IF(R389=0,0,1)+IF(R396=0,0,1)+IF(R403=0,0,1)+IF(R410=0,0,1)+IF(R417=0,0,1)+IF(R424=0,0,1)+IF(R431=0,0,1)+IF(R438=0,0,1)+IF(R445=0,0,1)+IF(R452=0,0,1)+IF(R459=0,0,1)+IF(R466=0,0,1)+IF(R473=0,0,1)+IF(R480=0,0,1)+IF(R487=0,0,1)+IF(R494=0,0,1)+IF(R501=0,0,1)+IF(R508=0,0,1)+IF(R515=0,0,1)+IF(R522=0,0,1)+IF(R529=0,0,1)+IF(R536=0,0,1)+IF(R543=0,0,1)+IF(R550=0,0,1)+IF(R557=0,0,1)+IF(R564=0,0,1)+IF(R571=0,0,1)+IF(R578=0,0,1)+IF(R585=0,0,1)+IF(R592=0,0,1)+IF(R599=0,0,1)+IF(R606=0,0,1)+IF(R613=0,0,1)+IF(R620=0,0,1)+IF(R627=0,0,1)+IF(R634=0,0,1)+IF(R641=0,0,1)+IF(R648=0,0,1)+IF(R655=0,0,1)+IF(R662=0,0,1)+IF(R669=0,0,1)+IF(R676=0,0,1)+IF(R683=0,0,1)+IF(R690=0,0,1)+IF(R697=0,0,1)","v":0},0]
["штраф",null,null,null,null,null,null,null,null,null,null,null,null,null,null,null,null,null,null,null,null,null,18,100,{"$f":"IF(S4=0,0,1)+IF(S11=0,0,1)+IF(S18=0,0,1)+IF(S25=0,0,1)+IF(S32=0,0,1)+IF(S39=0,0,1)+IF(S46=0,0,1)+IF(S53=0,0,1)+IF(S60=0,0,1)+IF(S67=0,0,1)+IF(S74=0,0,1)+IF(S81=0,0,1)+IF(S88=0,0,1)+IF(S95=0,0,1)+IF(S102=0,0,1)+IF(S109=0,0,1)+IF(S116=0,0,1)+IF(S123=0,0,1)+IF(S130=0,0,1)+IF(S137=0,0,1)+IF(S144=0,0,1)+IF(S151=0,0,1)+IF(S158=0,0,1)+IF(S165=0,0,1)+IF(S172=0,0,1)+IF(S179=0,0,1)+IF(S186=0,0,1)+IF(S193=0,0,1)+IF(S200=0,0,1)+IF(S207=0,0,1)+IF(S214=0,0,1)+IF(S221=0,0,1)+IF(S228=0,0,1)+IF(S235=0,0,1)+IF(S242=0,0,1)+IF(S249=0,0,1)+IF(S256=0,0,1)+IF(S263=0,0,1)+IF(S270=0,0,1)+IF(S277=0,0,1)+IF(S284=0,0,1)+IF(S291=0,0,1)+IF(S298=0,0,1)+IF(S305=0,0,1)+IF(S312=0,0,1)+IF(S319=0,0,1)+IF(S326=0,0,1)+IF(S333=0,0,1)+IF(S340=0,0,1)+IF(S347=0,0,1)+IF(S354=0,0,1)+IF(S361=0,0,1)+IF(S368=0,0,1)+IF(S375=0,0,1)+IF(S382=0,0,1)+IF(S389=0,0,1)+IF(S396=0,0,1)+IF(S403=0,0,1)+IF(S410=0,0,1)+IF(S417=0,0,1)+IF(S424=0,0,1)+IF(S431=0,0,1)+IF(S438=0,0,1)+IF(S445=0,0,1)+IF(S452=0,0,1)+IF(S459=0,0,1)+IF(S466=0,0,1)+IF(S473=0,0,1)+IF(S480=0,0,1)+IF(S487=0,0,1)+IF(S494=0,0,1)+IF(S501=0,0,1)+IF(S508=0,0,1)+IF(S515=0,0,1)+IF(S522=0,0,1)+IF(S529=0,0,1)+IF(S536=0,0,1)+IF(S543=0,0,1)+IF(S550=0,0,1)+IF(S557=0,0,1)+IF(S564=0,0,1)+IF(S571=0,0,1)+IF(S578=0,0,1)+IF(S585=0,0,1)+IF(S592=0,0,1)+IF(S599=0,0,1)+IF(S606=0,0,1)+IF(S613=0,0,1)+IF(S620=0,0,1)+IF(S627=0,0,1)+IF(S634=0,0,1)+IF(S641=0,0,1)+IF(S648=0,0,1)+IF(S655=0,0,1)+IF(S662=0,0,1)+IF(S669=0,0,1)+IF(S676=0,0,1)+IF(S683=0,0,1)+IF(S690=0,0,1)+IF(S697=0,0,1)","v":0},0]
["баллы",{"$f":"IF(B18=0,0,Z2)","v":0},{"$f":"IF(C18=0,0,Z3)","v":0},{"$f":"IF(D18=0,0,Z4)","v":0},{"$f":"IF(E18=0,0,Z5)","v":0},{"$f":"IF(F18=0,0,Z6)","v":0},{"$f":"IF(G18=0,0,Z7)","v":0},{"$f":"IF(H18=0,0,Z8)","v":0},{"$f":"IF(I18=0,0,Z9)","v":0},{"$f":"IF(J18=0,0,Z10)","v":0},{"$f":"IF(K18=0,0,Z11)","v":0},{"$f":"IF(L18=0,0,Z12)","v":0},{"$f":"IF(M18=0,0,Z13)","v":0},{"$f":"IF(N18=0,0,Z14)","v":0},{"$f":"IF(O18=0,0,Z15)","v":0},{"$f":"IF(P18=0,0,Z16)","v":0},{"$f":"IF(Q18=0,0,Z17)","v":0},{"$f":"IF(R18=0,0,Z18)","v":0},{"$f":"IF(S18=0,0,Z19)","v":0},{"$f":"IF(T18=0,0,Z20)","v":0},{"$f":"IF(U18=0,0,Z21)","v":0},null,19,100,{"$f":"IF(T4=0,0,1)+IF(T11=0,0,1)+IF(T18=0,0,1)+IF(T25=0,0,1)+IF(T32=0,0,1)+IF(T39=0,0,1)+IF(T46=0,0,1)+IF(T53=0,0,1)+IF(T60=0,0,1)+IF(T67=0,0,1)+IF(T74=0,0,1)+IF(T81=0,0,1)+IF(T88=0,0,1)+IF(T95=0,0,1)+IF(T102=0,0,1)+IF(T109=0,0,1)+IF(T116=0,0,1)+IF(T123=0,0,1)+IF(T130=0,0,1)+IF(T137=0,0,1)+IF(T144=0,0,1)+IF(T151=0,0,1)+IF(T158=0,0,1)+IF(T165=0,0,1)+IF(T172=0,0,1)+IF(T179=0,0,1)+IF(T186=0,0,1)+IF(T193=0,0,1)+IF(T200=0,0,1)+IF(T207=0,0,1)+IF(T214=0,0,1)+IF(T221=0,0,1)+IF(T228=0,0,1)+IF(T235=0,0,1)+IF(T242=0,0,1)+IF(T249=0,0,1)+IF(T256=0,0,1)+IF(T263=0,0,1)+IF(T270=0,0,1)+IF(T277=0,0,1)+IF(T284=0,0,1)+IF(T291=0,0,1)+IF(T298=0,0,1)+IF(T305=0,0,1)+IF(T312=0,0,1)+IF(T319=0,0,1)+IF(T326=0,0,1)+IF(T333=0,0,1)+IF(T340=0,0,1)+IF(T347=0,0,1)+IF(T354=0,0,1)+IF(T361=0,0,1)+IF(T368=0,0,1)+IF(T375=0,0,1)+IF(T382=0,0,1)+IF(T389=0,0,1)+IF(T396=0,0,1)+IF(T403=0,0,1)+IF(T410=0,0,1)+IF(T417=0,0,1)+IF(T424=0,0,1)+IF(T431=0,0,1)+IF(T438=0,0,1)+IF(T445=0,0,1)+IF(T452=0,0,1)+IF(T459=0,0,1)+IF(T466=0,0,1)+IF(T473=0,0,1)+IF(T480=0,0,1)+IF(T487=0,0,1)+IF(T494=0,0,1)+IF(T501=0,0,1)+IF(T508=0,0,1)+IF(T515=0,0,1)+IF(T522=0,0,1)+IF(T529=0,0,1)+IF(T536=0,0,1)+IF(T543=0,0,1)+IF(T550=0,0,1)+IF(T557=0,0,1)+IF(T564=0,0,1)+IF(T571=0,0,1)+IF(T578=0,0,1)+IF(T585=0,0,1)+IF(T592=0,0,1)+IF(T599=0,0,1)+IF(T606=0,0,1)+IF(T613=0,0,1)+IF(T620=0,0,1)+IF(T627=0,0,1)+IF(T634=0,0,1)+IF(T641=0,0,1)+IF(T648=0,0,1)+IF(T655=0,0,1)+IF(T662=0,0,1)+IF(T669=0,0,1)+IF(T676=0,0,1)+IF(T683=0,0,1)+IF(T690=0,0,1)+IF(T697=0,0,1)","v":0},0]
["итог время",{"$f":"SUM(B18:U19)","v":"00:00:00"},null,null,null,null,null,null,"итог баллы",null,{"$f":"SUM(B20:U20)","v":0},null,null,null,null,null,null,null,null,null,null,null,20,100,{"$f":"IF(U4=0,0,1)+IF(U11=0,0,1)+IF(U18=0,0,1)+IF(U25=0,0,1)+IF(U32=0,0,1)+IF(U39=0,0,1)+IF(U46=0,0,1)+IF(U53=0,0,1)+IF(U60=0,0,1)+IF(U67=0,0,1)+IF(U74=0,0,1)+IF(U81=0,0,1)+IF(U88=0,0,1)+IF(U95=0,0,1)+IF(U102=0,0,1)+IF(U109=0,0,1)+IF(U116=0,0,1)+IF(U123=0,0,1)+IF(U130=0,0,1)+IF(U137=0,0,1)+IF(U144=0,0,1)+IF(U151=0,0,1)+IF(U158=0,0,1)+IF(U165=0,0,1)+IF(U172=0,0,1)+IF(U179=0,0,1)+IF(U186=0,0,1)+IF(U193=0,0,1)+IF(U200=0,0,1)+IF(U207=0,0,1)+IF(U214=0,0,1)+IF(U221=0,0,1)+IF(U228=0,0,1)+IF(U235=0,0,1)+IF(U242=0,0,1)+IF(U249=0,0,1)+IF(U256=0,0,1)+IF(U263=0,0,1)+IF(U270=0,0,1)+IF(U277=0,0,1)+IF(U284=0,0,1)+IF(U291=0,0,1)+IF(U298=0,0,1)+IF(U305=0,0,1)+IF(U312=0,0,1)+IF(U319=0,0,1)+IF(U326=0,0,1)+IF(U333=0,0,1)+IF(U340=0,0,1)+IF(U347=0,0,1)+IF(U354=0,0,1)+IF(U361=0,0,1)+IF(U368=0,0,1)+IF(U375=0,0,1)+IF(U382=0,0,1)+IF(U389=0,0,1)+IF(U396=0,0,1)+IF(U403=0,0,1)+IF(U410=0,0,1)+IF(U417=0,0,1)+IF(U424=0,0,1)+IF(U431=0,0,1)+IF(U438=0,0,1)+IF(U445=0,0,1)+IF(U452=0,0,1)+IF(U459=0,0,1)+IF(U466=0,0,1)+IF(U473=0,0,1)+IF(U480=0,0,1)+IF(U487=0,0,1)+IF(U494=0,0,1)+IF(U501=0,0,1)+IF(U508=0,0,1)+IF(U515=0,0,1)+IF(U522=0,0,1)+IF(U529=0,0,1)+IF(U536=0,0,1)+IF(U543=0,0,1)+IF(U550=0,0,1)+IF(U557=0,0,1)+IF(U564=0,0,1)+IF(U571=0,0,1)+IF(U578=0,0,1)+IF(U585=0,0,1)+IF(U592=0,0,1)+IF(U599=0,0,1)+IF(U606=0,0,1)+IF(U613=0,0,1)+IF(U620=0,0,1)+IF(U627=0,0,1)+IF(U634=0,0,1)+IF(U641=0,0,1)+IF(U648=0,0,1)+IF(U655=0,0,1)+IF(U662=0,0,1)+IF(U669=0,0,1)+IF(U676=0,0,1)+IF(U683=0,0,1)+IF(U690=0,0,1)+IF(U697=0,0,1)","v":0},0]
[]
["№",{"$f":"'Список команд'!B14","v":4},"команда",{"$f":"'Список команд'!D14:G14","v":"Сибирский юмор"}]
["трасса",1,2,3,4,5,6,7,8,9,10,11,12,13,14,15,16,17,18,19,20]
["время","00:01:19","00:04:19","00:03:57","00:02:31",null,"00:04:23",null,"00:03:46",null,null,null,null,"00:02:47",null,"00:03:39"]
["штраф"]
["баллы",{"$f":"IF(B25=0,0,Z2)","v":0.69767441860465118},{"$f":"IF(C25=0,0,Z3)","v":1.0344827586206897},{"$f":"IF(D25=0,0,Z4)","v":0.76923076923076927},{"$f":"IF(E25=0,0,Z5)","v":0.76923076923076927},{"$f":"IF(F25=0,0,Z6)","v":0},{"$f":"IF(G25=0,0,Z7)","v":1.3636363636363635},{"$f":"IF(H25=0,0,Z8)","v":0},{"$f":"IF(I25=0,0,Z9)","v":3.3333333333333335},{"$f":"IF(J25=0,0,Z10)","v":0},{"$f":"IF(K25=0,0,Z11)","v":0},{"$f":"IF(L25=0,0,Z12)","v":0},{"$f":"IF(M25=0,0,Z13)","v":0},{"$f":"IF(N25=0,0,Z14)","v":2.7272727272727271},{"$f":"IF(O25=0,0,Z15)","v":0},{"$f":"IF(P25=0,0,Z16)","v":1.7647058823529411},{"$f":"IF(Q25=0,0,Z17)","v":0},{"$f":"IF(R25=0,0,Z18)","v":0},{"$f":"IF(S25=0,0,Z19)","v":0},{"$f":"IF(T25=0,0,Z20)","v":0},{"$f":"IF(U25=0,0,Z21)","v":0}]
["итог время",{"$f":"SUM(B25:U26)","v":"00:26:41"},null,null,null,null,null,null,"итог баллы",null,{"$f":"SUM(B27:U27)","v":12.459567022282243}]
[]
["№",{"$f":"'Список команд'!B18","v":5},"команда",{"$f":"'Список команд'!D18:G18","v":"Korolev Climbing School"}]
["трасса",1,2,3,4,5,6,7,8,9,10,11,12,13,14,15,16,17,18,19,20]
["время","00:01:23",null,null,null,null,null,"00:16:55","00:02:59","00:15:30","00:02:50"]
["штраф"]
["баллы",{"$f":"IF(B32=0,0,Z2)","v":0.69767441860465118},{"$f":"IF(C32=0,0,Z3)","v":0},{"$f":"IF(D32=0,0,Z4)","v":0},{"$f":"IF(E32=0,0,Z5)","v":0},{"$f":"IF(F32=0,0,Z6)","v":0},{"$f":"IF(G32=0,0,Z7)","v":0},{"$f":"IF(H32=0,0,Z8)","v":8.3333333333333339},{"$f":"IF(I32=0,0,Z9)","v":3.3333333333333335},{"$f":"IF(J32=0,0,Z10)","v":20},{"$f":"IF(K32=0,0,Z11)","v":4.3478260869565215},{"$f":"IF(L32=0,0,Z12)","v":0},{"$f":"IF(M32=0,0,Z13)","v":0},{"$f":"IF(N32=0,0,Z14)","v":0},{"$f":"IF(O32=0,0,Z15)","v":0},{"$f":"IF(P32=0,0,Z16)","v":0},{"$f":"IF(Q32=0,0,Z17)","v":0},{"$f":"IF(R32=0,0,Z18)","v":0},{"$f":"IF(S32=0,0,Z19)","v":0},{"$f":"IF(T32=0,0,Z20)","v":0},{"$f":"IF(U32=0,0,Z21)","v":0}]
["итог время",{"$f":"SUM(B32:U33)","v":"00:39:37"},null,null,null,null,null,null,"итог баллы",null,{"$f":"SUM(B34:U34)","v":36.712167172227844}]
[]
["№",{"$f":"'Список команд'!B22","v":6},"команда",{"$f":"'Список команд'!D22:G22","v":"JustForFun"}]
["трасса",1,2,3,4,5,6,7,8,9,10,11,12,13,14,15,16,17,18,19,20]
["время","00:02:49",null,"00:03:34",null,null,null,"00:17:46","00:03:27",null,"00:03:53","00:04:00"]
["штраф"]
["баллы",{"$f":"IF(B39=0,0,Z2)","v":0.69767441860465118},{"$f":"IF(C39=0,0,Z3)","v":0},{"$f":"IF(D39=0,0,Z4)","v":0.76923076923076927},{"$f":"IF(E39=0,0,Z5)","v":0},{"$f":"IF(F39=0,0,Z6)","v":0},{"$f":"IF(G39=0,0,Z7)","v":0},{"$f":"IF(H39=0,0,Z8)","v":8.3333333333333339},{"$f":"IF(I39=0,0,Z9)","v":3.3333333333333335},{"$f":"IF(J39=0,0,Z10)","v":0},{"$f":"IF(K39=0,0,Z11)","v":4.3478260869565215},{"$f":"IF(L39=0,0,Z12)","v":14.285714285714286},{"$f":"IF(M39=0,0,Z13)","v":0},{"$f":"IF(N39=0,0,Z14)","v":0},{"$f":"IF(O39=0,0,Z15)","v":0},{"$f":"IF(P39=0,0,Z16)","v":0},{"$f":"IF(Q39=0,0,Z17)","v":0},{"$f":"IF(R39=0,0,Z18)","v":0},{"$f":"IF(S39=0,0,Z19)","v":0},{"$f":"IF(T39=0,0,Z20)","v":0},{"$f":"IF(U39=0,0,Z21)","v":0}]
["итог время",{"$f":"SUM(B39:U40)","v":"00:35:29"},null,null,null,null,null,null,"итог баллы",null,{"$f":"SUM(B41:U41)","v":31.767112227172895}]
[]
["№",{"$f":"'Список команд'!B26","v":7},"команда",{"$f":"'Список команд'!D26:G26","v":"ГК МГСУ"}]
["трасса",1,2,3,4,5,6,7,8,9,10,11,12,13,14,15,16,17,18,19,20]
["время","00:01:05","00:02:45","00:02:03","00:02:24","00:05:19",null,null,"00:00:50",null,"00:02:07",null,null,null,null,"00:03:14"]
["штраф"]
["баллы",{"$f":"IF(B46=0,0,Z2)","v":0.69767441860465118},{"$f":"IF(C46=0,0,Z3)","v":1.0344827586206897},{"$f":"IF(D46=0,0,Z4)","v":0.76923076923076927},{"$f":"IF(E46=0,0,Z5)","v":0.76923076923076927},{"$f":"IF(F46=0,0,Z6)","v":1.6666666666666667},{"$f":"IF(G46=0,0,Z7)","v":0},{"$f":"IF(H46=0,0,Z8)","v":0},{"$f":"IF(I46=0,0,Z9)","v":3.3333333333333335},{"$f":"IF(J46=0,0,Z10)","v":0},{"$f":"IF(K46=0,0,Z11)","v":4.3478260869565215},{"$f":"IF(L46=0,0,Z12)","v":0},{"$f":"IF(M46=0,0,Z13)","v":0},{"$f":"IF(N46=0,0,Z14)","v":0},{"$f":"IF(O46=0,0,Z15)","v":0},{"$f":"IF(P46=0,0,Z16)","v":1.7647058823529411},{"$f":"IF(Q46=0,0,Z17)","v":0},{"$f":"IF(R46=0,0,Z18)","v":0},{"$f":"IF(S46=0,0,Z19)","v":0},{"$f":"IF(T46=0,0,Z20)","v":0},{"$f":"IF(U46=0,0,Z21)","v":0}]
["итог время",{"$f":"SUM(B46:U47)","v":"00:19:47"},null,null,null,null,null,null,"итог баллы",null,{"$f":"SUM(B48:U48)","v":14.383150684996341}]
[]
["№",{"$f":"'Список команд'!B30","v":8},"команда",{"$f":"'Список команд'!D30:G30","v":"M&M's"}]
["трасса",1,2,3,4,5,6,7,8,9,10,11,12,13,14,15,16,17,18,19,20]
["время"]
["штраф"]
["баллы",{"$f":"IF(B53=0,0,Z2)","v":0},{"$f":"IF(C53=0,0,Z3)","v":0},{"$f":"IF(D53=0,0,Z4)","v":0},{"$f":"IF(E53=0,0,Z5)","v":0},{"$f":"IF(F53=0,0,Z6)","v":0},{"$f":"IF(G53=0,0,Z7)","v":0},{"$f":"IF(H53=0,0,Z8)","v":0},{"$f":"IF(I53=0,0,Z9)","v":0},{"$f":"IF(J53=0,0,Z10)","v":0},{"$f":"IF(K53=0,0,Z11)","v":0},{"$f":"IF(L53=0,0,Z12)","v":0},{"$f":"IF(M53=0,0,Z13)","v":0},{"$f":"IF(N53=0,0,Z14)","v":0},{"$f":"IF(O53=0,0,Z15)","v":0},{"$f":"IF(P53=0,0,Z16)","v":0},{"$f":"IF(Q53=0,0,Z17)","v":0},{"$f":"IF(R53=0,0,Z18)","v":0},{"$f":"IF(S53=0,0,Z19)","v":0},{"$f":"IF(T53=0,0,Z20)","v":0},{"$f":"IF(U53=0,0,Z21)","v":0}]
["итог время",{"$f":"SUM(B53:U54)","v":"00:00:00"},null,null,null,null,null,null,"итог баллы",null,{"$f":"SUM(B55:U55)","v":0}]
[]
["№",{"$f":"'Список команд'!B34","v":9},"команда",{"$f":"'Список команд'!D34:G34","v":"Экс-МГСУ"}]
["трасса",1,2,3,4,5,6,7,8,9,10,11,12,13,14,15,16,17,18,19,20]
["время"]
["штраф"]
["баллы",{"$f":"IF(B60=0,0,Z2)","v":0},{"$f":"IF(C60=0,0,Z3)","v":0},{"$f":"IF(D60=0,0,Z4)","v":0},{"$f":"IF(E60=0,0,Z5)","v":0},{"$f":"IF(F60=0,0,Z6)","v":0},{"$f":"IF(G60=0,0,Z7)","v":0},{"$f":"IF(H60=0,0,Z8)","v":0},{"$f":"IF(I60=0,0,Z9)","v":0},{"$f":"IF(J60=0,0,Z10)","v":0},{"$f":"IF(K60=0,0,Z11)","v":0},{"$f":"IF(L60=0,0,Z12)","v":0},{"$f":"IF(M60=0,0,Z13)","v":0},{"$f":"IF(N60=0,0,Z14)","v":0},{"$f":"IF(O60=0,0,Z15)","v":0},{"$f":"IF(P60=0,0,Z16)","v":0},{"$f":"IF(Q60=0,0,Z17)","v":0},{"$f":"IF(R60=0,0,Z18)","v":0},{"$f":"IF(S60=0,0,Z19)","v":0},{"$f":"IF(T60=0,0,Z20)","v":0},{"$f":"IF(U60=0,0,Z21)","v":0}]
["итог время",{"$f":"SUM(B60:U61)","v":"00:00:00"},null,null,null,null,null,null,"итог баллы",null,{"$f":"SUM(B62:U62)","v":0}]
[]
["№",{"$f":"'Список команд'!B38","v":10},"команда",{"$f":"'Список команд'!D38:G38","v":"ГК МГСУ"}]
["трасса",1,2,3,4,5,6,7,8,9,10,11,12,13,14,15,16,17,18,19,20]
["время","00:01:26",null,"00:03:15","00:00:54",null,null,null,"00:02:48",null,"00:02:00",null,null,null,null,"00:03:19"]
["штраф"]
["баллы",{"$f":"IF(B67=0,0,Z2)","v":0.69767441860465118},{"$f":"IF(C67=0,0,Z3)","v":0},{"$f":"IF(D67=0,0,Z4)","v":0.76923076923076927},{"$f":"IF(E67=0,0,Z5)","v":0.76923076923076927},{"$f":"IF(F67=0,0,Z6)","v":0},{"$f":"IF(G67=0,0,Z7)","v":0},{"$f":"IF(H67=0,0,Z8)","v":0},{"$f":"IF(I67=0,0,Z9)","v":3.3333333333333335},{"$f":"IF(J67=0,0,Z10)","v":0},{"$f":"IF(K67=0,0,Z11)","v":4.3478260869565215},{"$f":"IF(L67=0,0,Z12)","v":0},{"$f":"IF(M67=0,0,Z13)","v":0},{"$f":"IF(N67=0,0,Z14)","v":0},{"$f":"IF(O67=0,0,Z15)","v":0},{"$f":"IF(P67=0,0,Z16)","v":1.7647058823529411},{"$f":"IF(Q67=0,0,Z17)","v":0},{"$f":"IF(R67=0,0,Z18)","v":0},{"$f":"IF(S67=0,0,Z19)","v":0},{"$f":"IF(T67=0,0,Z20)","v":0},{"$f":"IF(U67=0,0,Z21)","v":0}]
["итог время",{"$f":"SUM(B67:U68)","v":"00:13:42"},null,null,null,null,null,null,"итог баллы",null,{"$f":"SUM(B69:U69)","v":11.682001259708986}]
[]
["№",{"$f":"'Список команд'!B42","v":11},"команда",{"$f":"'Список команд'!D42:G42","v":"Королев"}]
["трасса",1,2,3,4,5,6,7,8,9,10,11,12,13,14,15,16,17,18,19,20]
["время",null,null,null,null,null,null,"00:16:07","00:01:02","00:13:23","00:02:16","00:06:16",null,null,"00:11:43"]
["штраф"]
["баллы",{"$f":"IF(B74=0,0,Z2)","v":0},{"$f":"IF(C74=0,0,Z3)","v":0},{"$f":"IF(D74=0,0,Z4)","v":0},{"$f":"IF(E74=0,0,Z5)","v":0},{"$f":"IF(F74=0,0,Z6)","v":0},{"$f":"IF(G74=0,0,Z7)","v":0},{"$f":"IF(H74=0,0,Z8)","v":8.3333333333333339},{"$f":"IF(I74=0,0,Z9)","v":3.3333333333333335},{"$f":"IF(J74=0,0,Z10)","v":20},{"$f":"IF(K74=0,0,Z11)","v":4.3478260869565215},{"$f":"IF(L74=0,0,Z12)","v":14.285714285714286},{"$f":"IF(M74=0,0,Z13)","v":0},{"$f":"IF(N74=0,0,Z14)","v":0},{"$f":"IF(O74=0,0,Z15)","v":12},{"$f":"IF(P74=0,0,Z16)","v":0},{"$f":"IF(Q74=0,0,Z17)","v":0},{"$f":"IF(R74=0,0,Z18)","v":0},{"$f":"IF(S74=0,0,Z19)","v":0},{"$f":"IF(T74=0,0,Z20)","v":0},{"$f":"IF(U74=0,0,Z21)","v":0}]
["итог время",{"$f":"SUM(B74:U75)","v":"00:50:47"},null,null,null,null,null,null,"итог баллы",null,{"$f":"SUM(B76:U76)","v":62.300207039337472}]
[]
["№",{"$f":"'Список команд'!B46","v":12},"команда",{"$f":"'Список команд'!D46:G46","v":"Хухтилампи"}]
["трасса",1,2,3,4,5,6,7,8,9,10,11,12,13,14,15,16,17,18,19,20]
["время","00:03:06",null,"00:04:30","00:02:37",null,null,null,null,null,null,null,null,null,null,"00:04:33"]
["штраф"]
["баллы",{"$f":"IF(B81=0,0,Z2)","v":0.69767441860465118},{"$f":"IF(C81=0,0,Z3)","v":0},{"$f":"IF(D81=0,0,Z4)","v":0.76923076923076927},{"$f":"IF(E81=0,0,Z5)","v":0.76923076923076927},{"$f":"IF(F81=0,0,Z6)","v":0},{"$f":"IF(G81=0,0,Z7)","v":0},{"$f":"IF(H81=0,0,Z8)","v":0},{"$f":"IF(I81=0,0,Z9)","v":0},{"$f":"IF(J81=0,0,Z10)","v":0},{"$f":"IF(K81=0,0,Z11)","v":0},{"$f":"IF(L81=0,0,Z12)","v":0},{"$f":"IF(M81=0,0,Z13)","v":0},{"$f":"IF(N81=0,0,Z14)","v":0},{"$f":"IF(O81=0,0,Z15)","v":0},{"$f":"IF(P81=0,0,Z16)","v":1.7647058823529411},{"$f":"IF(Q81=0,0,Z17)","v":0},{"$f":"IF(R81=0,0,Z18)","v":0},{"$f":"IF(S81=0,0,Z19)","v":0},{"$f":"IF(T81=0,0,Z20)","v":0},{"$f":"IF(U81=0,0,Z21)","v":0}]
["итог время",{"$f":"SUM(B81:U82)","v":"00:14:46"},null,null,null,null,null,null,"итог баллы",null,{"$f":"SUM(B83:U83)","v":4.000841839419131}]
[]
["№",{"$f":"'Список команд'!B50","v":13},"команда",{"$f":"'Список команд'!D50:G50","v":"Странник"}]
["трасса",1,2,3,4,5,6,7,8,9,10,11,12,13,14,15,16,17,18,19,20]
["время"]
["штраф"]
["баллы",{"$f":"IF(B88=0,0,Z2)","v":0},{"$f":"IF(C88=0,0,Z3)","v":0},{"$f":"IF(D88=0,0,Z4)","v":0},{"$f":"IF(E88=0,0,Z5)","v":0},{"$f":"IF(F88=0,0,Z6)","v":0},{"$f":"IF(G88=0,0,Z7)","v":0},{"$f":"IF(H88=0,0,Z8)","v":0},{"$f":"IF(I88=0,0,Z9)","v":0},{"$f":"IF(J88=0,0,Z10)","v":0},{"$f":"IF(K88=0,0,Z11)","v":0},{"$f":"IF(L88=0,0,Z12)","v":0},{"$f":"IF(M88=0,0,Z13)","v":0},{"$f":"IF(N88=0,0,Z14)","v":0},{"$f":"IF(O88=0,0,Z15)","v":0},{"$f":"IF(P88=0,0,Z16)","v":0},{"$f":"IF(Q88=0,0,Z17)","v":0},{"$f":"IF(R88=0,0,Z18)","v":0},{"$f":"IF(S88=0,0,Z19)","v":0},{"$f":"IF(T88=0,0,Z20)","v":0},{"$f":"IF(U88=0,0,Z21)","v":0}]
["итог время",{"$f":"SUM(B88:U89)","v":"00:00:00"},null,null,null,null,null,null,"итог баллы",null,{"$f":"SUM(B90:U90)","v":0}]
[]
["№",{"$f":"'Список команд'!B54","v":14},"команда",{"$f":"'Список команд'!D54:G54","v":"АК МАИ"}]
["трасса",1,2,3,4,5,6,7,8,9,10,11,12,13,14,15,16,17,18,19,20]
["время","00:01:56",null,"00:03:52","00:01:38",null,null,"00:16:55","00:02:43",null,"00:02:59",null,null,"00:03:20",null,"00:03:33"]
["штраф"]
["баллы",{"$f":"IF(B95=0,0,Z2)","v":0.69767441860465118},{"$f":"IF(C95=0,0,Z3)","v":0},{"$f":"IF(D95=0,0,Z4)","v":0.76923076923076927},{"$f":"IF(E95=0,0,Z5)","v":0.76923076923076927},{"$f":"IF(F95=0,0,Z6)","v":0},{"$f":"IF(G95=0,0,Z7)","v":0},{"$f":"IF(H95=0,0,Z8)","v":8.3333333333333339},{"$f":"IF(I95=0,0,Z9)","v":3.3333333333333335},{"$f":"IF(J95=0,0,Z10)","v":0},{"$f":"IF(K95=0,0,Z11)","v":4.3478260869565215},{"$f":"IF(L95=0,0,Z12)","v":0},{"$f":"IF(M95=0,0,Z13)","v":0},{"$f":"IF(N95=0,0,Z14)","v":2.7272727272727271},{"$f":"IF(O95=0,0,Z15)","v":0},{"$f":"IF(P95=0,0,Z16)","v":1.7647058823529411},{"$f":"IF(Q95=0,0,Z17)","v":0},{"$f":"IF(R95=0,0,Z18)","v":0},{"$f":"IF(S95=0,0,Z19)","v":0},{"$f":"IF(T95=0,0,Z20)","v":0},{"$f":"IF(U95=0,0,Z21)","v":0}]
["итог время",{"$f":"SUM(B95:U96)","v":"00:36:56"},null,null,null,null,null,null,"итог баллы",null,{"$f":"SUM(B97:U97)","v":22.742607320315049}]
[]
["№",{"$f":"'Список команд'!B58","v":15},"команда",{"$f":"'Список команд'!D58:G58","v":"вега"}]
["трасса",1,2,3,4,5,6,7,8,9,10,11,12,13,14,15,16,17,18,19,20]
["время","00:03:04","00:03:39","00:03:06","00:01:20","00:06:52","00:04:57",null,"00:02:14",null,null,null,null,"00:02:24",null,"00:05:46"]
["штраф"]
["баллы",{"$f":"IF(B102=0,0,Z2)","v":0.69767441860465118},{"$f":"IF(C102=0,0,Z3)","v":1.0344827586206897},{"$f":"IF(D102=0,0,Z4)","v":0.76923076923076927},{"$f":"IF(E102=0,0,Z5)","v":0.76923076923076927},{"$f":"IF(F102=0,0,Z6)","v":1.6666666666666667},{"$f":"IF(G102=0,0,Z7)","v":1.3636363636363635},{"$f":"IF(H102=0,0,Z8)","v":0},{"$f":"IF(I102=0,0,Z9)","v":3.3333333333333335},{"$f":"IF(J102=0,0,Z10)","v":0},{"$f":"IF(K102=0,0,Z11)","v":0},{"$f":"IF(L102=0,0,Z12)","v":0},{"$f":"IF(M102=0,0,Z13)","v":0},{"$f":"IF(N102=0,0,Z14)","v":2.7272727272727271},{"$f":"IF(O102=0,0,Z15)","v":0},{"$f":"IF(P102=0,0,Z16)","v":1.7647058823529411},{"$f":"IF(Q102=0,0,Z17)","v":0},{"$f":"IF(R102=0,0,Z18)","v":0},{"$f":"IF(S102=0,0,Z19)","v":0},{"$f":"IF(T102=0,0,Z20)","v":0},{"$f":"IF(U102=0,0,Z21)","v":0}]
["итог время",{"$f":"SUM(B102:U103)","v":"00:33:22"},null,null,null,null,null,null,"итог баллы",null,{"$f":"SUM(B104:U104)","v":14.126233688948911}]
[]
["№",{"$f":"'Список команд'!B62","v":16},"команда",{"$f":"'Список команд'!D62:G62","v":"МЭИ"}]
["трасса",1,2,3,4,5,6,7,8,9,10,11,12,13,14,15,16,17,18,19,20]
["время","00:04:25",null,"00:03:42","00:01:54",null,null,null,"00:03:44",null,"00:01:09","00:02:30","00:08:51","00:02:33",null,"00:04:23"]
["штраф"]
["баллы",{"$f":"IF(B109=0,0,Z2)","v":0.69767441860465118},{"$f":"IF(C109=0,0,Z3)","v":0},{"$f":"IF(D109=0,0,Z4)","v":0.76923076923076927},{"$f":"IF(E109=0,0,Z5)","v":0.76923076923076927},{"$f":"IF(F109=0,0,Z6)","v":0},{"$f":"IF(G109=0,0,Z7)","v":0},{"$f":"IF(H109=0,0,Z8)","v":0},{"$f":"IF(I109=0,0,Z9)","v":3.3333333333333335},{"$f":"IF(J109=0,0,Z10)","v":0},{"$f":"IF(K109=0,0,Z11)","v":4.3478260869565215},{"$f":"IF(L109=0,0,Z12)","v":14.285714285714286},{"$f":"IF(M109=0,0,Z13)","v":5.4545454545454541},{"$f":"IF(N109=0,0,Z14)","v":2.7272727272727271},{"$f":"IF(O109=0,0,Z15)","v":0},{"$f":"IF(P109=0,0,Z16)","v":1.7647058823529411},{"$f":"IF(Q109=0,0,Z17)","v":0},{"$f":"IF(R109=0,0,Z18)","v":0},{"$f":"IF(S109=0,0,Z19)","v":0},{"$f":"IF(T109=0,0,Z20)","v":0},{"$f":"IF(U109=0,0,Z21)","v":0}]
["итог время",{"$f":"SUM(B109:U110)","v":"00:33:11"},null,null,null,null,null,null,"итог баллы",null,{"$f":"SUM(B111:U111)","v":34.149533727241455}]
[]
["№",{"$f":"'Список команд'!B66","v":17},"команда",{"$f":"'Список команд'!D66:G66","v":"ЙЫЛДЫЗ"}]
["трасса",1,2,3,4,5,6,7,8,9,10,11,12,13,14,15,16,17,18,19,20]
["время","00:01:57","00:02:35","00:03:12","00:02:23","00:06:53","00:03:58",null,"00:01:42",null,null,null,null,"00:02:36"]
["штраф"]
["баллы",{"$f":"IF(B116=0,0,Z2)","v":0.69767441860465118},{"$f":"IF(C116=0,0,Z3)","v":1.0344827586206897},{"$f":"IF(D116=0,0,Z4)","v":0.76923076923076927},{"$f":"IF(E116=0,0,Z5)","v":0.76923076923076927},{"$f":"IF(F116=0,0,Z6)","v":1.6666666666666667},{"$f":"IF(G116=0,0,Z7)","v":1.3636363636363635},{"$f":"IF(H116=0,0,Z8)","v":0},{"$f":"IF(I116=0,0,Z9)","v":3.3333333333333335},{"$f":"IF(J116=0,0,Z10)","v":0},{"$f":"IF(K116=0,0,Z11)","v":0},{"$f":"IF(L116=0,0,Z12)","v":0},{"$f":"IF(M116=0,0,Z13)","v":0},{"$f":"IF(N116=0,0,Z14)","v":2.7272727272727271},{"$f":"IF(O116=0,0,Z15)","v":0},{"$f":"IF(P116=0,0,Z16)","v":0},{"$f":"IF(Q116=0,0,Z17)","v":0},{"$f":"IF(R116=0,0,Z18)","v":0},{"$f":"IF(S116=0,0,Z19)","v":0},{"$f":"IF(T116=0,0,Z20)","v":0},{"$f":"IF(U116=0,0,Z21)","v":0}]
["итог время",{"$f":"SUM(B116:U117)","v":"00:25:16"},null,null,null,null,null,null,"итог баллы",null,{"$f":"SUM(B118:U118)","v":12.361527806595969}]
[]
["№",{"$f":"'Список команд'!B70","v":18},"команда",{"$f":"'Список команд'!D70:G70","v":"Питер1"}]
["трасса",1,2,3,4,5,6,7,8,9,10,11,12,13,14,15,16,17,18,19,20]
["время","00:02:51",null,null,null,null,"00:03:40","00:14:53",null,null,"00:02:50",null,null,"00:02:50","00:07:10","00:03:33"]
["штраф"]
["баллы",{"$f":"IF(B123=0,0,Z2)","v":0.69767441860465118},{"$f":"IF(C123=0,0,Z3)","v":0},{"$f":"IF(D123=0,0,Z4)","v":0},{"$f":"IF(E123=0,0,Z5)","v":0},{"$f":"IF(F123=0,0,Z6)","v":0},{"$f":"IF(G123=0,0,Z7)","v":1.3636363636363635},{"$f":"IF(H123=0,0,Z8)","v":8.3333333333333339},{"$f":"IF(I123=0,0,Z9)","v":0},{"$f":"IF(J123=0,0,Z10)","v":0},{"$f":"IF(K123=0,0,Z11)","v":4.3478260869565215},{"$f":"IF(L123=0,0,Z12)","v":0},{"$f":"IF(M123=0,0,Z13)","v":0},{"$f":"IF(N123=0,0,Z14)","v":2.7272727272727271},{"$f":"IF(O123=0,0,Z15)","v":12},{"$f":"IF(P123=0,0,Z16)","v":1.7647058823529411},{"$f":"IF(Q123=0,0,Z17)","v":0},{"$f":"IF(R123=0,0,Z18)","v":0},{"$f":"IF(S123=0,0,Z19)","v":0},{"$f":"IF(T123=0,0,Z20)","v":0},{"$f":"IF(U123=0,0,Z21)","v":0}]
["итог время",{"$f":"SUM(B123:U124)","v":"00:37:47"},null,null,null,null,null,null,"итог баллы",null,{"$f":"SUM(B125:U125)","v":31.23444881215654}]
[]
["№",{"$f":"'Список команд'!B74","v":19},"команда",{"$f":"'Список команд'!D74:G74","v":"Позитрон/АК МАИ"}]
["трасса",1,2,3,4,5,6,7,8,9,10,11,12,13,14,15,16,17,18,19,20]
["время","00:03:09","00:03:47","00:05:18","00:01:38","00:09:40",null,null,"00:02:21",null,null,null,null,null,null,"00:05:41"]
["штраф"]
["баллы",{"$f":"IF(B130=0,0,Z2)","v":0.69767441860465118},{"$f":"IF(C130=0,0,Z3)","v":1.0344827586206897},{"$f":"IF(D130=0,0,Z4)","v":0.76923076923076927},{"$f":"IF(E130=0,0,Z5)","v":0.76923076923076927},{"$f":"IF(F130=0,0,Z6)","v":1.6666666666666667},{"$f":"IF(G130=0,0,Z7)","v":0},{"$f":"IF(H130=0,0,Z8)","v":0},{"$f":"IF(I130=0,0,Z9)","v":3.3333333333333335},{"$f":"IF(J130=0,0,Z10)","v":0},{"$f":"IF(K130=0,0,Z11)","v":0},{"$f":"IF(L130=0,0,Z12)","v":0},{"$f":"IF(M130=0,0,Z13)","v":0},{"$f":"IF(N130=0,0,Z14)","v":0},{"$f":"IF(O130=0,0,Z15)","v":0},{"$f":"IF(P130=0,0,Z16)","v":1.7647058823529411},{"$f":"IF(Q130=0,0,Z17)","v":0},{"$f":"IF(R130=0,0,Z18)","v":0},{"$f":"IF(S130=0,0,Z19)","v":0},{"$f":"IF(T130=0,0,Z20)","v":0},{"$f":"IF(U130=0,0,Z21)","v":0}]
["итог время",{"$f":"SUM(B130:U131)","v":"00:31:34"},null,null,null,null,null,null,"итог баллы",null,{"$f":"SUM(B132:U132)","v":10.035324598039821}]
[]
["№",{"$f":"'Список команд'!B78","v":20},"команда",{"$f":"'Список команд'!D78:G78","v":"Стасон и я"}]
["трасса",1,2,3,4,5,6,7,8,9,10,11,12,13,14,15,16,17,18,19,20]
["время","00:00:53","00:01:56","00:01:56","00:01:06",null,null,"00:08:38","00:01:08","00:09:10","00:02:20","00:03:33",null,"00:03:45",null,"00:02:59"]
["штраф"]
["баллы",{"$f":"IF(B137=0,0,Z2)","v":0.69767441860465118},{"$f":"IF(C137=0,0,Z3)","v":1.0344827586206897},{"$f":"IF(D137=0,0,Z4)","v":0.76923076923076927},{"$f":"IF(E137=0,0,Z5)","v":0.76923076923076927},{"$f":"IF(F137=0,0,Z6)","v":0},{"$f":"IF(G137=0,0,Z7)","v":0},{"$f":"IF(H137=0,0,Z8)","v":8.3333333333333339},{"$f":"IF(I137=0,0,Z9)","v":3.3333333333333335},{"$f":"IF(J137=0,0,Z10)","v":20},{"$f":"IF(K137=0,0,Z11)","v":4.3478260869565215},{"$f":"IF(L137=0,0,Z12)","v":14.285714285714286},{"$f":"IF(M137=0,0,Z13)","v":0},{"$f":"IF(N137=0,0,Z14)","v":2.7272727272727271},{"$f":"IF(O137=0,0,Z15)","v":0},{"$f":"IF(P137=0,0,Z16)","v":1.7647058823529411},{"$f":"IF(Q137=0,0,Z17)","v":0},{"$f":"IF(R137=0,0,Z18)","v":0},{"$f":"IF(S137=0,0,Z19)","v":0},{"$f":"IF(T137=0,0,Z20)","v":0},{"$f":"IF(U137=0,0,Z21)","v":0}]
["итог время",{"$f":"SUM(B137:U138)","v":"00:37:24"},null,null,null,null,null,null,"итог баллы",null,{"$f":"SUM(B139:U139)","v":58.062804364650027}]
[]
["№",{"$f":"'Список команд'!B82","v":21},"команда",{"$f":"'Список команд'!D82:G82","v":"Shlang-Team-1"}]
["трасса",1,2,3,4,5,6,7,8,9,10,11,12,13,14,15,16,17,18,19,20]
["время",null,null,null,null,null,null,null,"00:02:42",null,"00:04:08",null,null,"00:03:30",null,"00:03:44"]
["штраф"]
["баллы",{"$f":"IF(B144=0,0,Z2)","v":0},{"$f":"IF(C144=0,0,Z3)","v":0},{"$f":"IF(D144=0,0,Z4)","v":0},{"$f":"IF(E144=0,0,Z5)","v":0},{"$f":"IF(F144=0,0,Z6)","v":0},{"$f":"IF(G144=0,0,Z7)","v":0},{"$f":"IF(H144=0,0,Z8)","v":0},{"$f":"IF(I144=0,0,Z9)","v":3.3333333333333335},{"$f":"IF(J144=0,0,Z10)","v":0},{"$f":"IF(K144=0,0,Z11)","v":4.3478260869565215},{"$f":"IF(L144=0,0,Z12)","v":0},{"$f":"IF(M144=0,0,Z13)","v":0},{"$f":"IF(N144=0,0,Z14)","v":2.7272727272727271},{"$f":"IF(O144=0,0,Z15)","v":0},{"$f":"IF(P144=0,0,Z16)","v":1.7647058823529411},{"$f":"IF(Q144=0,0,Z17)","v":0},{"$f":"IF(R144=0,0,Z18)","v":0},{"$f":"IF(S144=0,0,Z19)","v":0},{"$f":"IF(T144=0,0,Z20)","v":0},{"$f":"IF(U144=0,0,Z21)","v":0}]
["итог время",{"$f":"SUM(B144:U145)","v":"00:14:04"},null,null,null,null,null,null,"итог баллы",null,{"$f":"SUM(B146:U146)","v":12.173138029915524}]
[]
["№",{"$f":"'Список команд'!B86","v":22},"команда",{"$f":"'Список команд'!D86:G86","v":"Штурм"}]
["трасса",1,2,3,4,5,6,7,8,9,10,11,12,13,14,15,16,17,18,19,20]
["время"]
["штраф"]
["баллы",{"$f":"IF(B151=0,0,Z2)","v":0},{"$f":"IF(C151=0,0,Z3)","v":0},{"$f":"IF(D151=0,0,Z4)","v":0},{"$f":"IF(E151=0,0,Z5)","v":0},{"$f":"IF(F151=0,0,Z6)","v":0},{"$f":"IF(G151=0,0,Z7)","v":0},{"$f":"IF(H151=0,0,Z8)","v":0},{"$f":"IF(I151=0,0,Z9)","v":0},{"$f":"IF(J151=0,0,Z10)","v":0},{"$f":"IF(K151=0,0,Z11)","v":0},{"$f":"IF(L151=0,0,Z12)","v":0},{"$f":"IF(M151=0,0,Z13)","v":0},{"$f":"IF(N151=0,0,Z14)","v":0},{"$f":"IF(O151=0,0,Z15)","v":0},{"$f":"IF(P151=0,0,Z16)","v":0},{"$f":"IF(Q151=0,0,Z17)","v":0},{"$f":"IF(R151=0,0,Z18)","v":0},{"$f":"IF(S151=0,0,Z19)","v":0},{"$f":"IF(T151=0,0,Z20)","v":0},{"$f":"IF(U151=0,0,Z21)","v":0}]
["итог время",{"$f":"SUM(B151:U152)","v":"00:00:00"},null,null,null,null,null,null,"итог баллы",null,{"$f":"SUM(B153:U153)","v":0}]
[]
["№",{"$f":"'Список команд'!B90","v":23},"команда",{"$f":"'Список команд'!D90:G90","v":"Воронеж"}]
["трасса",1,2,3,4,5,6,7,8,9,10,11,12,13,14,15,16,17,18,19,20]
["время","00:02:04","00:02:58",null,"00:03:20","00:08:50",null,"00:15:20","00:04:02",null,null,null,null,"00:04:37"]
["штраф"]
["баллы",{"$f":"IF(B158=0,0,Z2)","v":0.69767441860465118},{"$f":"IF(C158=0,0,Z3)","v":1.0344827586206897},{"$f":"IF(D158=0,0,Z4)","v":0},{"$f":"IF(E158=0,0,Z5)","v":0.76923076923076927},{"$f":"IF(F158=0,0,Z6)","v":1.6666666666666667},{"$f":"IF(G158=0,0,Z7)","v":0},{"$f":"IF(H158=0,0,Z8)","v":8.3333333333333339},{"$f":"IF(I158=0,0,Z9)","v":3.3333333333333335},{"$f":"IF(J158=0,0,Z10)","v":0},{"$f":"IF(K158=0,0,Z11)","v":0},{"$f":"IF(L158=0,0,Z12)","v":0},{"$f":"IF(M158=0,0,Z13)","v":0},{"$f":"IF(N158=0,0,Z14)","v":2.7272727272727271},{"$f":"IF(O158=0,0,Z15)","v":0},{"$f":"IF(P158=0,0,Z16)","v":0},{"$f":"IF(Q158=0,0,Z17)","v":0},{"$f":"IF(R158=0,0,Z18)","v":0},{"$f":"IF(S158=0,0,Z19)","v":0},{"$f":"IF(T158=0,0,Z20)","v":0},{"$f":"IF(U158=0,0,Z21)","v":0}]
["итог время",{"$f":"SUM(B158:U159)","v":"00:41:11"},null,null,null,null,null,null,"итог баллы",null,{"$f":"SUM(B160:U160)","v":18.561994007062172}]
[]
["№",{"$f":"'Список команд'!B94","v":24},"команда",{"$f":"'Список команд'!D94:G94","v":"Мэи"}]
["трасса",1,2,3,4,5,6,7,8,9,10,11,12,13,14,15,16,17,18,19,20]
["время",null,"00:02:39",null,null,null,null,null,"00:02:39",null,"00:03:32",null,null,"00:03:13",null,"00:04:11"]
["штраф"]
["баллы",{"$f":"IF(B165=0,0,Z2)","v":0},{"$f":"IF(C165=0,0,Z3)","v":1.0344827586206897},{"$f":"IF(D165=0,0,Z4)","v":0},{"$f":"IF(E165=0,0,Z5)","v":0},{"$f":"IF(F165=0,0,Z6)","v":0},{"$f":"IF(G165=0,0,Z7)","v":0},{"$f":"IF(H165=0,0,Z8)","v":0},{"$f":"IF(I165=0,0,Z9)","v":3.3333333333333335},{"$f":"IF(J165=0,0,Z10)","v":0},{"$f":"IF(K165=0,0,Z11)","v":4.3478260869565215},{"$f":"IF(L165=0,0,Z12)","v":0},{"$f":"IF(M165=0,0,Z13)","v":0},{"$f":"IF(N165=0,0,Z14)","v":2.7272727272727271},{"$f":"IF(O165=0,0,Z15)","v":0},{"$f":"IF(P165=0,0,Z16)","v":1.7647058823529411},{"$f":"IF(Q165=0,0,Z17)","v":0},{"$f":"IF(R165=0,0,Z18)","v":0},{"$f":"IF(S165=0,0,Z19)","v":0},{"$f":"IF(T165=0,0,Z20)","v":0},{"$f":"IF(U165=0,0,Z21)","v":0}]
["итог время",{"$f":"SUM(B165:U166)","v":"00:16:14"},null,null,null,null,null,null,"итог баллы",null,{"$f":"SUM(B167:U167)","v":13.207620788536214}]
[]
["№",{"$f":"'Список команд'!B98","v":25},"команда",{"$f":"'Список команд'!D98:G98","v":" МЭИ-1"}]
["трасса",1,2,3,4,5,6,7,8,9,10,11,12,13,14,15,16,17,18,19,20]
["время",null,null,null,null,"00:05:52",null,null,"00:02:29",null,"00:02:24",null,"00:03:18",null,null,"00:02:56"]
["штраф"]
["баллы",{"$f":"IF(B172=0,0,Z2)","v":0},{"$f":"IF(C172=0,0,Z3)","v":0},{"$f":"IF(D172=0,0,Z4)","v":0},{"$f":"IF(E172=0,0,Z5)","v":0},{"$f":"IF(F172=0,0,Z6)","v":1.6666666666666667},{"$f":"IF(G172=0,0,Z7)","v":0},{"$f":"IF(H172=0,0,Z8)","v":0},{"$f":"IF(I172=0,0,Z9)","v":3.3333333333333335},{"$f":"IF(J172=0,0,Z10)","v":0},{"$f":"IF(K172=0,0,Z11)","v":4.3478260869565215},{"$f":"IF(L172=0,0,Z12)","v":0},{"$f":"IF(M172=0,0,Z13)","v":5.4545454545454541},{"$f":"IF(N172=0,0,Z14)","v":0},{"$f":"IF(O172=0,0,Z15)","v":0},{"$f":"IF(P172=0,0,Z16)","v":1.7647058823529411},{"$f":"IF(Q172=0,0,Z17)","v":0},{"$f":"IF(R172=0,0,Z18)","v":0},{"$f":"IF(S172=0,0,Z19)","v":0},{"$f":"IF(T172=0,0,Z20)","v":0},{"$f":"IF(U172=0,0,Z21)","v":0}]
["итог время",{"$f":"SUM(B172:U173)","v":"00:16:59"},null,null,null,null,null,null,"итог баллы",null,{"$f":"SUM(B174:U174)","v":16.567077423854919}]
[]
["№",{"$f":"'Список команд'!B102","v":26},"команда",{"$f":"'Список команд'!D102:G102","v":"а/к МГУ"}]
["трасса",1,2,3,4,5,6,7,8,9,10,11,12,13,14,15,16,17,18,19,20]
["время",null,null,null,null,null,null,"00:11:17","00:03:52","00:11:48","00:02:19","00:12:52","00:09:51","00:04:15","00:04:51","00:02:24"]
["штраф"]
["баллы",{"$f":"IF(B179=0,0,Z2)","v":0},{"$f":"IF(C179=0,0,Z3)","v":0},{"$f":"IF(D179=0,0,Z4)","v":0},{"$f":"IF(E179=0,0,Z5)","v":0},{"$f":"IF(F179=0,0,Z6)","v":0},{"$f":"IF(G179=0,0,Z7)","v":0},{"$f":"IF(H179=0,0,Z8)","v":8.3333333333333339},{"$f":"IF(I179=0,0,Z9)","v":3.3333333333333335},{"$f":"IF(J179=0,0,Z10)","v":20},{"$f":"IF(K179=0,0,Z11)","v":4.3478260869565215},{"$f":"IF(L179=0,0,Z12)","v":14.285714285714286},{"$f":"IF(M179=0,0,Z13)","v":5.4545454545454541},{"$f":"IF(N179=0,0,Z14)","v":2.7272727272727271},{"$f":"IF(O179=0,0,Z15)","v":12},{"$f":"IF(P179=0,0,Z16)","v":1.7647058823529411},{"$f":"IF(Q179=0,0,Z17)","v":0},{"$f":"IF(R179=0,0,Z18)","v":0},{"$f":"IF(S179=0,0,Z19)","v":0},{"$f":"IF(T179=0,0,Z20)","v":0},{"$f":"IF(U179=0,0,Z21)","v":0}]
["итог время",{"$f":"SUM(B179:U180)","v":"01:03:29"},null,null,null,null,null,null,"итог баллы",null,{"$f":"SUM(B181:U181)","v":72.246731103508594}]
[]
["№",{"$f":"'Список команд'!B106","v":27},"команда",{"$f":"'Список команд'!D106:G106","v":"МГУ-СПЕЛЕО"}]
["трасса",1,2,3,4,5,6,7,8,9,10,11,12,13,14,15,16,17,18,19,20]
["время"]
["штраф"]
["баллы",{"$f":"IF(B186=0,0,Z2)","v":0},{"$f":"IF(C186=0,0,Z3)","v":0},{"$f":"IF(D186=0,0,Z4)","v":0},{"$f":"IF(E186=0,0,Z5)","v":0},{"$f":"IF(F186=0,0,Z6)","v":0},{"$f":"IF(G186=0,0,Z7)","v":0},{"$f":"IF(H186=0,0,Z8)","v":0},{"$f":"IF(I186=0,0,Z9)","v":0},{"$f":"IF(J186=0,0,Z10)","v":0},{"$f":"IF(K186=0,0,Z11)","v":0},{"$f":"IF(L186=0,0,Z12)","v":0},{"$f":"IF(M186=0,0,Z13)","v":0},{"$f":"IF(N186=0,0,Z14)","v":0},{"$f":"IF(O186=0,0,Z15)","v":0},{"$f":"IF(P186=0,0,Z16)","v":0},{"$f":"IF(Q186=0,0,Z17)","v":0},{"$f":"IF(R186=0,0,Z18)","v":0},{"$f":"IF(S186=0,0,Z19)","v":0},{"$f":"IF(T186=0,0,Z20)","v":0},{"$f":"IF(U186=0,0,Z21)","v":0}]
["итог время",{"$f":"SUM(B186:U187)","v":"00:00:00"},null,null,null,null,null,null,"итог баллы",null,{"$f":"SUM(B188:U188)","v":0}]
[]
["№",{"$f":"'Список команд'!B110","v":28},"команда",{"$f":"'Список команд'!D110:G110","v":"Воронеж-6"}]
["трасса",1,2,3,4,5,6,7,8,9,10,11,12,13,14,15,16,17,18,19,20]
["время","00:02:40","00:03:32","00:04:24","00:01:38",null,"00:08:55",null,null,null,null,null,null,"00:04:27"]
["штраф"]
["баллы",{"$f":"IF(B193=0,0,Z2)","v":0.69767441860465118},{"$f":"IF(C193=0,0,Z3)","v":1.0344827586206897},{"$f":"IF(D193=0,0,Z4)","v":0.76923076923076927},{"$f":"IF(E193=0,0,Z5)","v":0.76923076923076927},{"$f":"IF(F193=0,0,Z6)","v":0},{"$f":"IF(G193=0,0,Z7)","v":1.3636363636363635},{"$f":"IF(H193=0,0,Z8)","v":0},{"$f":"IF(I193=0,0,Z9)","v":0},{"$f":"IF(J193=0,0,Z10)","v":0},{"$f":"IF(K193=0,0,Z11)","v":0},{"$f":"IF(L193=0,0,Z12)","v":0},{"$f":"IF(M193=0,0,Z13)","v":0},{"$f":"IF(N193=0,0,Z14)","v":2.7272727272727271},{"$f":"IF(O193=0,0,Z15)","v":0},{"$f":"IF(P193=0,0,Z16)","v":0},{"$f":"IF(Q193=0,0,Z17)","v":0},{"$f":"IF(R193=0,0,Z18)","v":0},{"$f":"IF(S193=0,0,Z19)","v":0},{"$f":"IF(T193=0,0,Z20)","v":0},{"$f":"IF(U193=0,0,Z21)","v":0}]
["итог время",{"$f":"SUM(B193:U194)","v":"00:25:36"},null,null,null,null,null,null,"итог баллы",null,{"$f":"SUM(B195:U195)","v":7.3615278065959693}]
[]
["№",{"$f":"'Список команд'!B114","v":29},"команда",{"$f":"'Список команд'!D114:G114","v":"КАиС МЭИ"}]
["трасса",1,2,3,4,5,6,7,8,9,10,11,12,13,14,15,16,17,18,19,20]
["время"]
["штраф"]
["баллы",{"$f":"IF(B200=0,0,Z2)","v":0},{"$f":"IF(C200=0,0,Z3)","v":0},{"$f":"IF(D200=0,0,Z4)","v":0},{"$f":"IF(E200=0,0,Z5)","v":0},{"$f":"IF(F200=0,0,Z6)","v":0},{"$f":"IF(G200=0,0,Z7)","v":0},{"$f":"IF(H200=0,0,Z8)","v":0},{"$f":"IF(I200=0,0,Z9)","v":0},{"$f":"IF(J200=0,0,Z10)","v":0},{"$f":"IF(K200=0,0,Z11)","v":0},{"$f":"IF(L200=0,0,Z12)","v":0},{"$f":"IF(M200=0,0,Z13)","v":0},{"$f":"IF(N200=0,0,Z14)","v":0},{"$f":"IF(O200=0,0,Z15)","v":0},{"$f":"IF(P200=0,0,Z16)","v":0},{"$f":"IF(Q200=0,0,Z17)","v":0},{"$f":"IF(R200=0,0,Z18)","v":0},{"$f":"IF(S200=0,0,Z19)","v":0},{"$f":"IF(T200=0,0,Z20)","v":0},{"$f":"IF(U200=0,0,Z21)","v":0}]
["итог время",{"$f":"SUM(B200:U201)","v":"00:00:00"},null,null,null,null,null,null,"итог баллы",null,{"$f":"SUM(B202:U202)","v":0}]
[]
["№",{"$f":"'Список команд'!B118","v":30},"команда",{"$f":"'Список команд'!D118:G118","v":"Академия Приключений"}]
["трасса",1,2,3,4,5,6,7,8,9,10,11,12,13,14,15,16,17,18,19,20]
["время","00:01:16","00:04:59","00:03:18","00:00:35",null,"00:03:25",null,null,null,"00:02:28",null,null,null,null,"00:04:00"]
["штраф"]
["баллы",{"$f":"IF(B207=0,0,Z2)","v":0.69767441860465118},{"$f":"IF(C207=0,0,Z3)","v":1.0344827586206897},{"$f":"IF(D207=0,0,Z4)","v":0.76923076923076927},{"$f":"IF(E207=0,0,Z5)","v":0.76923076923076927},{"$f":"IF(F207=0,0,Z6)","v":0},{"$f":"IF(G207=0,0,Z7)","v":1.3636363636363635},{"$f":"IF(H207=0,0,Z8)","v":0},{"$f":"IF(I207=0,0,Z9)","v":0},{"$f":"IF(J207=0,0,Z10)","v":0},{"$f":"IF(K207=0,0,Z11)","v":4.3478260869565215},{"$f":"IF(L207=0,0,Z12)","v":0},{"$f":"IF(M207=0,0,Z13)","v":0},{"$f":"IF(N207=0,0,Z14)","v":0},{"$f":"IF(O207=0,0,Z15)","v":0},{"$f":"IF(P207=0,0,Z16)","v":1.7647058823529411},{"$f":"IF(Q207=0,0,Z17)","v":0},{"$f":"IF(R207=0,0,Z18)","v":0},{"$f":"IF(S207=0,0,Z19)","v":0},{"$f":"IF(T207=0,0,Z20)","v":0},{"$f":"IF(U207=0,0,Z21)","v":0}]
["итог время",{"$f":"SUM(B207:U208)","v":"00:20:01"},null,null,null,null,null,null,"итог баллы",null,{"$f":"SUM(B209:U209)","v":10.746787048632704}]
[]
["№",{"$f":"'Список команд'!B122","v":31},"команда",{"$f":"'Список команд'!D122:G122","v":"МакГУ"}]
["трасса",1,2,3,4,5,6,7,8,9,10,11,12,13,14,15,16,17,18,19,20]
["время","00:02:16","00:02:58","00:03:55","00:02:25","00:07:25","00:06:33",null,"00:02:40",null,"00:02:57",null,null,"00:04:39",null,"00:05:13"]
["штраф"]
["баллы",{"$f":"IF(B214=0,0,Z2)","v":0.69767441860465118},{"$f":"IF(C214=0,0,Z3)","v":1.0344827586206897},{"$f":"IF(D214=0,0,Z4)","v":0.76923076923076927},{"$f":"IF(E214=0,0,Z5)","v":0.76923076923076927},{"$f":"IF(F214=0,0,Z6)","v":1.6666666666666667},{"$f":"IF(G214=0,0,Z7)","v":1.3636363636363635},{"$f":"IF(H214=0,0,Z8)","v":0},{"$f":"IF(I214=0,0,Z9)","v":3.3333333333333335},{"$f":"IF(J214=0,0,Z10)","v":0},{"$f":"IF(K214=0,0,Z11)","v":4.3478260869565215},{"$f":"IF(L214=0,0,Z12)","v":0},{"$f":"IF(M214=0,0,Z13)","v":0},{"$f":"IF(N214=0,0,Z14)","v":2.7272727272727271},{"$f":"IF(O214=0,0,Z15)","v":0},{"$f":"IF(P214=0,0,Z16)","v":1.7647058823529411},{"$f":"IF(Q214=0,0,Z17)","v":0},{"$f":"IF(R214=0,0,Z18)","v":0},{"$f":"IF(S214=0,0,Z19)","v":0},{"$f":"IF(T214=0,0,Z20)","v":0},{"$f":"IF(U214=0,0,Z21)","v":0}]
["итог время",{"$f":"SUM(B214:U215)","v":"00:41:01"},null,null,null,null,null,null,"итог баллы",null,{"$f":"SUM(B216:U216)","v":18.474059775905435}]
[]
["№",{"$f":"'Список команд'!B126","v":32},"команда",{"$f":"'Список команд'!D126:G126","v":"Black Ice"}]
["трасса",1,2,3,4,5,6,7,8,9,10,11,12,13,14,15,16,17,18,19,20]
["время","00:02:31","00:02:09","00:03:12","00:02:44","00:07:25","00:04:46",null,null,null,null,null,null,null,null,"00:04:33"]
["штраф"]
["баллы",{"$f":"IF(B221=0,0,Z2)","v":0.69767441860465118},{"$f":"IF(C221=0,0,Z3)","v":1.0344827586206897},{"$f":"IF(D221=0,0,Z4)","v":0.76923076923076927},{"$f":"IF(E221=0,0,Z5)","v":0.76923076923076927},{"$f":"IF(F221=0,0,Z6)","v":1.6666666666666667},{"$f":"IF(G221=0,0,Z7)","v":1.3636363636363635},{"$f":"IF(H221=0,0,Z8)","v":0},{"$f":"IF(I221=0,0,Z9)","v":0},{"$f":"IF(J221=0,0,Z10)","v":0},{"$f":"IF(K221=0,0,Z11)","v":0},{"$f":"IF(L221=0,0,Z12)","v":0},{"$f":"IF(M221=0,0,Z13)","v":0},{"$f":"IF(N221=0,0,Z14)","v":0},{"$f":"IF(O221=0,0,Z15)","v":0},{"$f":"IF(P221=0,0,Z16)","v":1.7647058823529411},{"$f":"IF(Q221=0,0,Z17)","v":0},{"$f":"IF(R221=0,0,Z18)","v":0},{"$f":"IF(S221=0,0,Z19)","v":0},{"$f":"IF(T221=0,0,Z20)","v":0},{"$f":"IF(U221=0,0,Z21)","v":0}]
["итог время",{"$f":"SUM(B221:U222)","v":"00:27:20"},null,null,null,null,null,null,"итог баллы",null,{"$f":"SUM(B223:U223)","v":8.0656276283428507}]
[]
["№",{"$f":"'Список команд'!B130","v":33},"команда",{"$f":"'Список команд'!D130:G130","v":"Енотовидные коты"}]
["трасса",1,2,3,4,5,6,7,8,9,10,11,12,13,14,15,16,17,18,19,20]
["время","00:03:45","00:03:02","00:03:21","00:02:25",null,"00:04:02","00:15:30","00:02:46",null,"00:04:05",null,"00:12:00","00:03:31",null,"00:03:56"]
["штраф"]
["баллы",{"$f":"IF(B228=0,0,Z2)","v":0.69767441860465118},{"$f":"IF(C228=0,0,Z3)","v":1.0344827586206897},{"$f":"IF(D228=0,0,Z4)","v":0.76923076923076927},{"$f":"IF(E228=0,0,Z5)","v":0.76923076923076927},{"$f":"IF(F228=0,0,Z6)","v":0},{"$f":"IF(G228=0,0,Z7)","v":1.3636363636363635},{"$f":"IF(H228=0,0,Z8)","v":8.3333333333333339},{"$f":"IF(I228=0,0,Z9)","v":3.3333333333333335},{"$f":"IF(J228=0,0,Z10)","v":0},{"$f":"IF(K228=0,0,Z11)","v":4.3478260869565215},{"$f":"IF(L228=0,0,Z12)","v":0},{"$f":"IF(M228=0,0,Z13)","v":5.4545454545454541},{"$f":"IF(N228=0,0,Z14)","v":2.7272727272727271},{"$f":"IF(O228=0,0,Z15)","v":0},{"$f":"IF(P228=0,0,Z16)","v":1.7647058823529411},{"$f":"IF(Q228=0,0,Z17)","v":0},{"$f":"IF(R228=0,0,Z18)","v":0},{"$f":"IF(S228=0,0,Z19)","v":0},{"$f":"IF(T228=0,0,Z20)","v":0},{"$f":"IF(U228=0,0,Z21)","v":0}]
["итог время",{"$f":"SUM(B228:U229)","v":"00:58:23"},null,null,null,null,null,null,"итог баллы",null,{"$f":"SUM(B230:U230)","v":30.595271897117556}]
[]
["№",{"$f":"'Список команд'!B134","v":34},"команда",{"$f":"'Список команд'!D134:G134","v":"verticalwork"}]
["трасса",1,2,3,4,5,6,7,8,9,10,11,12,13,14,15,16,17,18,19,20]
["время","00:01:04","00:02:14","00:01:50","00:01:09",null,null,"00:07:50","00:01:03","00:07:22","00:01:42","00:01:53","00:05:51","00:01:59","00:03:53","00:01:57"]
["штраф"]
["баллы",{"$f":"IF(B235=0,0,Z2)","v":0.69767441860465118},{"$f":"IF(C235=0,0,Z3)","v":1.0344827586206897},{"$f":"IF(D235=0,0,Z4)","v":0.76923076923076927},{"$f":"IF(E235=0,0,Z5)","v":0.76923076923076927},{"$f":"IF(F235=0,0,Z6)","v":0},{"$f":"IF(G235=0,0,Z7)","v":0},{"$f":"IF(H235=0,0,Z8)","v":8.3333333333333339},{"$f":"IF(I235=0,0,Z9)","v":3.3333333333333335},{"$f":"IF(J235=0,0,Z10)","v":20},{"$f":"IF(K235=0,0,Z11)","v":4.3478260869565215},{"$f":"IF(L235=0,0,Z12)","v":14.285714285714286},{"$f":"IF(M235=0,0,Z13)","v":5.4545454545454541},{"$f":"IF(N235=0,0,Z14)","v":2.7272727272727271},{"$f":"IF(O235=0,0,Z15)","v":12},{"$f":"IF(P235=0,0,Z16)","v":1.7647058823529411},{"$f":"IF(Q235=0,0,Z17)","v":0},{"$f":"IF(R235=0,0,Z18)","v":0},{"$f":"IF(S235=0,0,Z19)","v":0},{"$f":"IF(T235=0,0,Z20)","v":0},{"$f":"IF(U235=0,0,Z21)","v":0}]
["итог время",{"$f":"SUM(B235:U236)","v":"00:39:47"},null,null,null,null,null,null,"итог баллы",null,{"$f":"SUM(B237:U237)","v":75.517349819195474}]
[]
["№",{"$f":"'Список команд'!B138","v":35},"команда",{"$f":"'Список команд'!D138:G138","v":"Демо ошибка"}]
["трасса",1,2,3,4,5,6,7,8,9,10,11,12,13,14,15,16,17,18,19,20]
["время","00:04:38","00:04:04","00:04:26","00:02:30","00:06:49","00:04:02",null,null,null,null,null,null,null,null,"00:05:01"]
["штраф"]
["баллы",{"$f":"IF(B242=0,0,Z2)","v":0.69767441860465118},{"$f":"IF(C242=0,0,Z3)","v":1.0344827586206897},{"$f":"IF(D242=0,0,Z4)","v":0.76923076923076927},{"$f":"IF(E242=0,0,Z5)","v":0.76923076923076927},{"$f":"IF(F242=0,0,Z6)","v":1.6666666666666667},{"$f":"IF(G242=0,0,Z7)","v":1.3636363636363635},{"$f":"IF(H242=0,0,Z8)","v":0},{"$f":"IF(I242=0,0,Z9)","v":0},{"$f":"IF(J242=0,0,Z10)","v":0},{"$f":"IF(K242=0,0,Z11)","v":0},{"$f":"IF(L242=0,0,Z12)","v":0},{"$f":"IF(M242=0,0,Z13)","v":0},{"$f":"IF(N242=0,0,Z14)","v":0},{"$f":"IF(O242=0,0,Z15)","v":0},{"$f":"IF(P242=0,0,Z16)","v":1.7647058823529411},{"$f":"IF(Q242=0,0,Z17)","v":0},{"$f":"IF(R242=0,0,Z18)","v":0},{"$f":"IF(S242=0,0,Z19)","v":0},{"$f":"IF(T242=0,0,Z20)","v":0},{"$f":"IF(U242=0,0,Z21)","v":0}]
["итог время",{"$f":"SUM(B242:U243)","v":"00:31:30"},null,null,null,null,null,null,"итог баллы",null,{"$f":"SUM(B244:U244)","v":8.0656276283428507}]
[]
["№",{"$f":"'Список команд'!B142","v":36},"команда",{"$f":"'Список команд'!D142:G142","v":"КАиС МЭИ"}]
["трасса",1,2,3,4,5,6,7,8,9,10,11,12,13,14,15,16,17,18,19,20]
["время","00:04:22","00:04:58","00:02:38","00:01:30","00:06:41","00:03:56",null,"0::03:11",null,null,null,null,null,null,"00:03:16"]
["штраф"]
["баллы",{"$f":"IF(B249=0,0,Z2)","v":0.69767441860465118},{"$f":"IF(C249=0,0,Z3)","v":1.0344827586206897},{"$f":"IF(D249=0,0,Z4)","v":0.76923076923076927},{"$f":"IF(E249=0,0,Z5)","v":0.76923076923076927},{"$f":"IF(F249=0,0,Z6)","v":1.6666666666666667},{"$f":"IF(G249=0,0,Z7)","v":1.3636363636363635},{"$f":"IF(H249=0,0,Z8)","v":0},{"$f":"IF(I249=0,0,Z9)","v":3.3333333333333335},{"$f":"IF(J249=0,0,Z10)","v":0},{"$f":"IF(K249=0,0,Z11)","v":0},{"$f":"IF(L249=0,0,Z12)","v":0},{"$f":"IF(M249=0,0,Z13)","v":0},{"$f":"IF(N249=0,0,Z14)","v":0},{"$f":"IF(O249=0,0,Z15)","v":0},{"$f":"IF(P249=0,0,Z16)","v":1.7647058823529411},{"$f":"IF(Q249=0,0,Z17)","v":0},{"$f":"IF(R249=0,0,Z18)","v":0},{"$f":"IF(S249=0,0,Z19)","v":0},{"$f":"IF(T249=0,0,Z20)","v":0},{"$f":"IF(U249=0,0,Z21)","v":0}]
["итог время",{"$f":"SUM(B249:U250)","v":"00:27:21"},null,null,null,null,null,null,"итог баллы",null,{"$f":"SUM(B251:U251)","v":11.398960961676185}]
[]
["№",{"$f":"'Список команд'!B146","v":37},"команда",{"$f":"'Список команд'!D146:G146","v":"БаранМартын"}]
["трасса",1,2,3,4,5,6,7,8,9,10,11,12,13,14,15,16,17,18,19,20]
["время","00:03:07",null,"00:03:52","00:00:54",null,"00:02:53",null,null,null,null,null,null,null,null,"00:02:44"]
["штраф"]
["баллы",{"$f":"IF(B256=0,0,Z2)","v":0.69767441860465118},{"$f":"IF(C256=0,0,Z3)","v":0},{"$f":"IF(D256=0,0,Z4)","v":0.76923076923076927},{"$f":"IF(E256=0,0,Z5)","v":0.76923076923076927},{"$f":"IF(F256=0,0,Z6)","v":0},{"$f":"IF(G256=0,0,Z7)","v":1.3636363636363635},{"$f":"IF(H256=0,0,Z8)","v":0},{"$f":"IF(I256=0,0,Z9)","v":0},{"$f":"IF(J256=0,0,Z10)","v":0},{"$f":"IF(K256=0,0,Z11)","v":0},{"$f":"IF(L256=0,0,Z12)","v":0},{"$f":"IF(M256=0,0,Z13)","v":0},{"$f":"IF(N256=0,0,Z14)","v":0},{"$f":"IF(O256=0,0,Z15)","v":0},{"$f":"IF(P256=0,0,Z16)","v":1.7647058823529411},{"$f":"IF(Q256=0,0,Z17)","v":0},{"$f":"IF(R256=0,0,Z18)","v":0},{"$f":"IF(S256=0,0,Z19)","v":0},{"$f":"IF(T256=0,0,Z20)","v":0},{"$f":"IF(U256=0,0,Z21)","v":0}]
["итог время",{"$f":"SUM(B256:U257)","v":"00:13:30"},null,null,null,null,null,null,"итог баллы",null,{"$f":"SUM(B258:U258)","v":5.3644782030554943}]
[]
["№",{"$f":"'Список команд'!B150","v":38},"команда",{"$f":"'Список команд'!D150:G150","v":"МГУ-спелео"}]
["трасса",1,2,3,4,5,6,7,8,9,10,11,12,13,14,15,16,17,18,19,20]
["время",null,null,"00:04:19","00:02:00"]
["штраф"]
["баллы",{"$f":"IF(B263=0,0,Z2)","v":0},{"$f":"IF(C263=0,0,Z3)","v":0},{"$f":"IF(D263=0,0,Z4)","v":0.76923076923076927},{"$f":"IF(E263=0,0,Z5)","v":0.76923076923076927},{"$f":"IF(F263=0,0,Z6)","v":0},{"$f":"IF(G263=0,0,Z7)","v":0},{"$f":"IF(H263=0,0,Z8)","v":0},{"$f":"IF(I263=0,0,Z9)","v":0},{"$f":"IF(J263=0,0,Z10)","v":0},{"$f":"IF(K263=0,0,Z11)","v":0},{"$f":"IF(L263=0,0,Z12)","v":0},{"$f":"IF(M263=0,0,Z13)","v":0},{"$f":"IF(N263=0,0,Z14)","v":0},{"$f":"IF(O263=0,0,Z15)","v":0},{"$f":"IF(P263=0,0,Z16)","v":0},{"$f":"IF(Q263=0,0,Z17)","v":0},{"$f":"IF(R263=0,0,Z18)","v":0},{"$f":"IF(S263=0,0,Z19)","v":0},{"$f":"IF(T263=0,0,Z20)","v":0},{"$f":"IF(U263=0,0,Z21)","v":0}]
["итог время",{"$f":"SUM(B263:U264)","v":"00:06:19"},null,null,null,null,null,null,"итог баллы",null,{"$f":"SUM(B265:U265)","v":1.5384615384615385}]
[]
["№",{"$f":"'Список команд'!B154","v":39},"команда",{"$f":"'Список команд'!D154:G154","v":"Patagonia"}]
["трасса",1,2,3,4,5,6,7,8,9,10,11,12,13,14,15,16,17,18,19,20]
["время","00:02:03","00:04:06","00:05:18","00:02:00","00:08:44","00:04:07",null,"00:02:08",null,null,null,null,null,null,"00:03:29"]
["штраф"]
["баллы",{"$f":"IF(B270=0,0,Z2)","v":0.69767441860465118},{"$f":"IF(C270=0,0,Z3)","v":1.0344827586206897},{"$f":"IF(D270=0,0,Z4)","v":0.76923076923076927},{"$f":"IF(E270=0,0,Z5)","v":0.76923076923076927},{"$f":"IF(F270=0,0,Z6)","v":1.6666666666666667},{"$f":"IF(G270=0,0,Z7)","v":1.3636363636363635},{"$f":"IF(H270=0,0,Z8)","v":0},{"$f":"IF(I270=0,0,Z9)","v":3.3333333333333335},{"$f":"IF(J270=0,0,Z10)","v":0},{"$f":"IF(K270=0,0,Z11)","v":0},{"$f":"IF(L270=0,0,Z12)","v":0},{"$f":"IF(M270=0,0,Z13)","v":0},{"$f":"IF(N270=0,0,Z14)","v":0},{"$f":"IF(O270=0,0,Z15)","v":0},{"$f":"IF(P270=0,0,Z16)","v":1.7647058823529411},{"$f":"IF(Q270=0,0,Z17)","v":0},{"$f":"IF(R270=0,0,Z18)","v":0},{"$f":"IF(S270=0,0,Z19)","v":0},{"$f":"IF(T270=0,0,Z20)","v":0},{"$f":"IF(U270=0,0,Z21)","v":0}]
["итог время",{"$f":"SUM(B270:U271)","v":"00:31:55"},null,null,null,null,null,null,"итог баллы",null,{"$f":"SUM(B272:U272)","v":11.398960961676185}]
[]
["№",{"$f":"'Список команд'!B158","v":40},"команда",{"$f":"'Список команд'!D158:G158","v":"МГСУ-3"}]
["трасса",1,2,3,4,5,6,7,8,9,10,11,12,13,14,15,16,17,18,19,20]
["время","00:03:14","00:02:11","00:05:58","00:02:34"]
["штраф"]
["баллы",{"$f":"IF(B277=0,0,Z2)","v":0.69767441860465118},{"$f":"IF(C277=0,0,Z3)","v":1.0344827586206897},{"$f":"IF(D277=0,0,Z4)","v":0.76923076923076927},{"$f":"IF(E277=0,0,Z5)","v":0.76923076923076927},{"$f":"IF(F277=0,0,Z6)","v":0},{"$f":"IF(G277=0,0,Z7)","v":0},{"$f":"IF(H277=0,0,Z8)","v":0},{"$f":"IF(I277=0,0,Z9)","v":0},{"$f":"IF(J277=0,0,Z10)","v":0},{"$f":"IF(K277=0,0,Z11)","v":0},{"$f":"IF(L277=0,0,Z12)","v":0},{"$f":"IF(M277=0,0,Z13)","v":0},{"$f":"IF(N277=0,0,Z14)","v":0},{"$f":"IF(O277=0,0,Z15)","v":0},{"$f":"IF(P277=0,0,Z16)","v":0},{"$f":"IF(Q277=0,0,Z17)","v":0},{"$f":"IF(R277=0,0,Z18)","v":0},{"$f":"IF(S277=0,0,Z19)","v":0},{"$f":"IF(T277=0,0,Z20)","v":0},{"$f":"IF(U277=0,0,Z21)","v":0}]
["итог время",{"$f":"SUM(B277:U278)","v":"00:13:57"},null,null,null,null,null,null,"итог баллы",null,{"$f":"SUM(B279:U279)","v":3.2706187156868793}]
[]
["№",{"$f":"'Список команд'!B162","v":41},"команда",{"$f":"'Список команд'!D162:G162","v":"промальпсоюз"}]
["трасса",1,2,3,4,5,6,7,8,9,10,11,12,13,14,15,16,17,18,19,20]
["время","00:01:25",null,null,null,null,null,"00:13:49","00:02:06",null,"00:02:56",null,null,null,"00:07:17","00:03:37"]
["штраф"]
["баллы",{"$f":"IF(B284=0,0,Z2)","v":0.69767441860465118},{"$f":"IF(C284=0,0,Z3)","v":0},{"$f":"IF(D284=0,0,Z4)","v":0},{"$f":"IF(E284=0,0,Z5)","v":0},{"$f":"IF(F284=0,0,Z6)","v":0},{"$f":"IF(G284=0,0,Z7)","v":0},{"$f":"IF(H284=0,0,Z8)","v":8.3333333333333339},{"$f":"IF(I284=0,0,Z9)","v":3.3333333333333335},{"$f":"IF(J284=0,0,Z10)","v":0},{"$f":"IF(K284=0,0,Z11)","v":4.3478260869565215},{"$f":"IF(L284=0,0,Z12)","v":0},{"$f":"IF(M284=0,0,Z13)","v":0},{"$f":"IF(N284=0,0,Z14)","v":0},{"$f":"IF(O284=0,0,Z15)","v":12},{"$f":"IF(P284=0,0,Z16)","v":1.7647058823529411},{"$f":"IF(Q284=0,0,Z17)","v":0},{"$f":"IF(R284=0,0,Z18)","v":0},{"$f":"IF(S284=0,0,Z19)","v":0},{"$f":"IF(T284=0,0,Z20)","v":0},{"$f":"IF(U284=0,0,Z21)","v":0}]
["итог время",{"$f":"SUM(B284:U285)","v":"00:31:10"},null,null,null,null,null,null,"итог баллы",null,{"$f":"SUM(B286:U286)","v":30.476873054580782}]
[]
["№",{"$f":"'Список команд'!B166","v":42},"команда",{"$f":"'Список команд'!D166:G166","v":"БЕДА"}]
["трасса",1,2,3,4,5,6,7,8,9,10,11,12,13,14,15,16,17,18,19,20]
["время","00:03:11","00:03:59","00:06:12","00:04:15"]
["штраф"]
["баллы",{"$f":"IF(B291=0,0,Z2)","v":0.69767441860465118},{"$f":"IF(C291=0,0,Z3)","v":1.0344827586206897},{"$f":"IF(D291=0,0,Z4)","v":0.76923076923076927},{"$f":"IF(E291=0,0,Z5)","v":0.76923076923076927},{"$f":"IF(F291=0,0,Z6)","v":0},{"$f":"IF(G291=0,0,Z7)","v":0},{"$f":"IF(H291=0,0,Z8)","v":0},{"$f":"IF(I291=0,0,Z9)","v":0},{"$f":"IF(J291=0,0,Z10)","v":0},{"$f":"IF(K291=0,0,Z11)","v":0},{"$f":"IF(L291=0,0,Z12)","v":0},{"$f":"IF(M291=0,0,Z13)","v":0},{"$f":"IF(N291=0,0,Z14)","v":0},{"$f":"IF(O291=0,0,Z15)","v":0},{"$f":"IF(P291=0,0,Z16)","v":0},{"$f":"IF(Q291=0,0,Z17)","v":0},{"$f":"IF(R291=0,0,Z18)","v":0},{"$f":"IF(S291=0,0,Z19)","v":0},{"$f":"IF(T291=0,0,Z20)","v":0},{"$f":"IF(U291=0,0,Z21)","v":0}]
["итог время",{"$f":"SUM(B291:U292)","v":"00:17:37"},null,null,null,null,null,null,"итог баллы",null,{"$f":"SUM(B293:U293)","v":3.2706187156868793}]
[]
["№",{"$f":"'Список команд'!B170","v":43},"команда",{"$f":"'Список команд'!D170:G170","v":"Руки-Крюки"}]
["трасса",1,2,3,4,5,6,7,8,9,10,11,12,13,14,15,16,17,18,19,20]
["время","00:02:58","00:02:55","00:03:17","00:02:00","00:05:46","00:04:01",null,"00:03:45",null,"00:03:06"]
["штраф"]
["баллы",{"$f":"IF(B298=0,0,Z2)","v":0.69767441860465118},{"$f":"IF(C298=0,0,Z3)","v":1.0344827586206897},{"$f":"IF(D298=0,0,Z4)","v":0.76923076923076927},{"$f":"IF(E298=0,0,Z5)","v":0.76923076923076927},{"$f":"IF(F298=0,0,Z6)","v":1.6666666666666667},{"$f":"IF(G298=0,0,Z7)","v":1.3636363636363635},{"$f":"IF(H298=0,0,Z8)","v":0},{"$f":"IF(I298=0,0,Z9)","v":3.3333333333333335},{"$f":"IF(J298=0,0,Z10)","v":0},{"$f":"IF(K298=0,0,Z11)","v":4.3478260869565215},{"$f":"IF(L298=0,0,Z12)","v":0},{"$f":"IF(M298=0,0,Z13)","v":0},{"$f":"IF(N298=0,0,Z14)","v":0},{"$f":"IF(O298=0,0,Z15)","v":0},{"$f":"IF(P298=0,0,Z16)","v":0},{"$f":"IF(Q298=0,0,Z17)","v":0},{"$f":"IF(R298=0,0,Z18)","v":0},{"$f":"IF(S298=0,0,Z19)","v":0},{"$f":"IF(T298=0,0,Z20)","v":0},{"$f":"IF(U298=0,0,Z21)","v":0}]
["итог время",{"$f":"SUM(B298:U299)","v":"00:27:48"},null,null,null,null,null,null,"итог баллы",null,{"$f":"SUM(B300:U300)","v":13.982081166279764}]
[]
["№",{"$f":"'Список команд'!B174","v":44},"команда",{"$f":"'Список команд'!D174:G174","v":"ЗМЭИ"}]
["трасса",1,2,3,4,5,6,7,8,9,10,11,12,13,14,15,16,17,18,19,20]
["время","00:01:19",null,"00:04:02","00:01:33",null,null,null,"00:04:06",null,null,null,null,"00:05:00",null,"00:03:00"]
["штраф"]
["баллы",{"$f":"IF(B305=0,0,Z2)","v":0.69767441860465118},{"$f":"IF(C305=0,0,Z3)","v":0},{"$f":"IF(D305=0,0,Z4)","v":0.76923076923076927},{"$f":"IF(E305=0,0,Z5)","v":0.76923076923076927},{"$f":"IF(F305=0,0,Z6)","v":0},{"$f":"IF(G305=0,0,Z7)","v":0},{"$f":"IF(H305=0,0,Z8)","v":0},{"$f":"IF(I305=0,0,Z9)","v":3.3333333333333335},{"$f":"IF(J305=0,0,Z10)","v":0},{"$f":"IF(K305=0,0,Z11)","v":0},{"$f":"IF(L305=0,0,Z12)","v":0},{"$f":"IF(M305=0,0,Z13)","v":0},{"$f":"IF(N305=0,0,Z14)","v":2.7272727272727271},{"$f":"IF(O305=0,0,Z15)","v":0},{"$f":"IF(P305=0,0,Z16)","v":1.7647058823529411},{"$f":"IF(Q305=0,0,Z17)","v":0},{"$f":"IF(R305=0,0,Z18)","v":0},{"$f":"IF(S305=0,0,Z19)","v":0},{"$f":"IF(T305=0,0,Z20)","v":0},{"$f":"IF(U305=0,0,Z21)","v":0}]
["итог время",{"$f":"SUM(B305:U306)","v":"00:19:00"},null,null,null,null,null,null,"итог баллы",null,{"$f":"SUM(B307:U307)","v":10.06144790002519}]
[]
["№",{"$f":"'Список команд'!B178","v":45},"команда",{"$f":"'Список команд'!D178:G178","v":"а/к МГТУ"}]
["трасса",1,2,3,4,5,6,7,8,9,10,11,12,13,14,15,16,17,18,19,20]
["время","00:02:24","00:04:47","00:04:09","00:01:28"]
["штраф"]
["баллы",{"$f":"IF(B312=0,0,Z2)","v":0.69767441860465118},{"$f":"IF(C312=0,0,Z3)","v":1.0344827586206897},{"$f":"IF(D312=0,0,Z4)","v":0.76923076923076927},{"$f":"IF(E312=0,0,Z5)","v":0.76923076923076927},{"$f":"IF(F312=0,0,Z6)","v":0},{"$f":"IF(G312=0,0,Z7)","v":0},{"$f":"IF(H312=0,0,Z8)","v":0},{"$f":"IF(I312=0,0,Z9)","v":0},{"$f":"IF(J312=0,0,Z10)","v":0},{"$f":"IF(K312=0,0,Z11)","v":0},{"$f":"IF(L312=0,0,Z12)","v":0},{"$f":"IF(M312=0,0,Z13)","v":0},{"$f":"IF(N312=0,0,Z14)","v":0},{"$f":"IF(O312=0,0,Z15)","v":0},{"$f":"IF(P312=0,0,Z16)","v":0},{"$f":"IF(Q312=0,0,Z17)","v":0},{"$f":"IF(R312=0,0,Z18)","v":0},{"$f":"IF(S312=0,0,Z19)","v":0},{"$f":"IF(T312=0,0,Z20)","v":0},{"$f":"IF(U312=0,0,Z21)","v":0}]
["итог время",{"$f":"SUM(B312:U313)","v":"00:12:48"},null,null,null,null,null,null,"итог баллы",null,{"$f":"SUM(B314:U314)","v":3.2706187156868793}]
[]
["№",{"$f":"'Список команд'!B182","v":46},"команда",{"$f":"'Список команд'!D182:G182","v":"Абрис"}]
["трасса",1,2,3,4,5,6,7,8,9,10,11,12,13,14,15,16,17,18,19,20]
["время","00:02:10","00:04:22","00:03:00","00:02:10",null,null,null,"00:04:06",null,"00:02:52",null,null,"00:02:56"]
["штраф"]
["баллы",{"$f":"IF(B319=0,0,Z2)","v":0.69767441860465118},{"$f":"IF(C319=0,0,Z3)","v":1.0344827586206897},{"$f":"IF(D319=0,0,Z4)","v":0.76923076923076927},{"$f":"IF(E319=0,0,Z5)","v":0.76923076923076927},{"$f":"IF(F319=0,0,Z6)","v":0},{"$f":"IF(G319=0,0,Z7)","v":0},{"$f":"IF(H319=0,0,Z8)","v":0},{"$f":"IF(I319=0,0,Z9)","v":3.3333333333333335},{"$f":"IF(J319=0,0,Z10)","v":0},{"$f":"IF(K319=0,0,Z11)","v":4.3478260869565215},{"$f":"IF(L319=0,0,Z12)","v":0},{"$f":"IF(M319=0,0,Z13)","v":0},{"$f":"IF(N319=0,0,Z14)","v":2.7272727272727271},{"$f":"IF(O319=0,0,Z15)","v":0},{"$f":"IF(P319=0,0,Z16)","v":0},{"$f":"IF(Q319=0,0,Z17)","v":0},{"$f":"IF(R319=0,0,Z18)","v":0},{"$f":"IF(S319=0,0,Z19)","v":0},{"$f":"IF(T319=0,0,Z20)","v":0},{"$f":"IF(U319=0,0,Z21)","v":0}]
["итог время",{"$f":"SUM(B319:U320)","v":"00:21:36"},null,null,null,null,null,null,"итог баллы",null,{"$f":"SUM(B321:U321)","v":13.679050863249461}]
[]
["№",{"$f":"'Список команд'!B186","v":47},"команда",{"$f":"'Список команд'!D186:G186","v":"Безпятиполпятого"}]
["трасса",1,2,3,4,5,6,7,8,9,10,11,12,13,14,15,16,17,18,19,20]
["время","00:02:00","00:02:45","00:05:25","00:01:33",null,null,null,"00:02:19",null,"00:02:34","00:03:25","00:09:27","00:03:33",null,"00:04:21"]
["штраф"]
["баллы",{"$f":"IF(B326=0,0,Z2)","v":0.69767441860465118},{"$f":"IF(C326=0,0,Z3)","v":1.0344827586206897},{"$f":"IF(D326=0,0,Z4)","v":0.76923076923076927},{"$f":"IF(E326=0,0,Z5)","v":0.76923076923076927},{"$f":"IF(F326=0,0,Z6)","v":0},{"$f":"IF(G326=0,0,Z7)","v":0},{"$f":"IF(H326=0,0,Z8)","v":0},{"$f":"IF(I326=0,0,Z9)","v":3.3333333333333335},{"$f":"IF(J326=0,0,Z10)","v":0},{"$f":"IF(K326=0,0,Z11)","v":4.3478260869565215},{"$f":"IF(L326=0,0,Z12)","v":14.285714285714286},{"$f":"IF(M326=0,0,Z13)","v":5.4545454545454541},{"$f":"IF(N326=0,0,Z14)","v":2.7272727272727271},{"$f":"IF(O326=0,0,Z15)","v":0},{"$f":"IF(P326=0,0,Z16)","v":1.7647058823529411},{"$f":"IF(Q326=0,0,Z17)","v":0},{"$f":"IF(R326=0,0,Z18)","v":0},{"$f":"IF(S326=0,0,Z19)","v":0},{"$f":"IF(T326=0,0,Z20)","v":0},{"$f":"IF(U326=0,0,Z21)","v":0}]
["итог время",{"$f":"SUM(B326:U327)","v":"00:37:22"},null,null,null,null,null,null,"итог баллы",null,{"$f":"SUM(B328:U328)","v":35.184016485862145}]
[]
["№",{"$f":"'Список команд'!B190","v":48},"команда",{"$f":"'Список команд'!D190:G190","v":"Юрцы"}]
["трасса",1,2,3,4,5,6,7,8,9,10,11,12,13,14,15,16,17,18,19,20]
["время",null,null,null,null,null,null,null,"00:11:17",null,"00:02:14",null,"00:12:43",null,null,"00:02:43"]
["штраф"]
["баллы",{"$f":"IF(B333=0,0,Z2)","v":0},{"$f":"IF(C333=0,0,Z3)","v":0},{"$f":"IF(D333=0,0,Z4)","v":0},{"$f":"IF(E333=0,0,Z5)","v":0},{"$f":"IF(F333=0,0,Z6)","v":0},{"$f":"IF(G333=0,0,Z7)","v":0},{"$f":"IF(H333=0,0,Z8)","v":0},{"$f":"IF(I333=0,0,Z9)","v":3.3333333333333335},{"$f":"IF(J333=0,0,Z10)","v":0},{"$f":"IF(K333=0,0,Z11)","v":4.3478260869565215},{"$f":"IF(L333=0,0,Z12)","v":0},{"$f":"IF(M333=0,0,Z13)","v":5.4545454545454541},{"$f":"IF(N333=0,0,Z14)","v":0},{"$f":"IF(O333=0,0,Z15)","v":0},{"$f":"IF(P333=0,0,Z16)","v":1.7647058823529411},{"$f":"IF(Q333=0,0,Z17)","v":0},{"$f":"IF(R333=0,0,Z18)","v":0},{"$f":"IF(S333=0,0,Z19)","v":0},{"$f":"IF(T333=0,0,Z20)","v":0},{"$f":"IF(U333=0,0,Z21)","v":0}]
["итог время",{"$f":"SUM(B333:U334)","v":"00:28:57"},null,null,null,null,null,null,"итог баллы",null,{"$f":"SUM(B335:U335)","v":14.900410757188251}]
[]
["№",{"$f":"'Список команд'!B194","v":49},"команда",{"$f":"'Список команд'!D194:G194","v":"only armor steel :)"}]
["трасса",1,2,3,4,5,6,7,8,9,10,11,12,13,14,15,16,17,18,19,20]
["время","00:02:40","00:03:33","00:03:15","00:01:30","00:07:46","00:03:46",null,"00:03:41",null,null,null,null,null,null,"00:02:58"]
["штраф"]
["баллы",{"$f":"IF(B340=0,0,Z2)","v":0.69767441860465118},{"$f":"IF(C340=0,0,Z3)","v":1.0344827586206897},{"$f":"IF(D340=0,0,Z4)","v":0.76923076923076927},{"$f":"IF(E340=0,0,Z5)","v":0.76923076923076927},{"$f":"IF(F340=0,0,Z6)","v":1.6666666666666667},{"$f":"IF(G340=0,0,Z7)","v":1.3636363636363635},{"$f":"IF(H340=0,0,Z8)","v":0},{"$f":"IF(I340=0,0,Z9)","v":3.3333333333333335},{"$f":"IF(J340=0,0,Z10)","v":0},{"$f":"IF(K340=0,0,Z11)","v":0},{"$f":"IF(L340=0,0,Z12)","v":0},{"$f":"IF(M340=0,0,Z13)","v":0},{"$f":"IF(N340=0,0,Z14)","v":0},{"$f":"IF(O340=0,0,Z15)","v":0},{"$f":"IF(P340=0,0,Z16)","v":1.7647058823529411},{"$f":"IF(Q340=0,0,Z17)","v":0},{"$f":"IF(R340=0,0,Z18)","v":0},{"$f":"IF(S340=0,0,Z19)","v":0},{"$f":"IF(T340=0,0,Z20)","v":0},{"$f":"IF(U340=0,0,Z21)","v":0}]
["итог время",{"$f":"SUM(B340:U341)","v":"00:29:09"},null,null,null,null,null,null,"итог баллы",null,{"$f":"SUM(B342:U342)","v":11.398960961676185}]
[]
["№",{"$f":"'Список команд'!B198","v":50},"команда",{"$f":"'Список команд'!D198:G198","v":"Титановый Штырь"}]
["трасса",1,2,3,4,5,6,7,8,9,10,11,12,13,14,15,16,17,18,19,20]
["время","00:01:40",null,null,null,"00:05:43","00:03:39",null,null,null,null,null,null,"00:04:45",null,"00:03:34"]
["штраф"]
["баллы",{"$f":"IF(B347=0,0,Z2)","v":0.69767441860465118},{"$f":"IF(C347=0,0,Z3)","v":0},{"$f":"IF(D347=0,0,Z4)","v":0},{"$f":"IF(E347=0,0,Z5)","v":0},{"$f":"IF(F347=0,0,Z6)","v":1.6666666666666667},{"$f":"IF(G347=0,0,Z7)","v":1.3636363636363635},{"$f":"IF(H347=0,0,Z8)","v":0},{"$f":"IF(I347=0,0,Z9)","v":0},{"$f":"IF(J347=0,0,Z10)","v":0},{"$f":"IF(K347=0,0,Z11)","v":0},{"$f":"IF(L347=0,0,Z12)","v":0},{"$f":"IF(M347=0,0,Z13)","v":0},{"$f":"IF(N347=0,0,Z14)","v":2.7272727272727271},{"$f":"IF(O347=0,0,Z15)","v":0},{"$f":"IF(P347=0,0,Z16)","v":1.7647058823529411},{"$f":"IF(Q347=0,0,Z17)","v":0},{"$f":"IF(R347=0,0,Z18)","v":0},{"$f":"IF(S347=0,0,Z19)","v":0},{"$f":"IF(T347=0,0,Z20)","v":0},{"$f":"IF(U347=0,0,Z21)","v":0}]
["итог время",{"$f":"SUM(B347:U348)","v":"00:19:21"},null,null,null,null,null,null,"итог баллы",null,{"$f":"SUM(B349:U349)","v":8.2199560585333487}]
[]
["№",{"$f":"'Список команд'!B202","v":51},"команда",{"$f":"'Список команд'!D202:G202","v":"Base&Climb"}]
["трасса",1,2,3,4,5,6,7,8,9,10,11,12,13,14,15,16,17,18,19,20]
["время"]
["штраф"]
["баллы",{"$f":"IF(B354=0,0,Z2)","v":0},{"$f":"IF(C354=0,0,Z3)","v":0},{"$f":"IF(D354=0,0,Z4)","v":0},{"$f":"IF(E354=0,0,Z5)","v":0},{"$f":"IF(F354=0,0,Z6)","v":0},{"$f":"IF(G354=0,0,Z7)","v":0},{"$f":"IF(H354=0,0,Z8)","v":0},{"$f":"IF(I354=0,0,Z9)","v":0},{"$f":"IF(J354=0,0,Z10)","v":0},{"$f":"IF(K354=0,0,Z11)","v":0},{"$f":"IF(L354=0,0,Z12)","v":0},{"$f":"IF(M354=0,0,Z13)","v":0},{"$f":"IF(N354=0,0,Z14)","v":0},{"$f":"IF(O354=0,0,Z15)","v":0},{"$f":"IF(P354=0,0,Z16)","v":0},{"$f":"IF(Q354=0,0,Z17)","v":0},{"$f":"IF(R354=0,0,Z18)","v":0},{"$f":"IF(S354=0,0,Z19)","v":0},{"$f":"IF(T354=0,0,Z20)","v":0},{"$f":"IF(U354=0,0,Z21)","v":0}]
["итог время",{"$f":"SUM(B354:U355)","v":"00:00:00"},null,null,null,null,null,null,"итог баллы",null,{"$f":"SUM(B356:U356)","v":0}]
[]
["№",{"$f":"'Список команд'!B206","v":52},"команда",{"$f":"'Список команд'!D206:G206","v":"Вася&Co"}]
["трасса",1,2,3,4,5,6,7,8,9,10,11,12,13,14,15,16,17,18,19,20]
["время","00:03:21","00:04:24","00:03:43","00:02:25",null,null,null,null,null,null,null,"00:10:45",null,null,"00:02:49"]
["штраф"]
["баллы",{"$f":"IF(B361=0,0,Z2)","v":0.69767441860465118},{"$f":"IF(C361=0,0,Z3)","v":1.0344827586206897},{"$f":"IF(D361=0,0,Z4)","v":0.76923076923076927},{"$f":"IF(E361=0,0,Z5)","v":0.76923076923076927},{"$f":"IF(F361=0,0,Z6)","v":0},{"$f":"IF(G361=0,0,Z7)","v":0},{"$f":"IF(H361=0,0,Z8)","v":0},{"$f":"IF(I361=0,0,Z9)","v":0},{"$f":"IF(J361=0,0,Z10)","v":0},{"$f":"IF(K361=0,0,Z11)","v":0},{"$f":"IF(L361=0,0,Z12)","v":0},{"$f":"IF(M361=0,0,Z13)","v":5.4545454545454541},{"$f":"IF(N361=0,0,Z14)","v":0},{"$f":"IF(O361=0,0,Z15)","v":0},{"$f":"IF(P361=0,0,Z16)","v":1.7647058823529411},{"$f":"IF(Q361=0,0,Z17)","v":0},{"$f":"IF(R361=0,0,Z18)","v":0},{"$f":"IF(S361=0,0,Z19)","v":0},{"$f":"IF(T361=0,0,Z20)","v":0},{"$f":"IF(U361=0,0,Z21)","v":0}]
["итог время",{"$f":"SUM(B361:U362)","v":"00:27:27"},null,null,null,null,null,null,"итог баллы",null,{"$f":"SUM(B363:U363)","v":10.489870052585275}]
[]
["№",{"$f":"'Список команд'!B210","v":53},"команда",{"$f":"'Список команд'!D210:G210","v":"МОЛЬ"}]
["трасса",1,2,3,4,5,6,7,8,9,10,11,12,13,14,15,16,17,18,19,20]
["время","00:02:30","00:02:40","00:03:40","00:03:40","00:09:07","00:05:40",null,null,null,null,null,null,"00:04:10",null,"00:04:12"]
["штраф"]
["баллы",{"$f":"IF(B368=0,0,Z2)","v":0.69767441860465118},{"$f":"IF(C368=0,0,Z3)","v":1.0344827586206897},{"$f":"IF(D368=0,0,Z4)","v":0.76923076923076927},{"$f":"IF(E368=0,0,Z5)","v":0.76923076923076927},{"$f":"IF(F368=0,0,Z6)","v":1.6666666666666667},{"$f":"IF(G368=0,0,Z7)","v":1.3636363636363635},{"$f":"IF(H368=0,0,Z8)","v":0},{"$f":"IF(I368=0,0,Z9)","v":0},{"$f":"IF(J368=0,0,Z10)","v":0},{"$f":"IF(K368=0,0,Z11)","v":0},{"$f":"IF(L368=0,0,Z12)","v":0},{"$f":"IF(M368=0,0,Z13)","v":0},{"$f":"IF(N368=0,0,Z14)","v":2.7272727272727271},{"$f":"IF(O368=0,0,Z15)","v":0},{"$f":"IF(P368=0,0,Z16)","v":1.7647058823529411},{"$f":"IF(Q368=0,0,Z17)","v":0},{"$f":"IF(R368=0,0,Z18)","v":0},{"$f":"IF(S368=0,0,Z19)","v":0},{"$f":"IF(T368=0,0,Z20)","v":0},{"$f":"IF(U368=0,0,Z21)","v":0}]
["итог время",{"$f":"SUM(B368:U369)","v":"00:35:39"},null,null,null,null,null,null,"итог баллы",null,{"$f":"SUM(B370:U370)","v":10.792900355615579}]
[]
["№",{"$f":"'Список команд'!B214","v":54},"команда",{"$f":"'Список команд'!D214:G214","v":"Босоногие"}]
["трасса",1,2,3,4,5,6,7,8,9,10,11,12,13,14,15,16,17,18,19,20]
["время","00:02:10","00:03:25","00:04:50","00:03:54",null,"00:05:02",null,null,null,null,null,"00:14:53",null,null,"00:04:12"]
["штраф"]
["баллы",{"$f":"IF(B375=0,0,Z2)","v":0.69767441860465118},{"$f":"IF(C375=0,0,Z3)","v":1.0344827586206897},{"$f":"IF(D375=0,0,Z4)","v":0.76923076923076927},{"$f":"IF(E375=0,0,Z5)","v":0.76923076923076927},{"$f":"IF(F375=0,0,Z6)","v":0},{"$f":"IF(G375=0,0,Z7)","v":1.3636363636363635},{"$f":"IF(H375=0,0,Z8)","v":0},{"$f":"IF(I375=0,0,Z9)","v":0},{"$f":"IF(J375=0,0,Z10)","v":0},{"$f":"IF(K375=0,0,Z11)","v":0},{"$f":"IF(L375=0,0,Z12)","v":0},{"$f":"IF(M375=0,0,Z13)","v":5.4545454545454541},{"$f":"IF(N375=0,0,Z14)","v":0},{"$f":"IF(O375=0,0,Z15)","v":0},{"$f":"IF(P375=0,0,Z16)","v":1.7647058823529411},{"$f":"IF(Q375=0,0,Z17)","v":0},{"$f":"IF(R375=0,0,Z18)","v":0},{"$f":"IF(S375=0,0,Z19)","v":0},{"$f":"IF(T375=0,0,Z20)","v":0},{"$f":"IF(U375=0,0,Z21)","v":0}]
["итог время",{"$f":"SUM(B375:U376)","v":"00:38:26"},null,null,null,null,null,null,"итог баллы",null,{"$f":"SUM(B377:U377)","v":11.853506416221638}]
[]
["№",{"$f":"'Список команд'!B218","v":55},"команда",{"$f":"'Список команд'!D218:G218","v":"Без обид ;-)"}]
["трасса",1,2,3,4,5,6,7,8,9,10,11,12,13,14,15,16,17,18,19,20]
["время","00:04:38",null,"00:03:13","00:01:30",null,"00:04:03"]
["штраф"]
["баллы",{"$f":"IF(B382=0,0,Z2)","v":0.69767441860465118},{"$f":"IF(C382=0,0,Z3)","v":0},{"$f":"IF(D382=0,0,Z4)","v":0.76923076923076927},{"$f":"IF(E382=0,0,Z5)","v":0.76923076923076927},{"$f":"IF(F382=0,0,Z6)","v":0},{"$f":"IF(G382=0,0,Z7)","v":1.3636363636363635},{"$f":"IF(H382=0,0,Z8)","v":0},{"$f":"IF(I382=0,0,Z9)","v":0},{"$f":"IF(J382=0,0,Z10)","v":0},{"$f":"IF(K382=0,0,Z11)","v":0},{"$f":"IF(L382=0,0,Z12)","v":0},{"$f":"IF(M382=0,0,Z13)","v":0},{"$f":"IF(N382=0,0,Z14)","v":0},{"$f":"IF(O382=0,0,Z15)","v":0},{"$f":"IF(P382=0,0,Z16)","v":0},{"$f":"IF(Q382=0,0,Z17)","v":0},{"$f":"IF(R382=0,0,Z18)","v":0},{"$f":"IF(S382=0,0,Z19)","v":0},{"$f":"IF(T382=0,0,Z20)","v":0},{"$f":"IF(U382=0,0,Z21)","v":0}]
["итог время",{"$f":"SUM(B382:U383)","v":"00:13:24"},null,null,null,null,null,null,"итог баллы",null,{"$f":"SUM(B384:U384)","v":3.5997723207025532}]
[]
["№",{"$f":"'Список команд'!B222","v":56},"команда",{"$f":"'Список команд'!D222:G222","v":"Неловкое движение"}]
["трасса",1,2,3,4,5,6,7,8,9,10,11,12,13,14,15,16,17,18,19,20]
["время","00:02:39","00:04:28","00:03:47","00:01:48","00:07:23","00:06:19",null,null,null,null,null,null,"00:03:56"]
["штраф"]
["баллы",{"$f":"IF(B389=0,0,Z2)","v":0.69767441860465118},{"$f":"IF(C389=0,0,Z3)","v":1.0344827586206897},{"$f":"IF(D389=0,0,Z4)","v":0.76923076923076927},{"$f":"IF(E389=0,0,Z5)","v":0.76923076923076927},{"$f":"IF(F389=0,0,Z6)","v":1.6666666666666667},{"$f":"IF(G389=0,0,Z7)","v":1.3636363636363635},{"$f":"IF(H389=0,0,Z8)","v":0},{"$f":"IF(I389=0,0,Z9)","v":0},{"$f":"IF(J389=0,0,Z10)","v":0},{"$f":"IF(K389=0,0,Z11)","v":0},{"$f":"IF(L389=0,0,Z12)","v":0},{"$f":"IF(M389=0,0,Z13)","v":0},{"$f":"IF(N389=0,0,Z14)","v":2.7272727272727271},{"$f":"IF(O389=0,0,Z15)","v":0},{"$f":"IF(P389=0,0,Z16)","v":0},{"$f":"IF(Q389=0,0,Z17)","v":0},{"$f":"IF(R389=0,0,Z18)","v":0},{"$f":"IF(S389=0,0,Z19)","v":0},{"$f":"IF(T389=0,0,Z20)","v":0},{"$f":"IF(U389=0,0,Z21)","v":0}]
["итог время",{"$f":"SUM(B389:U390)","v":"00:30:20"},null,null,null,null,null,null,"итог баллы",null,{"$f":"SUM(B391:U391)","v":9.0281944732626371}]
[]
["№",{"$f":"'Список команд'!B226","v":57},"команда",{"$f":"'Список команд'!D226:G226","v":"По пути"}]
["трасса",1,2,3,4,5,6,7,8,9,10,11,12,13,14,15,16,17,18,19,20]
["время","00:02:06",null,"00:04:39","00:02:37"]
["штраф"]
["баллы",{"$f":"IF(B396=0,0,Z2)","v":0.69767441860465118},{"$f":"IF(C396=0,0,Z3)","v":0},{"$f":"IF(D396=0,0,Z4)","v":0.76923076923076927},{"$f":"IF(E396=0,0,Z5)","v":0.76923076923076927},{"$f":"IF(F396=0,0,Z6)","v":0},{"$f":"IF(G396=0,0,Z7)","v":0},{"$f":"IF(H396=0,0,Z8)","v":0},{"$f":"IF(I396=0,0,Z9)","v":0},{"$f":"IF(J396=0,0,Z10)","v":0},{"$f":"IF(K396=0,0,Z11)","v":0},{"$f":"IF(L396=0,0,Z12)","v":0},{"$f":"IF(M396=0,0,Z13)","v":0},{"$f":"IF(N396=0,0,Z14)","v":0},{"$f":"IF(O396=0,0,Z15)","v":0},{"$f":"IF(P396=0,0,Z16)","v":0},{"$f":"IF(Q396=0,0,Z17)","v":0},{"$f":"IF(R396=0,0,Z18)","v":0},{"$f":"IF(S396=0,0,Z19)","v":0},{"$f":"IF(T396=0,0,Z20)","v":0},{"$f":"IF(U396=0,0,Z21)","v":0}]
["итог время",{"$f":"SUM(B396:U397)","v":"00:09:22"},null,null,null,null,null,null,"итог баллы",null,{"$f":"SUM(B398:U398)","v":2.2361359570661898}]
[]
["№",{"$f":"'Список команд'!B230","v":58},"команда",{"$f":"'Список команд'!D230:G230","v":"Гахария - сонная тетеря"}]
["трасса",1,2,3,4,5,6,7,8,9,10,11,12,13,14,15,16,17,18,19,20]
["время","00:04:39",null,"00:03:30","00:01:31","00:09:59"]
["штраф"]
["баллы",{"$f":"IF(B403=0,0,Z2)","v":0.69767441860465118},{"$f":"IF(C403=0,0,Z3)","v":0},{"$f":"IF(D403=0,0,Z4)","v":0.76923076923076927},{"$f":"IF(E403=0,0,Z5)","v":0.76923076923076927},{"$f":"IF(F403=0,0,Z6)","v":1.6666666666666667},{"$f":"IF(G403=0,0,Z7)","v":0},{"$f":"IF(H403=0,0,Z8)","v":0},{"$f":"IF(I403=0,0,Z9)","v":0},{"$f":"IF(J403=0,0,Z10)","v":0},{"$f":"IF(K403=0,0,Z11)","v":0},{"$f":"IF(L403=0,0,Z12)","v":0},{"$f":"IF(M403=0,0,Z13)","v":0},{"$f":"IF(N403=0,0,Z14)","v":0},{"$f":"IF(O403=0,0,Z15)","v":0},{"$f":"IF(P403=0,0,Z16)","v":0},{"$f":"IF(Q403=0,0,Z17)","v":0},{"$f":"IF(R403=0,0,Z18)","v":0},{"$f":"IF(S403=0,0,Z19)","v":0},{"$f":"IF(T403=0,0,Z20)","v":0},{"$f":"IF(U403=0,0,Z21)","v":0}]
["итог время",{"$f":"SUM(B403:U404)","v":"00:19:39"},null,null,null,null,null,null,"итог баллы",null,{"$f":"SUM(B405:U405)","v":3.9028026237328568}]
[]
["№",{"$f":"'Список команд'!B234","v":59},"команда",{"$f":"'Список команд'!D234:G234","v":24}]
["трасса",1,2,3,4,5,6,7,8,9,10,11,12,13,14,15,16,17,18,19,20]
["время"]
["штраф"]
["баллы",{"$f":"IF(B410=0,0,Z2)","v":0},{"$f":"IF(C410=0,0,Z3)","v":0},{"$f":"IF(D410=0,0,Z4)","v":0},{"$f":"IF(E410=0,0,Z5)","v":0},{"$f":"IF(F410=0,0,Z6)","v":0},{"$f":"IF(G410=0,0,Z7)","v":0},{"$f":"IF(H410=0,0,Z8)","v":0},{"$f":"IF(I410=0,0,Z9)","v":0},{"$f":"IF(J410=0,0,Z10)","v":0},{"$f":"IF(K410=0,0,Z11)","v":0},{"$f":"IF(L410=0,0,Z12)","v":0},{"$f":"IF(M410=0,0,Z13)","v":0},{"$f":"IF(N410=0,0,Z14)","v":0},{"$f":"IF(O410=0,0,Z15)","v":0},{"$f":"IF(P410=0,0,Z16)","v":0},{"$f":"IF(Q410=0,0,Z17)","v":0},{"$f":"IF(R410=0,0,Z18)","v":0},{"$f":"IF(S410=0,0,Z19)","v":0},{"$f":"IF(T410=0,0,Z20)","v":0},{"$f":"IF(U410=0,0,Z21)","v":0}]
["итог время",{"$f":"SUM(B410:U411)","v":"00:00:00"},null,null,null,null,null,null,"итог баллы",null,{"$f":"SUM(B412:U412)","v":0}]
[]
["№",{"$f":"'Список команд'!B238","v":60},"команда",{"$f":"'Список команд'!D238:G238","v":25}]
["трасса",1,2,3,4,5,6,7,8,9,10,11,12,13,14,15,16,17,18,19,20]
["время"]
["штраф"]
["баллы",{"$f":"IF(B417=0,0,Z2)","v":0},{"$f":"IF(C417=0,0,Z3)","v":0},{"$f":"IF(D417=0,0,Z4)","v":0},{"$f":"IF(E417=0,0,Z5)","v":0},{"$f":"IF(F417=0,0,Z6)","v":0},{"$f":"IF(G417=0,0,Z7)","v":0},{"$f":"IF(H417=0,0,Z8)","v":0},{"$f":"IF(I417=0,0,Z9)","v":0},{"$f":"IF(J417=0,0,Z10)","v":0},{"$f":"IF(K417=0,0,Z11)","v":0},{"$f":"IF(L417=0,0,Z12)","v":0},{"$f":"IF(M417=0,0,Z13)","v":0},{"$f":"IF(N417=0,0,Z14)","v":0},{"$f":"IF(O417=0,0,Z15)","v":0},{"$f":"IF(P417=0,0,Z16)","v":0},{"$f":"IF(Q417=0,0,Z17)","v":0},{"$f":"IF(R417=0,0,Z18)","v":0},{"$f":"IF(S417=0,0,Z19)","v":0},{"$f":"IF(T417=0,0,Z20)","v":0},{"$f":"IF(U417=0,0,Z21)","v":0}]
["итог время",{"$f":"SUM(B417:U418)","v":"00:00:00"},null,null,null,null,null,null,"итог баллы",null,{"$f":"SUM(B419:U419)","v":0}]
[]
["№",{"$f":"'Список команд'!B242","v":61},"команда",{"$f":"'Список команд'!D242:G242","v":26}]
["трасса",1,2,3,4,5,6,7,8,9,10,11,12,13,14,15,16,17,18,19,20]
["время"]
["штраф"]
["баллы",{"$f":"IF(B424=0,0,Z2)","v":0},{"$f":"IF(C424=0,0,Z3)","v":0},{"$f":"IF(D424=0,0,Z4)","v":0},{"$f":"IF(E424=0,0,Z5)","v":0},{"$f":"IF(F424=0,0,Z6)","v":0},{"$f":"IF(G424=0,0,Z7)","v":0},{"$f":"IF(H424=0,0,Z8)","v":0},{"$f":"IF(I424=0,0,Z9)","v":0},{"$f":"IF(J424=0,0,Z10)","v":0},{"$f":"IF(K424=0,0,Z11)","v":0},{"$f":"IF(L424=0,0,Z12)","v":0},{"$f":"IF(M424=0,0,Z13)","v":0},{"$f":"IF(N424=0,0,Z14)","v":0},{"$f":"IF(O424=0,0,Z15)","v":0},{"$f":"IF(P424=0,0,Z16)","v":0},{"$f":"IF(Q424=0,0,Z17)","v":0},{"$f":"IF(R424=0,0,Z18)","v":0},{"$f":"IF(S424=0,0,Z19)","v":0},{"$f":"IF(T424=0,0,Z20)","v":0},{"$f":"IF(U424=0,0,Z21)","v":0}]
["итог время",{"$f":"SUM(B424:U425)","v":"00:00:00"},null,null,null,null,null,null,"итог баллы",null,{"$f":"SUM(B426:U426)","v":0}]
[]
["№",{"$f":"'Список команд'!B246","v":62},"команда",{"$f":"'Список команд'!D246:G246","v":27}]
["трасса",1,2,3,4,5,6,7,8,9,10,11,12,13,14,15,16,17,18,19,20]
["время"]
["штраф"]
["баллы",{"$f":"IF(B431=0,0,Z2)","v":0},{"$f":"IF(C431=0,0,Z3)","v":0},{"$f":"IF(D431=0,0,Z4)","v":0},{"$f":"IF(E431=0,0,Z5)","v":0},{"$f":"IF(F431=0,0,Z6)","v":0},{"$f":"IF(G431=0,0,Z7)","v":0},{"$f":"IF(H431=0,0,Z8)","v":0},{"$f":"IF(I431=0,0,Z9)","v":0},{"$f":"IF(J431=0,0,Z10)","v":0},{"$f":"IF(K431=0,0,Z11)","v":0},{"$f":"IF(L431=0,0,Z12)","v":0},{"$f":"IF(M431=0,0,Z13)","v":0},{"$f":"IF(N431=0,0,Z14)","v":0},{"$f":"IF(O431=0,0,Z15)","v":0},{"$f":"IF(P431=0,0,Z16)","v":0},{"$f":"IF(Q431=0,0,Z17)","v":0},{"$f":"IF(R431=0,0,Z18)","v":0},{"$f":"IF(S431=0,0,Z19)","v":0},{"$f":"IF(T431=0,0,Z20)","v":0},{"$f":"IF(U431=0,0,Z21)","v":0}]
["итог время",{"$f":"SUM(B431:U432)","v":"00:00:00"},null,null,null,null,null,null,"итог баллы",null,{"$f":"SUM(B433:U433)","v":0}]
[]
["№",{"$f":"'Список команд'!B250","v":63},"команда",{"$f":"'Список команд'!D250:G250","v":28}]
["трасса",1,2,3,4,5,6,7,8,9,10,11,12,13,14,15,16,17,18,19,20]
["время"]
["штраф"]
["баллы",{"$f":"IF(B438=0,0,Z2)","v":0},{"$f":"IF(C438=0,0,Z3)","v":0},{"$f":"IF(D438=0,0,Z4)","v":0},{"$f":"IF(E438=0,0,Z5)","v":0},{"$f":"IF(F438=0,0,Z6)","v":0},{"$f":"IF(G438=0,0,Z7)","v":0},{"$f":"IF(H438=0,0,Z8)","v":0},{"$f":"IF(I438=0,0,Z9)","v":0},{"$f":"IF(J438=0,0,Z10)","v":0},{"$f":"IF(K438=0,0,Z11)","v":0},{"$f":"IF(L438=0,0,Z12)","v":0},{"$f":"IF(M438=0,0,Z13)","v":0},{"$f":"IF(N438=0,0,Z14)","v":0},{"$f":"IF(O438=0,0,Z15)","v":0},{"$f":"IF(P438=0,0,Z16)","v":0},{"$f":"IF(Q438=0,0,Z17)","v":0},{"$f":"IF(R438=0,0,Z18)","v":0},{"$f":"IF(S438=0,0,Z19)","v":0},{"$f":"IF(T438=0,0,Z20)","v":0},{"$f":"IF(U438=0,0,Z21)","v":0}]
["итог время",{"$f":"SUM(B438:U439)","v":"00:00:00"},null,null,null,null,null,null,"итог баллы",null,{"$f":"SUM(B440:U440)","v":0}]
[]
["№",{"$f":"'Список команд'!B254","v":64},"команда",{"$f":"'Список команд'!D254:G254","v":29}]
["трасса",1,2,3,4,5,6,7,8,9,10,11,12,13,14,15,16,17,18,19,20]
["время"]
["штраф"]
["баллы",{"$f":"IF(B445=0,0,Z2)","v":0},{"$f":"IF(C445=0,0,Z3)","v":0},{"$f":"IF(D445=0,0,Z4)","v":0},{"$f":"IF(E445=0,0,Z5)","v":0},{"$f":"IF(F445=0,0,Z6)","v":0},{"$f":"IF(G445=0,0,Z7)","v":0},{"$f":"IF(H445=0,0,Z8)","v":0},{"$f":"IF(I445=0,0,Z9)","v":0},{"$f":"IF(J445=0,0,Z10)","v":0},{"$f":"IF(K445=0,0,Z11)","v":0},{"$f":"IF(L445=0,0,Z12)","v":0},{"$f":"IF(M445=0,0,Z13)","v":0},{"$f":"IF(N445=0,0,Z14)","v":0},{"$f":"IF(O445=0,0,Z15)","v":0},{"$f":"IF(P445=0,0,Z16)","v":0},{"$f":"IF(Q445=0,0,Z17)","v":0},{"$f":"IF(R445=0,0,Z18)","v":0},{"$f":"IF(S445=0,0,Z19)","v":0},{"$f":"IF(T445=0,0,Z20)","v":0},{"$f":"IF(U445=0,0,Z21)","v":0}]
["итог время",{"$f":"SUM(B445:U446)","v":"00:00:00"},null,null,null,null,null,null,"итог баллы",null,{"$f":"SUM(B447:U447)","v":0}]
[]
["№",{"$f":"'Список команд'!B258","v":65},"команда",{"$f":"'Список команд'!D258:G258","v":30}]
["трасса",1,2,3,4,5,6,7,8,9,10,11,12,13,14,15,16,17,18,19,20]
["время"]
["штраф"]
["баллы",{"$f":"IF(B452=0,0,Z2)","v":0},{"$f":"IF(C452=0,0,Z3)","v":0},{"$f":"IF(D452=0,0,Z4)","v":0},{"$f":"IF(E452=0,0,Z5)","v":0},{"$f":"IF(F452=0,0,Z6)","v":0},{"$f":"IF(G452=0,0,Z7)","v":0},{"$f":"IF(H452=0,0,Z8)","v":0},{"$f":"IF(I452=0,0,Z9)","v":0},{"$f":"IF(J452=0,0,Z10)","v":0},{"$f":"IF(K452=0,0,Z11)","v":0},{"$f":"IF(L452=0,0,Z12)","v":0},{"$f":"IF(M452=0,0,Z13)","v":0},{"$f":"IF(N452=0,0,Z14)","v":0},{"$f":"IF(O452=0,0,Z15)","v":0},{"$f":"IF(P452=0,0,Z16)","v":0},{"$f":"IF(Q452=0,0,Z17)","v":0},{"$f":"IF(R452=0,0,Z18)","v":0},{"$f":"IF(S452=0,0,Z19)","v":0},{"$f":"IF(T452=0,0,Z20)","v":0},{"$f":"IF(U452=0,0,Z21)","v":0}]
["итог время",{"$f":"SUM(B452:U453)","v":"00:00:00"},null,null,null,null,null,null,"итог баллы",null,{"$f":"SUM(B454:U454)","v":0}]
[]
["№",{"$f":"'Список команд'!B262","v":66},"команда",{"$f":"'Список команд'!D262:G262","v":31}]
["трасса",1,2,3,4,5,6,7,8,9,10,11,12,13,14,15,16,17,18,19,20]
["время"]
["штраф"]
["баллы",{"$f":"IF(B459=0,0,Z2)","v":0},{"$f":"IF(C459=0,0,Z3)","v":0},{"$f":"IF(D459=0,0,Z4)","v":0},{"$f":"IF(E459=0,0,Z5)","v":0},{"$f":"IF(F459=0,0,Z6)","v":0},{"$f":"IF(G459=0,0,Z7)","v":0},{"$f":"IF(H459=0,0,Z8)","v":0},{"$f":"IF(I459=0,0,Z9)","v":0},{"$f":"IF(J459=0,0,Z10)","v":0},{"$f":"IF(K459=0,0,Z11)","v":0},{"$f":"IF(L459=0,0,Z12)","v":0},{"$f":"IF(M459=0,0,Z13)","v":0},{"$f":"IF(N459=0,0,Z14)","v":0},{"$f":"IF(O459=0,0,Z15)","v":0},{"$f":"IF(P459=0,0,Z16)","v":0},{"$f":"IF(Q459=0,0,Z17)","v":0},{"$f":"IF(R459=0,0,Z18)","v":0},{"$f":"IF(S459=0,0,Z19)","v":0},{"$f":"IF(T459=0,0,Z20)","v":0},{"$f":"IF(U459=0,0,Z21)","v":0}]
["итог время",{"$f":"SUM(B459:U460)","v":"00:00:00"},null,null,null,null,null,null,"итог баллы",null,{"$f":"SUM(B461:U461)","v":0}]
[]
["№",{"$f":"'Список команд'!B266","v":67},"команда",{"$f":"'Список команд'!D266:G266","v":32}]
["трасса",1,2,3,4,5,6,7,8,9,10,11,12,13,14,15,16,17,18,19,20]
["время"]
["штраф"]
["баллы",{"$f":"IF(B466=0,0,Z2)","v":0},{"$f":"IF(C466=0,0,Z3)","v":0},{"$f":"IF(D466=0,0,Z4)","v":0},{"$f":"IF(E466=0,0,Z5)","v":0},{"$f":"IF(F466=0,0,Z6)","v":0},{"$f":"IF(G466=0,0,Z7)","v":0},{"$f":"IF(H466=0,0,Z8)","v":0},{"$f":"IF(I466=0,0,Z9)","v":0},{"$f":"IF(J466=0,0,Z10)","v":0},{"$f":"IF(K466=0,0,Z11)","v":0},{"$f":"IF(L466=0,0,Z12)","v":0},{"$f":"IF(M466=0,0,Z13)","v":0},{"$f":"IF(N466=0,0,Z14)","v":0},{"$f":"IF(O466=0,0,Z15)","v":0},{"$f":"IF(P466=0,0,Z16)","v":0},{"$f":"IF(Q466=0,0,Z17)","v":0},{"$f":"IF(R466=0,0,Z18)","v":0},{"$f":"IF(S466=0,0,Z19)","v":0},{"$f":"IF(T466=0,0,Z20)","v":0},{"$f":"IF(U466=0,0,Z21)","v":0}]
["итог время",{"$f":"SUM(B466:U467)","v":"00:00:00"},null,null,null,null,null,null,"итог баллы",null,{"$f":"SUM(B468:U468)","v":0}]
[]
["№",{"$f":"'Список команд'!B270","v":68},"команда",{"$f":"'Список команд'!D270:G270","v":33}]
["трасса",1,2,3,4,5,6,7,8,9,10,11,12,13,14,15,16,17,18,19,20]
["время"]
["штраф"]
["баллы",{"$f":"IF(B473=0,0,Z2)","v":0},{"$f":"IF(C473=0,0,Z3)","v":0},{"$f":"IF(D473=0,0,Z4)","v":0},{"$f":"IF(E473=0,0,Z5)","v":0},{"$f":"IF(F473=0,0,Z6)","v":0},{"$f":"IF(G473=0,0,Z7)","v":0},{"$f":"IF(H473=0,0,Z8)","v":0},{"$f":"IF(I473=0,0,Z9)","v":0},{"$f":"IF(J473=0,0,Z10)","v":0},{"$f":"IF(K473=0,0,Z11)","v":0},{"$f":"IF(L473=0,0,Z12)","v":0},{"$f":"IF(M473=0,0,Z13)","v":0},{"$f":"IF(N473=0,0,Z14)","v":0},{"$f":"IF(O473=0,0,Z15)","v":0},{"$f":"IF(P473=0,0,Z16)","v":0},{"$f":"IF(Q473=0,0,Z17)","v":0},{"$f":"IF(R473=0,0,Z18)","v":0},{"$f":"IF(S473=0,0,Z19)","v":0},{"$f":"IF(T473=0,0,Z20)","v":0},{"$f":"IF(U473=0,0,Z21)","v":0}]
["итог время",{"$f":"SUM(B473:U474)","v":"00:00:00"},null,null,null,null,null,null,"итог баллы",null,{"$f":"SUM(B475:U475)","v":0}]
[]
["№",{"$f":"'Список команд'!B274","v":69},"команда",{"$f":"'Список команд'!D274:G274","v":34}]
["трасса",1,2,3,4,5,6,7,8,9,10,11,12,13,14,15,16,17,18,19,20]
["время"]
["штраф"]
["баллы",{"$f":"IF(B480=0,0,Z2)","v":0},{"$f":"IF(C480=0,0,Z3)","v":0},{"$f":"IF(D480=0,0,Z4)","v":0},{"$f":"IF(E480=0,0,Z5)","v":0},{"$f":"IF(F480=0,0,Z6)","v":0},{"$f":"IF(G480=0,0,Z7)","v":0},{"$f":"IF(H480=0,0,Z8)","v":0},{"$f":"IF(I480=0,0,Z9)","v":0},{"$f":"IF(J480=0,0,Z10)","v":0},{"$f":"IF(K480=0,0,Z11)","v":0},{"$f":"IF(L480=0,0,Z12)","v":0},{"$f":"IF(M480=0,0,Z13)","v":0},{"$f":"IF(N480=0,0,Z14)","v":0},{"$f":"IF(O480=0,0,Z15)","v":0},{"$f":"IF(P480=0,0,Z16)","v":0},{"$f":"IF(Q480=0,0,Z17)","v":0},{"$f":"IF(R480=0,0,Z18)","v":0},{"$f":"IF(S480=0,0,Z19)","v":0},{"$f":"IF(T480=0,0,Z20)","v":0},{"$f":"IF(U480=0,0,Z21)","v":0}]
["итог время",{"$f":"SUM(B480:U481)","v":"00:00:00"},null,null,null,null,null,null,"итог баллы",null,{"$f":"SUM(B482:U482)","v":0}]
[]
["№",{"$f":"'Список команд'!B278","v":70},"команда",{"$f":"'Список команд'!D278:G278","v":35}]
["трасса",1,2,3,4,5,6,7,8,9,10,11,12,13,14,15,16,17,18,19,20]
["время"]
["штраф"]
["баллы",{"$f":"IF(B487=0,0,Z2)","v":0},{"$f":"IF(C487=0,0,Z3)","v":0},{"$f":"IF(D487=0,0,Z4)","v":0},{"$f":"IF(E487=0,0,Z5)","v":0},{"$f":"IF(F487=0,0,Z6)","v":0},{"$f":"IF(G487=0,0,Z7)","v":0},{"$f":"IF(H487=0,0,Z8)","v":0},{"$f":"IF(I487=0,0,Z9)","v":0},{"$f":"IF(J487=0,0,Z10)","v":0},{"$f":"IF(K487=0,0,Z11)","v":0},{"$f":"IF(L487=0,0,Z12)","v":0},{"$f":"IF(M487=0,0,Z13)","v":0},{"$f":"IF(N487=0,0,Z14)","v":0},{"$f":"IF(O487=0,0,Z15)","v":0},{"$f":"IF(P487=0,0,Z16)","v":0},{"$f":"IF(Q487=0,0,Z17)","v":0},{"$f":"IF(R487=0,0,Z18)","v":0},{"$f":"IF(S487=0,0,Z19)","v":0},{"$f":"IF(T487=0,0,Z20)","v":0},{"$f":"IF(U487=0,0,Z21)","v":0}]
["итог время",{"$f":"SUM(B487:U488)","v":"00:00:00"},null,null,null,null,null,null,"итог баллы",null,{"$f":"SUM(B489:U489)","v":0}]
[]
["№",{"$f":"'Список команд'!B282","v":71},"команда",{"$f":"'Список команд'!D282:G282","v":36}]
["трасса",1,2,3,4,5,6,7,8,9,10,11,12,13,14,15,16,17,18,19,20]
["время"]
["штраф"]
["баллы",{"$f":"IF(B494=0,0,Z2)","v":0},{"$f":"IF(C494=0,0,Z3)","v":0},{"$f":"IF(D494=0,0,Z4)","v":0},{"$f":"IF(E494=0,0,Z5)","v":0},{"$f":"IF(F494=0,0,Z6)","v":0},{"$f":"IF(G494=0,0,Z7)","v":0},{"$f":"IF(H494=0,0,Z8)","v":0},{"$f":"IF(I494=0,0,Z9)","v":0},{"$f":"IF(J494=0,0,Z10)","v":0},{"$f":"IF(K494=0,0,Z11)","v":0},{"$f":"IF(L494=0,0,Z12)","v":0},{"$f":"IF(M494=0,0,Z13)","v":0},{"$f":"IF(N494=0,0,Z14)","v":0},{"$f":"IF(O494=0,0,Z15)","v":0},{"$f":"IF(P494=0,0,Z16)","v":0},{"$f":"IF(Q494=0,0,Z17)","v":0},{"$f":"IF(R494=0,0,Z18)","v":0},{"$f":"IF(S494=0,0,Z19)","v":0},{"$f":"IF(T494=0,0,Z20)","v":0},{"$f":"IF(U494=0,0,Z21)","v":0}]
["итог время",{"$f":"SUM(B494:U495)","v":"00:00:00"},null,null,null,null,null,null,"итог баллы",null,{"$f":"SUM(B496:U496)","v":0}]
[]
["№",{"$f":"'Список команд'!B286","v":72},"команда",{"$f":"'Список команд'!D286:G286","v":37}]
["трасса",1,2,3,4,5,6,7,8,9,10,11,12,13,14,15,16,17,18,19,20]
["время"]
["штраф"]
["баллы",{"$f":"IF(B501=0,0,Z2)","v":0},{"$f":"IF(C501=0,0,Z3)","v":0},{"$f":"IF(D501=0,0,Z4)","v":0},{"$f":"IF(E501=0,0,Z5)","v":0},{"$f":"IF(F501=0,0,Z6)","v":0},{"$f":"IF(G501=0,0,Z7)","v":0},{"$f":"IF(H501=0,0,Z8)","v":0},{"$f":"IF(I501=0,0,Z9)","v":0},{"$f":"IF(J501=0,0,Z10)","v":0},{"$f":"IF(K501=0,0,Z11)","v":0},{"$f":"IF(L501=0,0,Z12)","v":0},{"$f":"IF(M501=0,0,Z13)","v":0},{"$f":"IF(N501=0,0,Z14)","v":0},{"$f":"IF(O501=0,0,Z15)","v":0},{"$f":"IF(P501=0,0,Z16)","v":0},{"$f":"IF(Q501=0,0,Z17)","v":0},{"$f":"IF(R501=0,0,Z18)","v":0},{"$f":"IF(S501=0,0,Z19)","v":0},{"$f":"IF(T501=0,0,Z20)","v":0},{"$f":"IF(U501=0,0,Z21)","v":0}]
["итог время",{"$f":"SUM(B501:U502)","v":"00:00:00"},null,null,null,null,null,null,"итог баллы",null,{"$f":"SUM(B503:U503)","v":0}]
[]
["№",{"$f":"'Список команд'!B290","v":73},"команда",{"$f":"'Список команд'!D290:G290","v":38}]
["трасса",1,2,3,4,5,6,7,8,9,10,11,12,13,14,15,16,17,18,19,20]
["время"]
["штраф"]
["баллы",{"$f":"IF(B508=0,0,Z2)","v":0},{"$f":"IF(C508=0,0,Z3)","v":0},{"$f":"IF(D508=0,0,Z4)","v":0},{"$f":"IF(E508=0,0,Z5)","v":0},{"$f":"IF(F508=0,0,Z6)","v":0},{"$f":"IF(G508=0,0,Z7)","v":0},{"$f":"IF(H508=0,0,Z8)","v":0},{"$f":"IF(I508=0,0,Z9)","v":0},{"$f":"IF(J508=0,0,Z10)","v":0},{"$f":"IF(K508=0,0,Z11)","v":0},{"$f":"IF(L508=0,0,Z12)","v":0},{"$f":"IF(M508=0,0,Z13)","v":0},{"$f":"IF(N508=0,0,Z14)","v":0},{"$f":"IF(O508=0,0,Z15)","v":0},{"$f":"IF(P508=0,0,Z16)","v":0},{"$f":"IF(Q508=0,0,Z17)","v":0},{"$f":"IF(R508=0,0,Z18)","v":0},{"$f":"IF(S508=0,0,Z19)","v":0},{"$f":"IF(T508=0,0,Z20)","v":0},{"$f":"IF(U508=0,0,Z21)","v":0}]
["итог время",{"$f":"SUM(B508:U509)","v":"00:00:00"},null,null,null,null,null,null,"итог баллы",null,{"$f":"SUM(B510:U510)","v":0}]
[]
["№",{"$f":"'Список команд'!B294","v":74},"команда",{"$f":"'Список команд'!D294:G294","v":39}]
["трасса",1,2,3,4,5,6,7,8,9,10,11,12,13,14,15,16,17,18,19,20]
["время"]
["штраф"]
["баллы",{"$f":"IF(B515=0,0,Z2)","v":0},{"$f":"IF(C515=0,0,Z3)","v":0},{"$f":"IF(D515=0,0,Z4)","v":0},{"$f":"IF(E515=0,0,Z5)","v":0},{"$f":"IF(F515=0,0,Z6)","v":0},{"$f":"IF(G515=0,0,Z7)","v":0},{"$f":"IF(H515=0,0,Z8)","v":0},{"$f":"IF(I515=0,0,Z9)","v":0},{"$f":"IF(J515=0,0,Z10)","v":0},{"$f":"IF(K515=0,0,Z11)","v":0},{"$f":"IF(L515=0,0,Z12)","v":0},{"$f":"IF(M515=0,0,Z13)","v":0},{"$f":"IF(N515=0,0,Z14)","v":0},{"$f":"IF(O515=0,0,Z15)","v":0},{"$f":"IF(P515=0,0,Z16)","v":0},{"$f":"IF(Q515=0,0,Z17)","v":0},{"$f":"IF(R515=0,0,Z18)","v":0},{"$f":"IF(S515=0,0,Z19)","v":0},{"$f":"IF(T515=0,0,Z20)","v":0},{"$f":"IF(U515=0,0,Z21)","v":0}]
["итог время",{"$f":"SUM(B515:U516)","v":"00:00:00"},null,null,null,null,null,null,"итог баллы",null,{"$f":"SUM(B517:U517)","v":0}]
[]
["№",{"$f":"'Список команд'!B298","v":75},"команда",{"$f":"'Список команд'!D298:G298","v":40}]
["трасса",1,2,3,4,5,6,7,8,9,10,11,12,13,14,15,16,17,18,19,20]
["время"]
["штраф"]
["баллы",{"$f":"IF(B522=0,0,Z2)","v":0},{"$f":"IF(C522=0,0,Z3)","v":0},{"$f":"IF(D522=0,0,Z4)","v":0},{"$f":"IF(E522=0,0,Z5)","v":0},{"$f":"IF(F522=0,0,Z6)","v":0},{"$f":"IF(G522=0,0,Z7)","v":0},{"$f":"IF(H522=0,0,Z8)","v":0},{"$f":"IF(I522=0,0,Z9)","v":0},{"$f":"IF(J522=0,0,Z10)","v":0},{"$f":"IF(K522=0,0,Z11)","v":0},{"$f":"IF(L522=0,0,Z12)","v":0},{"$f":"IF(M522=0,0,Z13)","v":0},{"$f":"IF(N522=0,0,Z14)","v":0},{"$f":"IF(O522=0,0,Z15)","v":0},{"$f":"IF(P522=0,0,Z16)","v":0},{"$f":"IF(Q522=0,0,Z17)","v":0},{"$f":"IF(R522=0,0,Z18)","v":0},{"$f":"IF(S522=0,0,Z19)","v":0},{"$f":"IF(T522=0,0,Z20)","v":0},{"$f":"IF(U522=0,0,Z21)","v":0}]
["итог время",{"$f":"SUM(B522:U523)","v":"00:00:00"},null,null,null,null,null,null,"итог баллы",null,{"$f":"SUM(B524:U524)","v":0}]
[]
["№",{"$f":"'Список команд'!B302","v":76},"команда",{"$f":"'Список команд'!D302:G302","v":41}]
["трасса",1,2,3,4,5,6,7,8,9,10,11,12,13,14,15,16,17,18,19,20]
["время"]
["штраф"]
["баллы",{"$f":"IF(B529=0,0,Z2)","v":0},{"$f":"IF(C529=0,0,Z3)","v":0},{"$f":"IF(D529=0,0,Z4)","v":0},{"$f":"IF(E529=0,0,Z5)","v":0},{"$f":"IF(F529=0,0,Z6)","v":0},{"$f":"IF(G529=0,0,Z7)","v":0},{"$f":"IF(H529=0,0,Z8)","v":0},{"$f":"IF(I529=0,0,Z9)","v":0},{"$f":"IF(J529=0,0,Z10)","v":0},{"$f":"IF(K529=0,0,Z11)","v":0},{"$f":"IF(L529=0,0,Z12)","v":0},{"$f":"IF(M529=0,0,Z13)","v":0},{"$f":"IF(N529=0,0,Z14)","v":0},{"$f":"IF(O529=0,0,Z15)","v":0},{"$f":"IF(P529=0,0,Z16)","v":0},{"$f":"IF(Q529=0,0,Z17)","v":0},{"$f":"IF(R529=0,0,Z18)","v":0},{"$f":"IF(S529=0,0,Z19)","v":0},{"$f":"IF(T529=0,0,Z20)","v":0},{"$f":"IF(U529=0,0,Z21)","v":0}]
["итог время",{"$f":"SUM(B529:U530)","v":"00:00:00"},null,null,null,null,null,null,"итог баллы",null,{"$f":"SUM(B531:U531)","v":0}]
[]
["№",{"$f":"'Список команд'!B306","v":77},"команда",{"$f":"'Список команд'!D306:G306","v":42}]
["трасса",1,2,3,4,5,6,7,8,9,10,11,12,13,14,15,16,17,18,19,20]
["время"]
["штраф"]
["баллы",{"$f":"IF(B536=0,0,Z2)","v":0},{"$f":"IF(C536=0,0,Z3)","v":0},{"$f":"IF(D536=0,0,Z4)","v":0},{"$f":"IF(E536=0,0,Z5)","v":0},{"$f":"IF(F536=0,0,Z6)","v":0},{"$f":"IF(G536=0,0,Z7)","v":0},{"$f":"IF(H536=0,0,Z8)","v":0},{"$f":"IF(I536=0,0,Z9)","v":0},{"$f":"IF(J536=0,0,Z10)","v":0},{"$f":"IF(K536=0,0,Z11)","v":0},{"$f":"IF(L536=0,0,Z12)","v":0},{"$f":"IF(M536=0,0,Z13)","v":0},{"$f":"IF(N536=0,0,Z14)","v":0},{"$f":"IF(O536=0,0,Z15)","v":0},{"$f":"IF(P536=0,0,Z16)","v":0},{"$f":"IF(Q536=0,0,Z17)","v":0},{"$f":"IF(R536=0,0,Z18)","v":0},{"$f":"IF(S536=0,0,Z19)","v":0},{"$f":"IF(T536=0,0,Z20)","v":0},{"$f":"IF(U536=0,0,Z21)","v":0}]
["итог время",{"$f":"SUM(B536:U537)","v":"00:00:00"},null,null,null,null,null,null,"итог баллы",null,{"$f":"SUM(B538:U538)","v":0}]
[]
["№",{"$f":"'Список команд'!B310","v":78},"команда",{"$f":"'Список команд'!D310:G310","v":43}]
["трасса",1,2,3,4,5,6,7,8,9,10,11,12,13,14,15,16,17,18,19,20]
["время"]
["штраф"]
["баллы",{"$f":"IF(B543=0,0,Z2)","v":0},{"$f":"IF(C543=0,0,Z3)","v":0},{"$f":"IF(D543=0,0,Z4)","v":0},{"$f":"IF(E543=0,0,Z5)","v":0},{"$f":"IF(F543=0,0,Z6)","v":0},{"$f":"IF(G543=0,0,Z7)","v":0},{"$f":"IF(H543=0,0,Z8)","v":0},{"$f":"IF(I543=0,0,Z9)","v":0},{"$f":"IF(J543=0,0,Z10)","v":0},{"$f":"IF(K543=0,0,Z11)","v":0},{"$f":"IF(L543=0,0,Z12)","v":0},{"$f":"IF(M543=0,0,Z13)","v":0},{"$f":"IF(N543=0,0,Z14)","v":0},{"$f":"IF(O543=0,0,Z15)","v":0},{"$f":"IF(P543=0,0,Z16)","v":0},{"$f":"IF(Q543=0,0,Z17)","v":0},{"$f":"IF(R543=0,0,Z18)","v":0},{"$f":"IF(S543=0,0,Z19)","v":0},{"$f":"IF(T543=0,0,Z20)","v":0},{"$f":"IF(U543=0,0,Z21)","v":0}]
["итог время",{"$f":"SUM(B543:U544)","v":"00:00:00"},null,null,null,null,null,null,"итог баллы",null,{"$f":"SUM(B545:U545)","v":0}]
[]
["№",{"$f":"'Список команд'!B314","v":79},"команда",{"$f":"'Список команд'!D314:G314","v":44}]
["трасса",1,2,3,4,5,6,7,8,9,10,11,12,13,14,15,16,17,18,19,20]
["время"]
["штраф"]
["баллы",{"$f":"IF(B550=0,0,Z2)","v":0},{"$f":"IF(C550=0,0,Z3)","v":0},{"$f":"IF(D550=0,0,Z4)","v":0},{"$f":"IF(E550=0,0,Z5)","v":0},{"$f":"IF(F550=0,0,Z6)","v":0},{"$f":"IF(G550=0,0,Z7)","v":0},{"$f":"IF(H550=0,0,Z8)","v":0},{"$f":"IF(I550=0,0,Z9)","v":0},{"$f":"IF(J550=0,0,Z10)","v":0},{"$f":"IF(K550=0,0,Z11)","v":0},{"$f":"IF(L550=0,0,Z12)","v":0},{"$f":"IF(M550=0,0,Z13)","v":0},{"$f":"IF(N550=0,0,Z14)","v":0},{"$f":"IF(O550=0,0,Z15)","v":0},{"$f":"IF(P550=0,0,Z16)","v":0},{"$f":"IF(Q550=0,0,Z17)","v":0},{"$f":"IF(R550=0,0,Z18)","v":0},{"$f":"IF(S550=0,0,Z19)","v":0},{"$f":"IF(T550=0,0,Z20)","v":0},{"$f":"IF(U550=0,0,Z21)","v":0}]
["итог время",{"$f":"SUM(B550:U551)","v":"00:00:00"},null,null,null,null,null,null,"итог баллы",null,{"$f":"SUM(B552:U552)","v":0}]
[]
["№",{"$f":"'Список команд'!B318","v":80},"команда",{"$f":"'Список команд'!D318:G318","v":45}]
["трасса",1,2,3,4,5,6,7,8,9,10,11,12,13,14,15,16,17,18,19,20]
["время"]
["штраф"]
["баллы",{"$f":"IF(B557=0,0,Z2)","v":0},{"$f":"IF(C557=0,0,Z3)","v":0},{"$f":"IF(D557=0,0,Z4)","v":0},{"$f":"IF(E557=0,0,Z5)","v":0},{"$f":"IF(F557=0,0,Z6)","v":0},{"$f":"IF(G557=0,0,Z7)","v":0},{"$f":"IF(H557=0,0,Z8)","v":0},{"$f":"IF(I557=0,0,Z9)","v":0},{"$f":"IF(J557=0,0,Z10)","v":0},{"$f":"IF(K557=0,0,Z11)","v":0},{"$f":"IF(L557=0,0,Z12)","v":0},{"$f":"IF(M557=0,0,Z13)","v":0},{"$f":"IF(N557=0,0,Z14)","v":0},{"$f":"IF(O557=0,0,Z15)","v":0},{"$f":"IF(P557=0,0,Z16)","v":0},{"$f":"IF(Q557=0,0,Z17)","v":0},{"$f":"IF(R557=0,0,Z18)","v":0},{"$f":"IF(S557=0,0,Z19)","v":0},{"$f":"IF(T557=0,0,Z20)","v":0},{"$f":"IF(U557=0,0,Z21)","v":0}]
["итог время",{"$f":"SUM(B557:U558)","v":"00:00:00"},null,null,null,null,null,null,"итог баллы",null,{"$f":"SUM(B559:U559)","v":0}]
[]
["№",{"$f":"'Список команд'!B322","v":81},"команда",{"$f":"'Список команд'!D322:G322","v":46}]
["трасса",1,2,3,4,5,6,7,8,9,10,11,12,13,14,15,16,17,18,19,20]
["время"]
["штраф"]
["баллы",{"$f":"IF(B564=0,0,Z2)","v":0},{"$f":"IF(C564=0,0,Z3)","v":0},{"$f":"IF(D564=0,0,Z4)","v":0},{"$f":"IF(E564=0,0,Z5)","v":0},{"$f":"IF(F564=0,0,Z6)","v":0},{"$f":"IF(G564=0,0,Z7)","v":0},{"$f":"IF(H564=0,0,Z8)","v":0},{"$f":"IF(I564=0,0,Z9)","v":0},{"$f":"IF(J564=0,0,Z10)","v":0},{"$f":"IF(K564=0,0,Z11)","v":0},{"$f":"IF(L564=0,0,Z12)","v":0},{"$f":"IF(M564=0,0,Z13)","v":0},{"$f":"IF(N564=0,0,Z14)","v":0},{"$f":"IF(O564=0,0,Z15)","v":0},{"$f":"IF(P564=0,0,Z16)","v":0},{"$f":"IF(Q564=0,0,Z17)","v":0},{"$f":"IF(R564=0,0,Z18)","v":0},{"$f":"IF(S564=0,0,Z19)","v":0},{"$f":"IF(T564=0,0,Z20)","v":0},{"$f":"IF(U564=0,0,Z21)","v":0}]
["итог время",{"$f":"SUM(B564:U565)","v":"00:00:00"},null,null,null,null,null,null,"итог баллы",null,{"$f":"SUM(B566:U566)","v":0}]
[]
["№",{"$f":"'Список команд'!B326","v":82},"команда",{"$f":"'Список команд'!D326:G326","v":47}]
["трасса",1,2,3,4,5,6,7,8,9,10,11,12,13,14,15,16,17,18,19,20]
["время"]
["штраф"]
["баллы",{"$f":"IF(B571=0,0,Z2)","v":0},{"$f":"IF(C571=0,0,Z3)","v":0},{"$f":"IF(D571=0,0,Z4)","v":0},{"$f":"IF(E571=0,0,Z5)","v":0},{"$f":"IF(F571=0,0,Z6)","v":0},{"$f":"IF(G571=0,0,Z7)","v":0},{"$f":"IF(H571=0,0,Z8)","v":0},{"$f":"IF(I571=0,0,Z9)","v":0},{"$f":"IF(J571=0,0,Z10)","v":0},{"$f":"IF(K571=0,0,Z11)","v":0},{"$f":"IF(L571=0,0,Z12)","v":0},{"$f":"IF(M571=0,0,Z13)","v":0},{"$f":"IF(N571=0,0,Z14)","v":0},{"$f":"IF(O571=0,0,Z15)","v":0},{"$f":"IF(P571=0,0,Z16)","v":0},{"$f":"IF(Q571=0,0,Z17)","v":0},{"$f":"IF(R571=0,0,Z18)","v":0},{"$f":"IF(S571=0,0,Z19)","v":0},{"$f":"IF(T571=0,0,Z20)","v":0},{"$f":"IF(U571=0,0,Z21)","v":0}]
["итог время",{"$f":"SUM(B571:U572)","v":"00:00:00"},null,null,null,null,null,null,"итог баллы",null,{"$f":"SUM(B573:U573)","v":0}]
[]
["№",{"$f":"'Список команд'!B330","v":83},"команда",{"$f":"'Список команд'!D330:G330","v":48}]
["трасса",1,2,3,4,5,6,7,8,9,10,11,12,13,14,15,16,17,18,19,20]
["время"]
["штраф"]
["баллы",{"$f":"IF(B578=0,0,Z2)","v":0},{"$f":"IF(C578=0,0,Z3)","v":0},{"$f":"IF(D578=0,0,Z4)","v":0},{"$f":"IF(E578=0,0,Z5)","v":0},{"$f":"IF(F578=0,0,Z6)","v":0},{"$f":"IF(G578=0,0,Z7)","v":0},{"$f":"IF(H578=0,0,Z8)","v":0},{"$f":"IF(I578=0,0,Z9)","v":0},{"$f":"IF(J578=0,0,Z10)","v":0},{"$f":"IF(K578=0,0,Z11)","v":0},{"$f":"IF(L578=0,0,Z12)","v":0},{"$f":"IF(M578=0,0,Z13)","v":0},{"$f":"IF(N578=0,0,Z14)","v":0},{"$f":"IF(O578=0,0,Z15)","v":0},{"$f":"IF(P578=0,0,Z16)","v":0},{"$f":"IF(Q578=0,0,Z17)","v":0},{"$f":"IF(R578=0,0,Z18)","v":0},{"$f":"IF(S578=0,0,Z19)","v":0},{"$f":"IF(T578=0,0,Z20)","v":0},{"$f":"IF(U578=0,0,Z21)","v":0}]
["итог время",{"$f":"SUM(B578:U579)","v":"00:00:00"},null,null,null,null,null,null,"итог баллы",null,{"$f":"SUM(B580:U580)","v":0}]
[]
["№",{"$f":"'Список команд'!B334","v":84},"команда",{"$f":"'Список команд'!D334:G334","v":49}]
["трасса",1,2,3,4,5,6,7,8,9,10,11,12,13,14,15,16,17,18,19,20]
["время"]
["штраф"]
["баллы",{"$f":"IF(B585=0,0,Z2)","v":0},{"$f":"IF(C585=0,0,Z3)","v":0},{"$f":"IF(D585=0,0,Z4)","v":0},{"$f":"IF(E585=0,0,Z5)","v":0},{"$f":"IF(F585=0,0,Z6)","v":0},{"$f":"IF(G585=0,0,Z7)","v":0},{"$f":"IF(H585=0,0,Z8)","v":0},{"$f":"IF(I585=0,0,Z9)","v":0},{"$f":"IF(J585=0,0,Z10)","v":0},{"$f":"IF(K585=0,0,Z11)","v":0},{"$f":"IF(L585=0,0,Z12)","v":0},{"$f":"IF(M585=0,0,Z13)","v":0},{"$f":"IF(N585=0,0,Z14)","v":0},{"$f":"IF(O585=0,0,Z15)","v":0},{"$f":"IF(P585=0,0,Z16)","v":0},{"$f":"IF(Q585=0,0,Z17)","v":0},{"$f":"IF(R585=0,0,Z18)","v":0},{"$f":"IF(S585=0,0,Z19)","v":0},{"$f":"IF(T585=0,0,Z20)","v":0},{"$f":"IF(U585=0,0,Z21)","v":0}]
["итог время",{"$f":"SUM(B585:U586)","v":"00:00:00"},null,null,null,null,null,null,"итог баллы",null,{"$f":"SUM(B587:U587)","v":0}]
[]
["№",{"$f":"'Список команд'!B338","v":85},"команда",{"$f":"'Список команд'!D338:G338","v":50}]
["трасса",1,2,3,4,5,6,7,8,9,10,11,12,13,14,15,16,17,18,19,20]
["время"]
["штраф"]
["баллы",{"$f":"IF(B592=0,0,Z2)","v":0},{"$f":"IF(C592=0,0,Z3)","v":0},{"$f":"IF(D592=0,0,Z4)","v":0},{"$f":"IF(E592=0,0,Z5)","v":0},{"$f":"IF(F592=0,0,Z6)","v":0},{"$f":"IF(G592=0,0,Z7)","v":0},{"$f":"IF(H592=0,0,Z8)","v":0},{"$f":"IF(I592=0,0,Z9)","v":0},{"$f":"IF(J592=0,0,Z10)","v":0},{"$f":"IF(K592=0,0,Z11)","v":0},{"$f":"IF(L592=0,0,Z12)","v":0},{"$f":"IF(M592=0,0,Z13)","v":0},{"$f":"IF(N592=0,0,Z14)","v":0},{"$f":"IF(O592=0,0,Z15)","v":0},{"$f":"IF(P592=0,0,Z16)","v":0},{"$f":"IF(Q592=0,0,Z17)","v":0},{"$f":"IF(R592=0,0,Z18)","v":0},{"$f":"IF(S592=0,0,Z19)","v":0},{"$f":"IF(T592=0,0,Z20)","v":0},{"$f":"IF(U592=0,0,Z21)","v":0}]
["итог время",{"$f":"SUM(B592:U593)","v":"00:00:00"},null,null,null,null,null,null,"итог баллы",null,{"$f":"SUM(B594:U594)","v":0}]
[]
["№",{"$f":"'Список команд'!B342","v":86},"команда",{"$f":"'Список команд'!D342:G342","v":51}]
["трасса",1,2,3,4,5,6,7,8,9,10,11,12,13,14,15,16,17,18,19,20]
["время"]
["штраф"]
["баллы",{"$f":"IF(B599=0,0,Z2)","v":0},{"$f":"IF(C599=0,0,Z3)","v":0},{"$f":"IF(D599=0,0,Z4)","v":0},{"$f":"IF(E599=0,0,Z5)","v":0},{"$f":"IF(F599=0,0,Z6)","v":0},{"$f":"IF(G599=0,0,Z7)","v":0},{"$f":"IF(H599=0,0,Z8)","v":0},{"$f":"IF(I599=0,0,Z9)","v":0},{"$f":"IF(J599=0,0,Z10)","v":0},{"$f":"IF(K599=0,0,Z11)","v":0},{"$f":"IF(L599=0,0,Z12)","v":0},{"$f":"IF(M599=0,0,Z13)","v":0},{"$f":"IF(N599=0,0,Z14)","v":0},{"$f":"IF(O599=0,0,Z15)","v":0},{"$f":"IF(P599=0,0,Z16)","v":0},{"$f":"IF(Q599=0,0,Z17)","v":0},{"$f":"IF(R599=0,0,Z18)","v":0},{"$f":"IF(S599=0,0,Z19)","v":0},{"$f":"IF(T599=0,0,Z20)","v":0},{"$f":"IF(U599=0,0,Z21)","v":0}]
["итог время",{"$f":"SUM(B599:U600)","v":"00:00:00"},null,null,null,null,null,null,"итог баллы",null,{"$f":"SUM(B601:U601)","v":0}]
[]
["№",{"$f":"'Список команд'!B346","v":87},"команда",{"$f":"'Список команд'!D346:G346","v":52}]
["трасса",1,2,3,4,5,6,7,8,9,10,11,12,13,14,15,16,17,18,19,20]
["время"]
["штраф"]
["баллы",{"$f":"IF(B606=0,0,Z2)","v":0},{"$f":"IF(C606=0,0,Z3)","v":0},{"$f":"IF(D606=0,0,Z4)","v":0},{"$f":"IF(E606=0,0,Z5)","v":0},{"$f":"IF(F606=0,0,Z6)","v":0},{"$f":"IF(G606=0,0,Z7)","v":0},{"$f":"IF(H606=0,0,Z8)","v":0},{"$f":"IF(I606=0,0,Z9)","v":0},{"$f":"IF(J606=0,0,Z10)","v":0},{"$f":"IF(K606=0,0,Z11)","v":0},{"$f":"IF(L606=0,0,Z12)","v":0},{"$f":"IF(M606=0,0,Z13)","v":0},{"$f":"IF(N606=0,0,Z14)","v":0},{"$f":"IF(O606=0,0,Z15)","v":0},{"$f":"IF(P606=0,0,Z16)","v":0},{"$f":"IF(Q606=0,0,Z17)","v":0},{"$f":"IF(R606=0,0,Z18)","v":0},{"$f":"IF(S606=0,0,Z19)","v":0},{"$f":"IF(T606=0,0,Z20)","v":0},{"$f":"IF(U606=0,0,Z21)","v":0}]
["итог время",{"$f":"SUM(B606:U607)","v":"00:00:00"},null,null,null,null,null,null,"итог баллы",null,{"$f":"SUM(B608:U608)","v":0}]
[]
["№",{"$f":"'Список команд'!B350","v":88},"команда",{"$f":"'Список команд'!D350:G350","v":53}]
["трасса",1,2,3,4,5,6,7,8,9,10,11,12,13,14,15,16,17,18,19,20]
["время"]
["штраф"]
["баллы",{"$f":"IF(B613=0,0,Z2)","v":0},{"$f":"IF(C613=0,0,Z3)","v":0},{"$f":"IF(D613=0,0,Z4)","v":0},{"$f":"IF(E613=0,0,Z5)","v":0},{"$f":"IF(F613=0,0,Z6)","v":0},{"$f":"IF(G613=0,0,Z7)","v":0},{"$f":"IF(H613=0,0,Z8)","v":0},{"$f":"IF(I613=0,0,Z9)","v":0},{"$f":"IF(J613=0,0,Z10)","v":0},{"$f":"IF(K613=0,0,Z11)","v":0},{"$f":"IF(L613=0,0,Z12)","v":0},{"$f":"IF(M613=0,0,Z13)","v":0},{"$f":"IF(N613=0,0,Z14)","v":0},{"$f":"IF(O613=0,0,Z15)","v":0},{"$f":"IF(P613=0,0,Z16)","v":0},{"$f":"IF(Q613=0,0,Z17)","v":0},{"$f":"IF(R613=0,0,Z18)","v":0},{"$f":"IF(S613=0,0,Z19)","v":0},{"$f":"IF(T613=0,0,Z20)","v":0},{"$f":"IF(U613=0,0,Z21)","v":0}]
["итог время",{"$f":"SUM(B613:U614)","v":"00:00:00"},null,null,null,null,null,null,"итог баллы",null,{"$f":"SUM(B615:U615)","v":0}]
[]
["№",{"$f":"'Список команд'!B354","v":89},"команда",{"$f":"'Список команд'!D354:G354","v":54}]
["трасса",1,2,3,4,5,6,7,8,9,10,11,12,13,14,15,16,17,18,19,20]
["время"]
["штраф"]
["баллы",{"$f":"IF(B620=0,0,Z2)","v":0},{"$f":"IF(C620=0,0,Z3)","v":0},{"$f":"IF(D620=0,0,Z4)","v":0},{"$f":"IF(E620=0,0,Z5)","v":0},{"$f":"IF(F620=0,0,Z6)","v":0},{"$f":"IF(G620=0,0,Z7)","v":0},{"$f":"IF(H620=0,0,Z8)","v":0},{"$f":"IF(I620=0,0,Z9)","v":0},{"$f":"IF(J620=0,0,Z10)","v":0},{"$f":"IF(K620=0,0,Z11)","v":0},{"$f":"IF(L620=0,0,Z12)","v":0},{"$f":"IF(M620=0,0,Z13)","v":0},{"$f":"IF(N620=0,0,Z14)","v":0},{"$f":"IF(O620=0,0,Z15)","v":0},{"$f":"IF(P620=0,0,Z16)","v":0},{"$f":"IF(Q620=0,0,Z17)","v":0},{"$f":"IF(R620=0,0,Z18)","v":0},{"$f":"IF(S620=0,0,Z19)","v":0},{"$f":"IF(T620=0,0,Z20)","v":0},{"$f":"IF(U620=0,0,Z21)","v":0}]
["итог время",{"$f":"SUM(B620:U621)","v":"00:00:00"},null,null,null,null,null,null,"итог баллы",null,{"$f":"SUM(B622:U622)","v":0}]
[]
["№",{"$f":"'Список команд'!B358","v":90},"команда",{"$f":"'Список команд'!D358:G358","v":55}]
["трасса",1,2,3,4,5,6,7,8,9,10,11,12,13,14,15,16,17,18,19,20]
["время"]
["штраф"]
["баллы",{"$f":"IF(B627=0,0,Z2)","v":0},{"$f":"IF(C627=0,0,Z3)","v":0},{"$f":"IF(D627=0,0,Z4)","v":0},{"$f":"IF(E627=0,0,Z5)","v":0},{"$f":"IF(F627=0,0,Z6)","v":0},{"$f":"IF(G627=0,0,Z7)","v":0},{"$f":"IF(H627=0,0,Z8)","v":0},{"$f":"IF(I627=0,0,Z9)","v":0},{"$f":"IF(J627=0,0,Z10)","v":0},{"$f":"IF(K627=0,0,Z11)","v":0},{"$f":"IF(L627=0,0,Z12)","v":0},{"$f":"IF(M627=0,0,Z13)","v":0},{"$f":"IF(N627=0,0,Z14)","v":0},{"$f":"IF(O627=0,0,Z15)","v":0},{"$f":"IF(P627=0,0,Z16)","v":0},{"$f":"IF(Q627=0,0,Z17)","v":0},{"$f":"IF(R627=0,0,Z18)","v":0},{"$f":"IF(S627=0,0,Z19)","v":0},{"$f":"IF(T627=0,0,Z20)","v":0},{"$f":"IF(U627=0,0,Z21)","v":0}]
["итог время",{"$f":"SUM(B627:U628)","v":"00:00:00"},null,null,null,null,null,null,"итог баллы",null,{"$f":"SUM(B629:U629)","v":0}]
[]
["№",{"$f":"'Список команд'!B362","v":91},"команда",{"$f":"'Список команд'!D362:G362","v":56}]
["трасса",1,2,3,4,5,6,7,8,9,10,11,12,13,14,15,16,17,18,19,20]
["время"]
["штраф"]
["баллы",{"$f":"IF(B634=0,0,Z2)","v":0},{"$f":"IF(C634=0,0,Z3)","v":0},{"$f":"IF(D634=0,0,Z4)","v":0},{"$f":"IF(E634=0,0,Z5)","v":0},{"$f":"IF(F634=0,0,Z6)","v":0},{"$f":"IF(G634=0,0,Z7)","v":0},{"$f":"IF(H634=0,0,Z8)","v":0},{"$f":"IF(I634=0,0,Z9)","v":0},{"$f":"IF(J634=0,0,Z10)","v":0},{"$f":"IF(K634=0,0,Z11)","v":0},{"$f":"IF(L634=0,0,Z12)","v":0},{"$f":"IF(M634=0,0,Z13)","v":0},{"$f":"IF(N634=0,0,Z14)","v":0},{"$f":"IF(O634=0,0,Z15)","v":0},{"$f":"IF(P634=0,0,Z16)","v":0},{"$f":"IF(Q634=0,0,Z17)","v":0},{"$f":"IF(R634=0,0,Z18)","v":0},{"$f":"IF(S634=0,0,Z19)","v":0},{"$f":"IF(T634=0,0,Z20)","v":0},{"$f":"IF(U634=0,0,Z21)","v":0}]
["итог время",{"$f":"SUM(B634:U635)","v":"00:00:00"},null,null,null,null,null,null,"итог баллы",null,{"$f":"SUM(B636:U636)","v":0}]
[]
["№",{"$f":"'Список команд'!B366","v":92},"команда",{"$f":"'Список команд'!D366:G366","v":57}]
["трасса",1,2,3,4,5,6,7,8,9,10,11,12,13,14,15,16,17,18,19,20]
["время"]
["штраф"]
["баллы",{"$f":"IF(B641=0,0,Z2)","v":0},{"$f":"IF(C641=0,0,Z3)","v":0},{"$f":"IF(D641=0,0,Z4)","v":0},{"$f":"IF(E641=0,0,Z5)","v":0},{"$f":"IF(F641=0,0,Z6)","v":0},{"$f":"IF(G641=0,0,Z7)","v":0},{"$f":"IF(H641=0,0,Z8)","v":0},{"$f":"IF(I641=0,0,Z9)","v":0},{"$f":"IF(J641=0,0,Z10)","v":0},{"$f":"IF(K641=0,0,Z11)","v":0},{"$f":"IF(L641=0,0,Z12)","v":0},{"$f":"IF(M641=0,0,Z13)","v":0},{"$f":"IF(N641=0,0,Z14)","v":0},{"$f":"IF(O641=0,0,Z15)","v":0},{"$f":"IF(P641=0,0,Z16)","v":0},{"$f":"IF(Q641=0,0,Z17)","v":0},{"$f":"IF(R641=0,0,Z18)","v":0},{"$f":"IF(S641=0,0,Z19)","v":0},{"$f":"IF(T641=0,0,Z20)","v":0},{"$f":"IF(U641=0,0,Z21)","v":0}]
["итог время",{"$f":"SUM(B641:U642)","v":"00:00:00"},null,null,null,null,null,null,"итог баллы",null,{"$f":"SUM(B643:U643)","v":0}]
[]
["№",{"$f":"'Список команд'!B370","v":93},"команда",{"$f":"'Список команд'!D370:G370","v":58}]
["трасса",1,2,3,4,5,6,7,8,9,10,11,12,13,14,15,16,17,18,19,20]
["время"]
["штраф"]
["баллы",{"$f":"IF(B648=0,0,Z2)","v":0},{"$f":"IF(C648=0,0,Z3)","v":0},{"$f":"IF(D648=0,0,Z4)","v":0},{"$f":"IF(E648=0,0,Z5)","v":0},{"$f":"IF(F648=0,0,Z6)","v":0},{"$f":"IF(G648=0,0,Z7)","v":0},{"$f":"IF(H648=0,0,Z8)","v":0},{"$f":"IF(I648=0,0,Z9)","v":0},{"$f":"IF(J648=0,0,Z10)","v":0},{"$f":"IF(K648=0,0,Z11)","v":0},{"$f":"IF(L648=0,0,Z12)","v":0},{"$f":"IF(M648=0,0,Z13)","v":0},{"$f":"IF(N648=0,0,Z14)","v":0},{"$f":"IF(O648=0,0,Z15)","v":0},{"$f":"IF(P648=0,0,Z16)","v":0},{"$f":"IF(Q648=0,0,Z17)","v":0},{"$f":"IF(R648=0,0,Z18)","v":0},{"$f":"IF(S648=0,0,Z19)","v":0},{"$f":"IF(T648=0,0,Z20)","v":0},{"$f":"IF(U648=0,0,Z21)","v":0}]
["итог время",{"$f":"SUM(B648:U649)","v":"00:00:00"},null,null,null,null,null,null,"итог баллы",null,{"$f":"SUM(B650:U650)","v":0}]
[]
["№",{"$f":"'Список команд'!B374","v":94},"команда",{"$f":"'Список команд'!D374:G374","v":59}]
["трасса",1,2,3,4,5,6,7,8,9,10,11,12,13,14,15,16,17,18,19,20]
["время"]
["штраф"]
["баллы",{"$f":"IF(B655=0,0,Z2)","v":0},{"$f":"IF(C655=0,0,Z3)","v":0},{"$f":"IF(D655=0,0,Z4)","v":0},{"$f":"IF(E655=0,0,Z5)","v":0},{"$f":"IF(F655=0,0,Z6)","v":0},{"$f":"IF(G655=0,0,Z7)","v":0},{"$f":"IF(H655=0,0,Z8)","v":0},{"$f":"IF(I655=0,0,Z9)","v":0},{"$f":"IF(J655=0,0,Z10)","v":0},{"$f":"IF(K655=0,0,Z11)","v":0},{"$f":"IF(L655=0,0,Z12)","v":0},{"$f":"IF(M655=0,0,Z13)","v":0},{"$f":"IF(N655=0,0,Z14)","v":0},{"$f":"IF(O655=0,0,Z15)","v":0},{"$f":"IF(P655=0,0,Z16)","v":0},{"$f":"IF(Q655=0,0,Z17)","v":0},{"$f":"IF(R655=0,0,Z18)","v":0},{"$f":"IF(S655=0,0,Z19)","v":0},{"$f":"IF(T655=0,0,Z20)","v":0},{"$f":"IF(U655=0,0,Z21)","v":0}]
["итог время",{"$f":"SUM(B655:U656)","v":"00:00:00"},null,null,null,null,null,null,"итог баллы",null,{"$f":"SUM(B657:U657)","v":0}]
[]
["№",{"$f":"'Список команд'!B378","v":95},"команда",{"$f":"'Список команд'!D378:G378","v":60}]
["трасса",1,2,3,4,5,6,7,8,9,10,11,12,13,14,15,16,17,18,19,20]
["время"]
["штраф"]
["баллы",{"$f":"IF(B662=0,0,Z2)","v":0},{"$f":"IF(C662=0,0,Z3)","v":0},{"$f":"IF(D662=0,0,Z4)","v":0},{"$f":"IF(E662=0,0,Z5)","v":0},{"$f":"IF(F662=0,0,Z6)","v":0},{"$f":"IF(G662=0,0,Z7)","v":0},{"$f":"IF(H662=0,0,Z8)","v":0},{"$f":"IF(I662=0,0,Z9)","v":0},{"$f":"IF(J662=0,0,Z10)","v":0},{"$f":"IF(K662=0,0,Z11)","v":0},{"$f":"IF(L662=0,0,Z12)","v":0},{"$f":"IF(M662=0,0,Z13)","v":0},{"$f":"IF(N662=0,0,Z14)","v":0},{"$f":"IF(O662=0,0,Z15)","v":0},{"$f":"IF(P662=0,0,Z16)","v":0},{"$f":"IF(Q662=0,0,Z17)","v":0},{"$f":"IF(R662=0,0,Z18)","v":0},{"$f":"IF(S662=0,0,Z19)","v":0},{"$f":"IF(T662=0,0,Z20)","v":0},{"$f":"IF(U662=0,0,Z21)","v":0}]
["итог время",{"$f":"SUM(B662:U663)","v":"00:00:00"},null,null,null,null,null,null,"итог баллы",null,{"$f":"SUM(B664:U664)","v":0}]
[]
["№",{"$f":"'Список команд'!B382","v":96},"команда",{"$f":"'Список команд'!D382:G382","v":61}]
["трасса",1,2,3,4,5,6,7,8,9,10,11,12,13,14,15,16,17,18,19,20]
["время"]
["штраф"]
["баллы",{"$f":"IF(B669=0,0,Z2)","v":0},{"$f":"IF(C669=0,0,Z3)","v":0},{"$f":"IF(D669=0,0,Z4)","v":0},{"$f":"IF(E669=0,0,Z5)","v":0},{"$f":"IF(F669=0,0,Z6)","v":0},{"$f":"IF(G669=0,0,Z7)","v":0},{"$f":"IF(H669=0,0,Z8)","v":0},{"$f":"IF(I669=0,0,Z9)","v":0},{"$f":"IF(J669=0,0,Z10)","v":0},{"$f":"IF(K669=0,0,Z11)","v":0},{"$f":"IF(L669=0,0,Z12)","v":0},{"$f":"IF(M669=0,0,Z13)","v":0},{"$f":"IF(N669=0,0,Z14)","v":0},{"$f":"IF(O669=0,0,Z15)","v":0},{"$f":"IF(P669=0,0,Z16)","v":0},{"$f":"IF(Q669=0,0,Z17)","v":0},{"$f":"IF(R669=0,0,Z18)","v":0},{"$f":"IF(S669=0,0,Z19)","v":0},{"$f":"IF(T669=0,0,Z20)","v":0},{"$f":"IF(U669=0,0,Z21)","v":0}]
["итог время",{"$f":"SUM(B669:U670)","v":"00:00:00"},null,null,null,null,null,null,"итог баллы",null,{"$f":"SUM(B671:U671)","v":0}]
[]
["№",{"$f":"'Список команд'!B386","v":97},"команда",{"$f":"'Список команд'!D386:G386","v":62}]
["трасса",1,2,3,4,5,6,7,8,9,10,11,12,13,14,15,16,17,18,19,20]
["время"]
["штраф"]
["баллы",{"$f":"IF(B676=0,0,Z2)","v":0},{"$f":"IF(C676=0,0,Z3)","v":0},{"$f":"IF(D676=0,0,Z4)","v":0},{"$f":"IF(E676=0,0,Z5)","v":0},{"$f":"IF(F676=0,0,Z6)","v":0},{"$f":"IF(G676=0,0,Z7)","v":0},{"$f":"IF(H676=0,0,Z8)","v":0},{"$f":"IF(I676=0,0,Z9)","v":0},{"$f":"IF(J676=0,0,Z10)","v":0},{"$f":"IF(K676=0,0,Z11)","v":0},{"$f":"IF(L676=0,0,Z12)","v":0},{"$f":"IF(M676=0,0,Z13)","v":0},{"$f":"IF(N676=0,0,Z14)","v":0},{"$f":"IF(O676=0,0,Z15)","v":0},{"$f":"IF(P676=0,0,Z16)","v":0},{"$f":"IF(Q676=0,0,Z17)","v":0},{"$f":"IF(R676=0,0,Z18)","v":0},{"$f":"IF(S676=0,0,Z19)","v":0},{"$f":"IF(T676=0,0,Z20)","v":0},{"$f":"IF(U676=0,0,Z21)","v":0}]
["итог время",{"$f":"SUM(B676:U677)","v":"00:00:00"},null,null,null,null,null,null,"итог баллы",null,{"$f":"SUM(B678:U678)","v":0}]
[]
["№",{"$f":"'Список команд'!B390","v":98},"команда",{"$f":"'Список команд'!D390:G390","v":63}]
["трасса",1,2,3,4,5,6,7,8,9,10,11,12,13,14,15,16,17,18,19,20]
["время"]
["штраф"]
["баллы",{"$f":"IF(B683=0,0,Z2)","v":0},{"$f":"IF(C683=0,0,Z3)","v":0},{"$f":"IF(D683=0,0,Z4)","v":0},{"$f":"IF(E683=0,0,Z5)","v":0},{"$f":"IF(F683=0,0,Z6)","v":0},{"$f":"IF(G683=0,0,Z7)","v":0},{"$f":"IF(H683=0,0,Z8)","v":0},{"$f":"IF(I683=0,0,Z9)","v":0},{"$f":"IF(J683=0,0,Z10)","v":0},{"$f":"IF(K683=0,0,Z11)","v":0},{"$f":"IF(L683=0,0,Z12)","v":0},{"$f":"IF(M683=0,0,Z13)","v":0},{"$f":"IF(N683=0,0,Z14)","v":0},{"$f":"IF(O683=0,0,Z15)","v":0},{"$f":"IF(P683=0,0,Z16)","v":0},{"$f":"IF(Q683=0,0,Z17)","v":0},{"$f":"IF(R683=0,0,Z18)","v":0},{"$f":"IF(S683=0,0,Z19)","v":0},{"$f":"IF(T683=0,0,Z20)","v":0},{"$f":"IF(U683=0,0,Z21)","v":0}]
["итог время",{"$f":"SUM(B683:U684)","v":"00:00:00"},null,null,null,null,null,null,"итог баллы",null,{"$f":"SUM(B685:U685)","v":0}]
[]
["№",{"$f":"'Список команд'!B394","v":99},"команда",{"$f":"'Список команд'!D394:G394","v":64}]
["трасса",1,2,3,4,5,6,7,8,9,10,11,12,13,14,15,16,17,18,19,20]
["время"]
["штраф"]
["баллы",{"$f":"IF(B690=0,0,Z2)","v":0},{"$f":"IF(C690=0,0,Z3)","v":0},{"$f":"IF(D690=0,0,Z4)","v":0},{"$f":"IF(E690=0,0,Z5)","v":0},{"$f":"IF(F690=0,0,Z6)","v":0},{"$f":"IF(G690=0,0,Z7)","v":0},{"$f":"IF(H690=0,0,Z8)","v":0},{"$f":"IF(I690=0,0,Z9)","v":0},{"$f":"IF(J690=0,0,Z10)","v":0},{"$f":"IF(K690=0,0,Z11)","v":0},{"$f":"IF(L690=0,0,Z12)","v":0},{"$f":"IF(M690=0,0,Z13)","v":0},{"$f":"IF(N690=0,0,Z14)","v":0},{"$f":"IF(O690=0,0,Z15)","v":0},{"$f":"IF(P690=0,0,Z16)","v":0},{"$f":"IF(Q690=0,0,Z17)","v":0},{"$f":"IF(R690=0,0,Z18)","v":0},{"$f":"IF(S690=0,0,Z19)","v":0},{"$f":"IF(T690=0,0,Z20)","v":0},{"$f":"IF(U690=0,0,Z21)","v":0}]
["итог время",{"$f":"SUM(B690:U691)","v":"00:00:00"},null,null,null,null,null,null,"итог баллы",null,{"$f":"SUM(B692:U692)","v":0}]
[]
["№",{"$f":"'Список команд'!B398","v":100},"команда",{"$f":"'Список команд'!D398:G398","v":65}]
["трасса",1,2,3,4,5,6,7,8,9,10,11,12,13,14,15,16,17,18,19,20]
["время"]
["штраф"]
["баллы",{"$f":"IF(B697=0,0,Z2)","v":0},{"$f":"IF(C697=0,0,Z3)","v":0},{"$f":"IF(D697=0,0,Z4)","v":0},{"$f":"IF(E697=0,0,Z5)","v":0},{"$f":"IF(F697=0,0,Z6)","v":0},{"$f":"IF(G697=0,0,Z7)","v":0},{"$f":"IF(H697=0,0,Z8)","v":0},{"$f":"IF(I697=0,0,Z9)","v":0},{"$f":"IF(J697=0,0,Z10)","v":0},{"$f":"IF(K697=0,0,Z11)","v":0},{"$f":"IF(L697=0,0,Z12)","v":0},{"$f":"IF(M697=0,0,Z13)","v":0},{"$f":"IF(N697=0,0,Z14)","v":0},{"$f":"IF(O697=0,0,Z15)","v":0},{"$f":"IF(P697=0,0,Z16)","v":0},{"$f":"IF(Q697=0,0,Z17)","v":0},{"$f":"IF(R697=0,0,Z18)","v":0},{"$f":"IF(S697=0,0,Z19)","v":0},{"$f":"IF(T697=0,0,Z20)","v":0},{"$f":"IF(U697=0,0,Z21)","v":0}]
["итог время",{"$f":"SUM(B697:U698)","v":"00:00:00"},null,null,null,null,null,null,"итог баллы",null,{"$f":"SUM(B699:U699)","v":0}]

{"sheet":"квалификация (итоги)","index":2,"n_rows":101,"n_cols":5,"rows_kept":101,"cut":false,"hidden":false,"merged":[]}
["номер","команда","время","баллы","место"]
[{"$f":"Квалификация!B233","v":34},{"$f":"Квалификация!D233","v":"verticalwork"},{"$f":"Квалификация!B238","v":"00:39:47"},{"$f":"Квалификация!K238","v":75.517349819195474},1]
[{"$f":"Квалификация!B177","v":26},{"$f":"Квалификация!D177","v":"а/к МГУ"},{"$f":"Квалификация!B182","v":"01:03:29"},{"$f":"Квалификация!K182","v":72.246731103508594},2]
[{"$f":"Квалификация!B72","v":11},{"$f":"Квалификация!D72","v":"Королев"},{"$f":"Квалификация!B77","v":"00:50:47"},{"$f":"Квалификация!K77","v":62.300207039337472},3]
[{"$f":"Квалификация!B135","v":20},{"$f":"Квалификация!D135","v":"Стасон и я"},{"$f":"Квалификация!B140","v":"00:37:24"},{"$f":"Квалификация!K140","v":58.062804364650027},4]
[{"$f":"Квалификация!B30","v":5},{"$f":"Квалификация!D30","v":"Korolev Climbing School"},{"$f":"Квалификация!B35","v":"00:39:37"},{"$f":"Квалификация!K35","v":36.712167172227844},5]
[{"$f":"Квалификация!B324","v":47},{"$f":"Квалификация!D324","v":"Безпятиполпятого"},{"$f":"Квалификация!B329","v":"00:37:22"},{"$f":"Квалификация!K329","v":35.184016485862145},6]
[{"$f":"Квалификация!B107","v":16},{"$f":"Квалификация!D107","v":"МЭИ"},{"$f":"Квалификация!B112","v":"00:33:11"},{"$f":"Квалификация!K112","v":34.149533727241455},7]
[{"$f":"Квалификация!B37","v":6},{"$f":"Квалификация!D37","v":"JustForFun"},{"$f":"Квалификация!B42","v":"00:35:29"},{"$f":"Квалификация!K42","v":31.767112227172895},8]
[{"$f":"Квалификация!B121","v":18},{"$f":"Квалификация!D121","v":"Питер1"},{"$f":"Квалификация!B126","v":"00:37:47"},{"$f":"Квалификация!K126","v":31.23444881215654},9]
[{"$f":"Квалификация!B2","v":1},{"$f":"Квалификация!D2","v":"Ураганы"},{"$f":"Квалификация!B7","v":"00:46:11"},{"$f":"Квалификация!K7","v":30.595271897117556},10]
[{"$f":"Квалификация!B226","v":33},{"$f":"Квалификация!D226","v":"Енотовидные коты"},{"$f":"Квалификация!B231","v":"00:58:23"},{"$f":"Квалификация!K231","v":30.595271897117556},11]
[{"$f":"Квалификация!B282","v":41},{"$f":"Квалификация!D282","v":"промальпсоюз"},{"$f":"Квалификация!B287","v":"00:31:10"},{"$f":"Квалификация!K287","v":30.476873054580782},12]
[{"$f":"Квалификация!B93","v":14},{"$f":"Квалификация!D93","v":"АК МАИ"},{"$f":"Квалификация!B98","v":"00:36:56"},{"$f":"Квалификация!K98","v":22.742607320315049},13]
[{"$f":"Квалификация!B156","v":23},{"$f":"Квалификация!D156","v":"Воронеж"},{"$f":"Квалификация!B161","v":"00:41:11"},{"$f":"Квалификация!K161","v":18.561994007062172},14]
[{"$f":"Квалификация!B212","v":31},{"$f":"Квалификация!D212","v":"МакГУ"},{"$f":"Квалификация!B217","v":"00:41:01"},{"$f":"Квалификация!K217","v":18.474059775905435},15]
[{"$f":"Квалификация!B170","v":25},{"$f":"Квалификация!D170","v":" МЭИ-1"},{"$f":"Квалификация!B175","v":"00:16:59"},{"$f":"Квалификация!K175","v":16.567077423854919},16]
[{"$f":"Квалификация!B331","v":48},{"$f":"Квалификация!D331","v":"Юрцы"},{"$f":"Квалификация!B336","v":"00:28:57"},{"$f":"Квалификация!K336","v":14.900410757188251},17]
[{"$f":"Квалификация!B44","v":7},{"$f":"Квалификация!D44","v":"ГК МГСУ"},{"$f":"Квалификация!B49","v":"00:19:47"},{"$f":"Квалификация!K49","v":14.383150684996341},18]
[{"$f":"Квалификация!B100","v":15},{"$f":"Квалификация!D100","v":"вега"},{"$f":"Квалификация!B105","v":"00:33:22"},{"$f":"Квалификация!K105","v":14.126233688948911},19]
[{"$f":"Квалификация!B296","v":43},{"$f":"Квалификация!D296","v":"Руки-Крюки"},{"$f":"Квалификация!B301","v":"00:27:48"},{"$f":"Квалификация!K301","v":13.982081166279764},20]
[{"$f":"Квалификация!B317","v":46},{"$f":"Квалификация!D317","v":"Абрис"},{"$f":"Квалификация!B322","v":"00:21:36"},{"$f":"Квалификация!K322","v":13.679050863249461},21]
[{"$f":"Квалификация!B163","v":24},{"$f":"Квалификация!D163","v":"Мэи"},{"$f":"Квалификация!B168","v":"00:16:14"},{"$f":"Квалификация!K168","v":13.207620788536214},22]
[{"$f":"Квалификация!B9","v":2},{"$f":"Квалификация!D9","v":"Энергия"},{"$f":"Квалификация!B14","v":"00:42:40"},{"$f":"Квалификация!K14","v":12.485690324267615},23]
[{"$f":"Квалификация!B23","v":4},{"$f":"Квалификация!D23","v":"Сибирский юмор"},{"$f":"Квалификация!B28","v":"00:26:41"},{"$f":"Квалификация!K28","v":12.459567022282243},24]
[{"$f":"Квалификация!B114","v":17},{"$f":"Квалификация!D114","v":"ЙЫЛДЫЗ"},{"$f":"Квалификация!B119","v":"00:25:16"},{"$f":"Квалификация!K119","v":12.361527806595969},25]
[{"$f":"Квалификация!B142","v":21},{"$f":"Квалификация!D142","v":"Shlang-Team-1"},{"$f":"Квалификация!B147","v":"00:14:04"},{"$f":"Квалификация!K147","v":12.173138029915524},26]
[{"$f":"Квалификация!B373","v":54},{"$f":"Квалификация!D373","v":"Босоногие"},{"$f":"Квалификация!B378","v":"00:38:26"},{"$f":"Квалификация!K378","v":11.853506416221638},27]
[{"$f":"Квалификация!B65","v":10},{"$f":"Квалификация!D65","v":"ГК МГСУ"},{"$f":"Квалификация!B70","v":"00:13:42"},{"$f":"Квалификация!K70","v":11.682001259708986},28]
[{"$f":"Квалификация!B247","v":36},{"$f":"Квалификация!D247","v":"КАиС МЭИ"},{"$f":"Квалификация!B252","v":"00:27:21"},{"$f":"Квалификация!K252","v":11.398960961676185},29]
[{"$f":"Квалификация!B268","v":39},{"$f":"Квалификация!D268","v":"Patagonia"},{"$f":"Квалификация!B273","v":"00:31:55"},{"$f":"Квалификация!K273","v":11.398960961676185},31]
[{"$f":"Квалификация!B338","v":49},{"$f":"Квалификация!D338","v":"only armor steel :)"},{"$f":"Квалификация!B343","v":"00:29:09"},{"$f":"Квалификация!K343","v":11.398960961676185},30]
[{"$f":"Квалификация!B366","v":53},{"$f":"Квалификация!D366","v":"МОЛЬ"},{"$f":"Квалификация!B371","v":"00:35:39"},{"$f":"Квалификация!K371","v":10.792900355615579},32]
[{"$f":"Квалификация!B205","v":30},{"$f":"Квалификация!D205","v":"Академия Приключений"},{"$f":"Квалификация!B210","v":"00:20:01"},{"$f":"Квалификация!K210","v":10.746787048632704},33]
[{"$f":"Квалификация!B359","v":52},{"$f":"Квалификация!D359","v":"Вася&Co"},{"$f":"Квалификация!B364","v":"00:27:27"},{"$f":"Квалификация!K364","v":10.489870052585275},34]
[{"$f":"Квалификация!B303","v":44},{"$f":"Квалификация!D303","v":"ЗМЭИ"},{"$f":"Квалификация!B308","v":"00:19:00"},{"$f":"Квалификация!K308","v":10.06144790002519},35]
[{"$f":"Квалификация!B128","v":19},{"$f":"Квалификация!D128","v":"Позитрон/АК МАИ"},{"$f":"Квалификация!B133","v":"00:31:34"},{"$f":"Квалификация!K133","v":10.035324598039821},36]
[{"$f":"Квалификация!B387","v":56},{"$f":"Квалификация!D387","v":"Неловкое движение"},{"$f":"Квалификация!B392","v":"00:30:20"},{"$f":"Квалификация!K392","v":9.0281944732626371},37]
[{"$f":"Квалификация!B345","v":50},{"$f":"Квалификация!D345","v":"Титановый Штырь"},{"$f":"Квалификация!B350","v":"00:19:21"},{"$f":"Квалификация!K350","v":8.2199560585333487},38]
[{"$f":"Квалификация!B219","v":32},{"$f":"Квалификация!D219","v":"Black Ice"},{"$f":"Квалификация!B224","v":"00:27:20"},{"$f":"Квалификация!K224","v":8.0656276283428507},39]
[{"$f":"Квалификация!B240","v":35},{"$f":"Квалификация!D240","v":"Демо ошибка"},{"$f":"Квалификация!B245","v":"00:31:30"},{"$f":"Квалификация!K245","v":8.0656276283428507},40]
[{"$f":"Квалификация!B191","v":28},{"$f":"Квалификация!D191","v":"Воронеж-6"},{"$f":"Квалификация!B196","v":"00:25:36"},{"$f":"Квалификация!K196","v":7.3615278065959693},41]
[{"$f":"Квалификация!B254","v":37},{"$f":"Квалификация!D254","v":"БаранМартын"},{"$f":"Квалификация!B259","v":"00:13:30"},{"$f":"Квалификация!K259","v":5.3644782030554943},42]
[{"$f":"Квалификация!B79","v":12},{"$f":"Квалификация!D79","v":"Хухтилампи"},{"$f":"Квалификация!B84","v":"00:14:46"},{"$f":"Квалификация!K84","v":4.000841839419131},43]
[{"$f":"Квалификация!B401","v":58},{"$f":"Квалификация!D401","v":"Гахария - сонная тетеря"},{"$f":"Квалификация!B406","v":"00:19:39"},{"$f":"Квалификация!K406","v":3.9028026237328568},44]
[{"$f":"Квалификация!B380","v":55},{"$f":"Квалификация!D380","v":"Без обид ;-)"},{"$f":"Квалификация!B385","v":"00:13:24"},{"$f":"Квалификация!K385","v":3.5997723207025532},45]
[{"$f":"Квалификация!B275","v":40},{"$f":"Квалификация!D275","v":"МГСУ-3"},{"$f":"Квалификация!B280","v":"00:13:57"},{"$f":"Квалификация!K280","v":3.2706187156868793},47]
[{"$f":"Квалификация!B289","v":42},{"$f":"Квалификация!D289","v":"БЕДА"},{"$f":"Квалификация!B294","v":"00:17:37"},{"$f":"Квалификация!K294","v":3.2706187156868793},48]
[{"$f":"Квалификация!B310","v":45},{"$f":"Квалификация!D310","v":"а/к МГТУ"},{"$f":"Квалификация!B315","v":"00:12:48"},{"$f":"Квалификация!K315","v":3.2706187156868793},46]
[{"$f":"Квалификация!B394","v":57},{"$f":"Квалификация!D394","v":"По пути"},{"$f":"Квалификация!B399","v":"00:09:22"},{"$f":"Квалификация!K399","v":2.2361359570661898},49]
[{"$f":"Квалификация!B261","v":38},{"$f":"Квалификация!D261","v":"МГУ-спелео"},{"$f":"Квалификация!B266","v":"00:06:19"},{"$f":"Квалификация!K266","v":1.5384615384615385},50]
[{"$f":"Квалификация!B16","v":3},{"$f":"Квалификация!D16","v":"цр псо"},{"$f":"Квалификация!B21","v":"00:00:00"},{"$f":"Квалификация!K21","v":0}]
[{"$f":"Квалификация!B51","v":8},{"$f":"Квалификация!D51","v":"M&M's"},{"$f":"Квалификация!B56","v":"00:00:00"},{"$f":"Квалификация!K56","v":0}]
[{"$f":"Квалификация!B58","v":9},{"$f":"Квалификация!D58","v":"Экс-МГСУ"},{"$f":"Квалификация!B63","v":"00:00:00"},{"$f":"Квалификация!K63","v":0}]
[{"$f":"Квалификация!B86","v":13},{"$f":"Квалификация!D86","v":"Странник"},{"$f":"Квалификация!B91","v":"00:00:00"},{"$f":"Квалификация!K91","v":0}]
[{"$f":"Квалификация!B149","v":22},{"$f":"Квалификация!D149","v":"Штурм"},{"$f":"Квалификация!B154","v":"00:00:00"},{"$f":"Квалификация!K154","v":0}]
[{"$f":"Квалификация!B184","v":27},{"$f":"Квалификация!D184","v":"МГУ-СПЕЛЕО"},{"$f":"Квалификация!B189","v":"00:00:00"},{"$f":"Квалификация!K189","v":0}]
[{"$f":"Квалификация!B198","v":29},{"$f":"Квалификация!D198","v":"КАиС МЭИ"},{"$f":"Квалификация!B203","v":"00:00:00"},{"$f":"Квалификация!K203","v":0}]
[{"$f":"Квалификация!B352","v":51},{"$f":"Квалификация!D352","v":"Base&Climb"},{"$f":"Квалификация!B357","v":"00:00:00"},{"$f":"Квалификация!K357","v":0}]
[{"$f":"Квалификация!B408","v":59},{"$f":"Квалификация!D408","v":24},{"$f":"Квалификация!B413","v":"00:00:00"},{"$f":"Квалификация!K413","v":0}]
[{"$f":"Квалификация!B415","v":60},{"$f":"Квалификация!D415","v":25},{"$f":"Квалификация!B420","v":"00:00:00"},{"$f":"Квалификация!K420","v":0}]
[{"$f":"Квалификация!B422","v":61},{"$f":"Квалификация!D422","v":26},{"$f":"Квалификация!B427","v":"00:00:00"},{"$f":"Квалификация!K427","v":0}]
[{"$f":"Квалификация!B429","v":62},{"$f":"Квалификация!D429","v":27},{"$f":"Квалификация!B434","v":"00:00:00"},{"$f":"Квалификация!K434","v":0}]
[{"$f":"Квалификация!B436","v":63},{"$f":"Квалификация!D436","v":28},{"$f":"Квалификация!B441","v":"00:00:00"},{"$f":"Квалификация!K441","v":0}]
[{"$f":"Квалификация!B443","v":64},{"$f":"Квалификация!D443","v":29},{"$f":"Квалификация!B448","v":"00:00:00"},{"$f":"Квалификация!K448","v":0}]
[{"$f":"Квалификация!B450","v":65},{"$f":"Квалификация!D450","v":30},{"$f":"Квалификация!B455","v":"00:00:00"},{"$f":"Квалификация!K455","v":0}]
[{"$f":"Квалификация!B457","v":66},{"$f":"Квалификация!D457","v":31},{"$f":"Квалификация!B462","v":"00:00:00"},{"$f":"Квалификация!K462","v":0}]
[{"$f":"Квалификация!B464","v":67},{"$f":"Квалификация!D464","v":32},{"$f":"Квалификация!B469","v":"00:00:00"},{"$f":"Квалификация!K469","v":0}]
[{"$f":"Квалификация!B471","v":68},{"$f":"Квалификация!D471","v":33},{"$f":"Квалификация!B476","v":"00:00:00"},{"$f":"Квалификация!K476","v":0}]
[{"$f":"Квалификация!B478","v":69},{"$f":"Квалификация!D478","v":34},{"$f":"Квалификация!B483","v":"00:00:00"},{"$f":"Квалификация!K483","v":0}]
[{"$f":"Квалификация!B485","v":70},{"$f":"Квалификация!D485","v":35},{"$f":"Квалификация!B490","v":"00:00:00"},{"$f":"Квалификация!K490","v":0}]
[{"$f":"Квалификация!B492","v":71},{"$f":"Квалификация!D492","v":36},{"$f":"Квалификация!B497","v":"00:00:00"},{"$f":"Квалификация!K497","v":0}]
[{"$f":"Квалификация!B499","v":72},{"$f":"Квалификация!D499","v":37},{"$f":"Квалификация!B504","v":"00:00:00"},{"$f":"Квалификация!K504","v":0}]
[{"$f":"Квалификация!B506","v":73},{"$f":"Квалификация!D506","v":38},{"$f":"Квалификация!B511","v":"00:00:00"},{"$f":"Квалификация!K511","v":0}]
[{"$f":"Квалификация!B513","v":74},{"$f":"Квалификация!D513","v":39},{"$f":"Квалификация!B518","v":"00:00:00"},{"$f":"Квалификация!K518","v":0}]
[{"$f":"Квалификация!B520","v":75},{"$f":"Квалификация!D520","v":40},{"$f":"Квалификация!B525","v":"00:00:00"},{"$f":"Квалификация!K525","v":0}]
[{"$f":"Квалификация!B527","v":76},{"$f":"Квалификация!D527","v":41},{"$f":"Квалификация!B532","v":"00:00:00"},{"$f":"Квалификация!K532","v":0}]
[{"$f":"Квалификация!B534","v":77},{"$f":"Квалификация!D534","v":42},{"$f":"Квалификация!B539","v":"00:00:00"},{"$f":"Квалификация!K539","v":0}]
[{"$f":"Квалификация!B541","v":78},{"$f":"Квалификация!D541","v":43},{"$f":"Квалификация!B546","v":"00:00:00"},{"$f":"Квалификация!K546","v":0}]
[{"$f":"Квалификация!B548","v":79},{"$f":"Квалификация!D548","v":44},{"$f":"Квалификация!B553","v":"00:00:00"},{"$f":"Квалификация!K553","v":0}]
[{"$f":"Квалификация!B555","v":80},{"$f":"Квалификация!D555","v":45},{"$f":"Квалификация!B560","v":"00:00:00"},{"$f":"Квалификация!K560","v":0}]
[{"$f":"Квалификация!B562","v":81},{"$f":"Квалификация!D562","v":46},{"$f":"Квалификация!B567","v":"00:00:00"},{"$f":"Квалификация!K567","v":0}]
[{"$f":"Квалификация!B569","v":82},{"$f":"Квалификация!D569","v":47},{"$f":"Квалификация!B574","v":"00:00:00"},{"$f":"Квалификация!K574","v":0}]
[{"$f":"Квалификация!B576","v":83},{"$f":"Квалификация!D576","v":48},{"$f":"Квалификация!B581","v":"00:00:00"},{"$f":"Квалификация!K581","v":0}]
[{"$f":"Квалификация!B583","v":84},{"$f":"Квалификация!D583","v":49},{"$f":"Квалификация!B588","v":"00:00:00"},{"$f":"Квалификация!K588","v":0}]
[{"$f":"Квалификация!B590","v":85},{"$f":"Квалификация!D590","v":50},{"$f":"Квалификация!B595","v":"00:00:00"},{"$f":"Квалификация!K595","v":0}]
[{"$f":"Квалификация!B597","v":86},{"$f":"Квалификация!D597","v":51},{"$f":"Квалификация!B602","v":"00:00:00"},{"$f":"Квалификация!K602","v":0}]
[{"$f":"Квалификация!B604","v":87},{"$f":"Квалификация!D604","v":52},{"$f":"Квалификация!B609","v":"00:00:00"},{"$f":"Квалификация!K609","v":0}]
[{"$f":"Квалификация!B611","v":88},{"$f":"Квалификация!D611","v":53},{"$f":"Квалификация!B616","v":"00:00:00"},{"$f":"Квалификация!K616","v":0}]
[{"$f":"Квалификация!B618","v":89},{"$f":"Квалификация!D618","v":54},{"$f":"Квалификация!B623","v":"00:00:00"},{"$f":"Квалификация!K623","v":0}]
[{"$f":"Квалификация!B625","v":90},{"$f":"Квалификация!D625","v":55},{"$f":"Квалификация!B630","v":"00:00:00"},{"$f":"Квалификация!K630","v":0}]
[{"$f":"Квалификация!B632","v":91},{"$f":"Квалификация!D632","v":56},{"$f":"Квалификация!B637","v":"00:00:00"},{"$f":"Квалификация!K637","v":0}]
[{"$f":"Квалификация!B639","v":92},{"$f":"Квалификация!D639","v":57},{"$f":"Квалификация!B644","v":"00:00:00"},{"$f":"Квалификация!K644","v":0}]
[{"$f":"Квалификация!B646","v":93},{"$f":"Квалификация!D646","v":58},{"$f":"Квалификация!B651","v":"00:00:00"},{"$f":"Квалификация!K651","v":0}]
[{"$f":"Квалификация!B653","v":94},{"$f":"Квалификация!D653","v":59},{"$f":"Квалификация!B658","v":"00:00:00"},{"$f":"Квалификация!K658","v":0}]
[{"$f":"Квалификация!B660","v":95},{"$f":"Квалификация!D660","v":60},{"$f":"Квалификация!B665","v":"00:00:00"},{"$f":"Квалификация!K665","v":0}]
[{"$f":"Квалификация!B667","v":96},{"$f":"Квалификация!D667","v":61},{"$f":"Квалификация!B672","v":"00:00:00"},{"$f":"Квалификация!K672","v":0}]
[{"$f":"Квалификация!B674","v":97},{"$f":"Квалификация!D674","v":62},{"$f":"Квалификация!B679","v":"00:00:00"},{"$f":"Квалификация!K679","v":0}]
[{"$f":"Квалификация!B681","v":98},{"$f":"Квалификация!D681","v":63},{"$f":"Квалификация!B686","v":"00:00:00"},{"$f":"Квалификация!K686","v":0}]
[{"$f":"Квалификация!B688","v":99},{"$f":"Квалификация!D688","v":64},{"$f":"Квалификация!B693","v":"00:00:00"},{"$f":"Квалификация!K693","v":0}]
[{"$f":"Квалификация!B695","v":100},{"$f":"Квалификация!D695","v":65},{"$f":"Квалификация!B700","v":"00:00:00"},{"$f":"Квалификация!K700","v":0}]

{"sheet":"Финал","index":3,"n_rows":64,"n_cols":13,"rows_kept":64,"cut":false,"hidden":false,"merged":[[63,0,63,2],[63,3,63,12],[58,0,58,3],[59,0,59,3],[60,0,60,3],[61,0,61,3],[62,0,62,2],[62,3,62,5],[1,3,1,12],[2,0,2,1],[2,2,2,5],[2,8,2,12],[15,0,15,2],[15,3,15,12],[17,3,17,12],[18,0,18,1],[18,2,18,5],[18,8,18,12],[31,0,31,2],[31,3,31,12],[33,3,33,12],[34,0,34,1],[34,2,34,5],[34,8,34,12],[47,0,47,2],[51,0,51,2],[51,3,51,5],[52,0,52,5],[53,0,53,3],[54,0,54,3],[55,0,55,3],[56,0,56,3],[57,0,57,3],[50,0,50,1],[50,2,50,5],[38,0,38,3],[39,0,39,3],[40,0,40,3],[41,0,41,3],[42,0,42,3],[43,0,43,3],[44,0,44,3],[45,0,45,3],[46,0,46,2],[46,3,46,5],[28,0,28,3],[29,0,29,3],[30,0,30,2],[30,3,30,5],[35,0,35,2],[35,3,35,5],[36,0,36,5],[37,0,37,3],[19,3,19,5],[20,0,20,5],[21,0,21,3],[22,0,22,3],[23,0,23,3],[24,0,24,3],[25,0,25,3],[26,0,26,3],[27,0,27,3],[3,7,3,9],[3,10,3,12],[19,7,19,9],[14,7,14,9],[14,10,14,12],[6,0,6,3],[7,0,7,3],[8,0,8,3],[9,0,9,3],[10,0,10,3],[11,0,11,3],[12,0,12,3],[13,0,13,3],[14,3,14,5],[14,0,14,2],[4,0,4,5],[3,0,3,2],[3,3,3,5],[5,0,5,3],[19,0,19,2],[9,7,9,10],[10,7,10,10],[11,7,11,10],[12,7,12,10],[13,7,13,10],[4,7,4,12],[5,7,5,10],[6,7,6,10],[7,7,7,10],[8,7,8,10],[24,7,24,10],[25,7,25,10],[26,7,26,10],[27,7,27,10],[28,7,28,10],[19,10,19,12],[20,7,20,12],[21,7,21,10],[22,7,22,10],[23,7,23,10],[36,7,36,12],[37,7,37,10],[38,7,38,10],[39,7,39,10],[40,7,40,10],[29,7,29,10],[30,7,30,9],[30,10,30,12],[35,7,35,9],[35,10,35,12],[46,7,46,9],[46,10,46,12],[51,7,51,9],[51,10,51,12],[41,7,41,10],[42,7,42,10],[43,7,43,10],[44,7,44,10],[45,7,45,10],[47,3,47,12],[49,3,49,12],[50,8,50,12],[62,7,62,9],[62,10,62,12],[57,7,57,10],[58,7,58,10],[59,7,59,10],[60,7,60,10],[61,7,61,10],[52,7,52,12],[53,7,53,10],[54,7,54,10],[55,7,55,10],[56,7,56,10]]}
[]
["№",{"$f":"'квалификация (итоги)'!A2","v":34},"команда",{"$f":"'квалификация (итоги)'!B2","v":"verticalwork"}]
["трасса",null,1,null,null,null,null,"трасса",2]
["время прохождения",null,null,"00:17:23",null,null,null,"время прохождения",null,null,"00:12:36"]
["матрица штрафов",null,null,null,null,null,null,"матрица штрафов"]
["название",null,null,null,"время","кол-во",null,"название",null,null,null,"время","кол-во"]
["несобл. тактич. плана за участок",null,null,null,2.0069444444444446,null,null,"несобл. тактич. плана за участок",null,null,null,2.0069444444444446]
["срыв (однократ, нагр. суд. оттяж.)",null,null,null,"00:02:00",null,null,"срыв (однократ, нагр. суд. оттяж.)",null,null,null,"00:02:00"]
["исп. ИТО на уч. свобод. лазания",null,null,null,"00:05:00",null,null,"исп. ИТО на уч. свобод. лазания",null,null,null,"00:05:00"]
["нагр. суд. оттяж. многократное, но не более 3х раз",null,null,null,"00:05:00",null,null,"нагр. суд. оттяж. многократное, но не более 3х раз",null,null,null,"00:05:00"]
["нарушение ТБ",null,null,null,"00:05:00",null,null,"нарушение ТБ",null,null,null,"00:05:00"]
["повторное нарушение ТБ",null,null,null,"снятие",null,null,"повторное нарушение ТБ",null,null,null,"снятие"]
["невыполнение команды судей",null,null,null,"снятие",null,null,"невыполнение команды судей",null,null,null,"снятие"]
["оставл. снаряж. на трассе не оговор. подготовкой",null,null,null,"00:02:00",null,null,"оставл. снаряж. на трассе не оговор. подготовкой",null,null,null,"00:02:00"]
["итоговое время трассы",null,null,{"$f":"IF(F12=0,IF(F13=0,(D4+E7*F7+E8*F8+E9*F9+E10*F10+E11*F11+E14*F14),\"команда снята\"),\"команда снята\")","v":"00:17:23"},null,null,null,"итоговое время трассы",null,null,{"$f":"IF(M12=0,IF(M13=0,(K4+L7*M7+L8*M8+L9*M9+L10*M10+L11*M11+L14*M14),\"команда снята\"),\"команда снята\")","v":"00:12:36"}]
["итоговое время",null,null,{"$f":"IF(D15<>\"Команда снята\",IF(K15<>\"Команда снята\",D15+K15,\"Команда снята\"),\"Команда снята\")","v":"00:29:59"}]
[]
["№",{"$f":"'квалификация (итоги)'!A3","v":26},"команда",{"$f":"'квалификация (итоги)'!B3","v":"а/к МГУ"}]
["трасса",null,1,null,null,null,null,"трасса",2]
["время прохождения",null,null,"00:22:32",null,null,null,"время прохождения",null,null,"00:00:00"]
["матрица штрафов",null,null,null,null,null,null,"матрица штрафов"]
["название",null,null,null,"время","кол-во",null,"название",null,null,null,"время","кол-во"]
["несобл. тактич. плана за участок",null,null,null,2.0069444444444446,null,null,"несобл. тактич. плана за участок",null,null,null,2.0069444444444446]
["срыв (однократ, нагр. суд. оттяж.)",null,null,null,"00:02:00",1,null,"срыв (однократ, нагр. суд. оттяж.)",null,null,null,"00:02:00"]
["исп. ИТО на уч. свобод. лазания",null,null,null,"00:05:00",null,null,"исп. ИТО на уч. свобод. лазания",null,null,null,"00:05:00"]
["нагр. суд. оттяж. многократное, но не более 3х раз",null,null,null,"00:05:00",null,null,"нагр. суд. оттяж. многократное, но не более 3х раз",null,null,null,"00:05:00"]
["нарушение ТБ",null,null,null,"00:05:00",null,null,"нарушение ТБ",null,null,null,"00:05:00"]
["повторное нарушение ТБ",null,null,null,"снятие",null,null,"повторное нарушение ТБ",null,null,null,"снятие"]
["невыполнение команды судей",null,null,null,"снятие",null,null,"невыполнение команды судей",null,null,null,"снятие"]
["оставл. снаряж. на трассе не оговор. подготовкой",null,null,null,"00:02:00",null,null,"оставл. снаряж. на трассе не оговор. подготовкой",null,null,null,"00:02:00"]
["итоговое время трассы",null,null,{"$f":"IF(F28=0,IF(F29=0,(D20+E23*F23+E24*F24+E25*F25+E26*F26+E27*F27+E30*F30),\"команда снята\"),\"команда снята\")","v":"00:24:32"},null,null,null,"итоговое время трассы",null,null,{"$f":"IF(M28=0,IF(M29=0,(K20+L23*M23+L24*M24+L25*M25+L26*M26+L27*M27+L30*M30),\"команда снята\"),\"команда снята\")","v":"00:00:00"}]
["итоговое время",null,null,{"$f":"IF(D31<>\"Команда снята\",IF(K31<>\"Команда снята\",D31+K31,\"Команда снята\"),\"Команда снята\")","v":"00:24:32"}]
[]
["№",{"$f":"'квалификация (итоги)'!A4","v":11},"команда",{"$f":"'квалификация (итоги)'!B4","v":"Королев"}]
["трасса",null,1,null,null,null,null,"трасса",2]
["время прохождения",null,null,"00:20:27",null,null,null,"время прохождения",null,null,"00:00:00"]
["матрица штрафов",null,null,null,null,null,null,"матрица штрафов"]
["название",null,null,null,"время","кол-во",null,"название",null,null,null,"время","кол-во"]
["несобл. тактич. плана за участок",null,null,null,2.0069444444444446,null,null,"несобл. тактич. плана за участок",null,null,null,2.0069444444444446]
["срыв (однократ, нагр. суд. оттяж.)",null,null,null,"00:02:00",1,null,"срыв (однократ, нагр. суд. оттяж.)",null,null,null,"00:02:00"]
["исп. ИТО на уч. свобод. лазания",null,null,null,"00:05:00",null,null,"исп. ИТО на уч. свобод. лазания",null,null,null,"00:05:00"]
["нагр. суд. оттяж. многократное, но не более 3х раз",null,null,null,"00:05:00",null,null,"нагр. суд. оттяж. многократное, но не более 3х раз",null,null,null,"00:05:00"]
["нарушение ТБ",null,null,null,"00:05:00",null,null,"нарушение ТБ",null,null,null,"00:05:00"]
["повторное нарушение ТБ",null,null,null,"снятие",null,null,"повторное нарушение ТБ",null,null,null,"снятие"]
["невыполнение команды судей",null,null,null,"снятие",null,null,"невыполнение команды судей",null,null,null,"снятие"]
["оставл. снаряж. на трассе не оговор. подготовкой",null,null,null,"00:02:00",null,null,"оставл. снаряж. на трассе не оговор. подготовкой",null,null,null,"00:02:00"]
["итоговое время трассы",null,null,{"$f":"IF(F44=0,IF(F45=0,(D36+E39*F39+E40*F40+E41*F41+E42*F42+E43*F43+E46*F46),\"команда снята\"),\"команда снята\")","v":"00:22:27"},null,null,null,"итоговое время трассы",null,null,{"$f":"IF(M44=0,IF(M45=0,(K36+L39*M39+L40*M40+L41*M41+L42*M42+L43*M43+L46*M46),\"команда снята\"),\"команда снята\")","v":"00:00:00"}]
["итоговое время",null,null,{"$f":"IF(D47<>\"Команда снята\",IF(K47<>\"Команда снята\",D47+K47,\"Команда снята\"),\"Команда снята\")","v":"00:22:27"}]
[]
["№",{"$f":"'квалификация (итоги)'!A5","v":20},"команда",{"$f":"'квалификация (итоги)'!B5","v":"Стасон и я"}]
["трасса",null,1,null,null,null,null,"трасса",2]
["время прохождения",null,null,"00:23:57",null,null,null,"время прохождения",null,null,"00:00:00"]
["матрица штрафов",null,null,null,null,null,null,"матрица штрафов"]
["название",null,null,null,"время","кол-во",null,"название",null,null,null,"время","кол-во"]
["несобл. тактич. плана за участок",null,null,null,2.0069444444444446,null,null,"несобл. тактич. плана за участок",null,null,null,2.0069444444444446]
["срыв (однократ, нагр. суд. оттяж.)",null,null,null,"00:02:00",null,null,"срыв (однократ, нагр. суд. оттяж.)",null,null,null,"00:02:00"]
["исп. ИТО на уч. свобод. лазания",null,null,null,"00:05:00",null,null,"исп. ИТО на уч. свобод. лазания",null,null,null,"00:05:00"]
["нагр. суд. оттяж. многократное, но не более 3х раз",null,null,null,"00:05:00",null,null,"нагр. суд. оттяж. многократное, но не более 3х раз",null,null,null,"00:05:00"]
["нарушение ТБ",null,null,null,"00:05:00",1,null,"нарушение ТБ",null,null,null,"00:05:00"]
["повторное нарушение ТБ",null,null,null,"снятие",null,null,"повторное нарушение ТБ",null,null,null,"снятие"]
["невыполнение команды судей",null,null,null,"снятие",null,null,"невыполнение команды судей",null,null,null,"снятие"]
["оставл. снаряж. на трассе не оговор. подготовкой",null,null,null,"00:02:00",null,null,"оставл. снаряж. на трассе не оговор. подготовкой",null,null,null,"00:02:00"]
["итоговое время трассы",null,null,{"$f":"IF(F60=0,IF(F61=0,(D52+E55*F55+E56*F56+E57*F57+E58*F58+E59*F59+E62*F62),\"команда снята\"),\"команда снята\")","v":"00:28:57"},null,null,null,"итоговое время трассы",null,null,{"$f":"IF(M60=0,IF(M61=0,(K52+L55*M55+L56*M56+L57*M57+L58*M58+L59*M59+L62*M62),\"команда снята\"),\"команда снята\")","v":"00:00:00"}]
["итоговое время",null,null,{"$f":"IF(D63<>\"команда снята\",IF(K63<>\"команда снята\",D63+K63,\"Команда снята\"),\"Команда снята\")","v":"00:28:57"}]

{"sheet":"Финал (итоги)","index":4,"n_rows":6,"n_cols":5,"rows_kept":6,"cut":false,"hidden":false,"merged":[]}
[]
["номер","команда","время","место","кол-во трасс"]
[{"$f":"Финал!B2","v":34},{"$f":"Финал!D2","v":"verticalwork"},{"$f":"Финал!D16","v":"00:29:59"},1,2]
[{"$f":"Финал!B18","v":26},{"$f":"Финал!D18","v":"а/к МГУ"},{"$f":"Финал!D32","v":"00:24:32"},3,1]
[{"$f":"Финал!B34","v":11},{"$f":"Финал!D34","v":"Королев"},{"$f":"Финал!D48","v":"00:22:27"},2,1]
[{"$f":"Финал!B50","v":20},{"$f":"Финал!D50","v":"Стасон и я"},{"$f":"Финал!D64","v":"00:28:57"},4,1]

{"sheet":"Спонсоры","index":5,"n_rows":0,"n_cols":0,"rows_kept":0,"cut":false,"hidden":false,"merged":[]}